Shooting information for this photo
Camera: | NIKON E995 |
Exposure: | 0.00357 sec. (1/280) |
Aperture: | f/6.0 |
Focal Length: | 8.2 mm |
Flash: | No Flash |
Exposure mode: | Program AE |
Max Aperture: | 1.0 |
Resolution: | 240 x 240 dpi |
Original Date: | 2007:06:16 13:43:39 |
Created on: | 2007:06:16 13:43:39 |
Modified on: | 2013:05:16 00:18:20 |
Software: | Adobe Photoshop Lightroom 4.4 (Windows) |
Already Applied | True |
Auto Lateral CA | 0 |
Blacks 2012 | +1 |
Blue Hue | 0 |
Blue Saturation | 0 |
Camera Profile | Embedded |
Clarity 2012 | +15 |
Color Noise Reduction | 0 |
Contrast 2012 | +3 |
Convert To Grayscale | False |
Crop Angle | 0 |
Crop Bottom | 0.843085 |
Crop Constrain To Warp | 0 |
Crop Height | 940 |
Crop Left | 0.219859 |
Crop Right | 0.804965 |
Crop Top | 0.255319 |
Crop Unit | pixels |
Crop Width | 702 |
Date Created | 2007:06:16 13:43:39 |
Defringe Green Amount | 0 |
Defringe Green Hue Hi | 60 |
Defringe Green Hue Lo | 40 |
Defringe Purple Amount | 0 |
Defringe Purple Hue Hi | 70 |
Defringe Purple Hue Lo | 30 |
Description | Bisbee Copper Miner monument, completed in 1935. Per The Living New Deal <a href="http://livingnewdea l.berkeley.edu/projects/cochis e-county-courthouse-sculpture- bisbee-az/" rel="nofollow">we bsite</a>, the artist was paid by the Federal Relief Agency, part of the New Deal, to create the sculpture. A Bisbee native posed for the sculpture, which is made of concrete covered with a thin layer of copper. |
Exposure 2012 | -0.30 |
Exposure Compensation | 0 |
Format | image/jpeg |
Grain Amount | 0 |
Green Hue | 0 |
Green Saturation | 0 |
Has Crop | True |
Has Settings | True |
Highlights 2012 | -18 |
Hue Adjustment Aqua | 0 |
Hue Adjustment Blue | 0 |
Hue Adjustment Green | 0 |
Hue Adjustment Magenta | 0 |
Hue Adjustment Orange | 0 |
Hue Adjustment Purple | 0 |
Hue Adjustment Red | 0 |
Hue Adjustment Yellow | 0 |
ISO | 100 |
Image Description | Bisbee Copper Miner monument, completed in 1935. Per The Living New Deal <a href="http://livingnewdea l.berkeley.edu/projects/cochis e-county-courthouse-sculpture- bisbee-az/" rel="nofollow">we bsite</a>, the artist was paid by the Federal Relief Agency, part of the New Deal, to create the sculpture. A Bisbee native posed for the sculpture, which is made of concrete covered with a thin layer of copper. |
Image Size | 702x940 |
Incremental Temperature | 0 |
Incremental Tint | 0 |
Last Keyword XMP | Arizona, Bisbee_southeast |
Lens Manual Distortion Amount | 0 |
Lens Profile Enable | 0 |
Lens Profile Setup | LensDefaults |
Light Source | Unknown |
Light Value | 13.3 |
Luminance Adjustment Aqua | 0 |
Luminance Adjustment Blue | 0 |
Luminance Adjustment Green | 0 |
Luminance Adjustment Magenta | 0 |
Luminance Adjustment Orange | 0 |
Luminance Adjustment Purple | 0 |
Luminance Adjustment Red | 0 |
Luminance Adjustment Yellow | 0 |
Luminance Smoothing | 0 |
Metering Mode | Multi-segment |
Parametric Darks | 0 |
Parametric Highlight Split | 75 |
Parametric Highlights | 0 |
Parametric Lights | 0 |
Parametric Midtone Split | 50 |
Parametric Shadow Split | 25 |
Parametric Shadows | 0 |
Perspective Horizontal | 0 |
Perspective Rotate | 0.0 |
Perspective Scale | 100 |
Perspective Vertical | 0 |
Post Crop Vignette Amount | 0 |
Process Version | 6.7 |
Red Hue | 0 |
Red Saturation | 0 |
Saturation | 0 |
Saturation Adjustment Aqua | 0 |
Saturation Adjustment Blue | 0 |
Saturation Adjustment Green | 0 |
Saturation Adjustment Magenta | 0 |
Saturation Adjustment Orange | 0 |
Saturation Adjustment Purple | 0 |
Saturation Adjustment Red | 0 |
Saturation Adjustment Yellow | 0 |
Scene Type | Directly photographed |
Shadow Tint | 0 |
Shadows 2012 | +18 |
Sharpen Detail | 25 |
Sharpen Edge Masking | 0 |
Sharpen Radius | +1.0 |
Sharpness | 0 |
Split Toning Balance | 0 |
Split Toning Highlight Hue | 0 |
Split Toning Highlight Saturation | 0 |
Split Toning Shadow Hue | 0 |
Split Toning Shadow Saturation | 0 |
Subject | Arizona, Bisbee |
Title | Bisbee Copper Miner monument (3136) |
Tone Curve Name 2012 | Linear |
Tone Curve PV2012 | 0, 0, 255, 255 |
Tone Curve PV2012 Blue | 0, 0, 255, 255 |
Tone Curve PV2012 Green | 0, 0, 255, 255 |
Tone Curve PV2012 Red | 0, 0, 255, 255 |
Version | 7.4 |
Vibrance | 0 |
Vignette Amount | 0 |
White Balance | As Shot |
Whites 2012 | +29 |
GPS Information |
GPS Latitude | 31 deg 26' 35.65" N |
GPS Latitude Ref | North |
GPS Longitude | 109 deg 55' 13.43" W |
GPS Longitude Ref | West |
GPS Position | 31 deg 26' 35.65" N, 109 deg 55' 13.43" W |
GPS Version ID | 2.2.0.0 |