Shooting information for this photo
Camera: | Canon PowerShot SD4000 IS |
Exposure: | 0.0005 sec. (1/2000) |
Aperture: | f/5.0 |
Focal Length: | 14.7 mm (35 mm equivalent: 84.2 mm) |
Flash: | Auto, Did not fire |
Max Aperture: | 5.0 |
Resolution: | 240 x 240 dpi |
Original Date: | 2012:05:28 16:17:49 |
Created on: | 2012:05:28 16:17:49 |
Modified on: | 2012:05:30 22:40:20 |
Software: | Adobe Photoshop Lightroom 4.0 (Windows) |
Already Applied | True |
Auto Lateral CA | 0 |
Blacks 2012 | 0 |
Blue Hue | 0 |
Blue Saturation | 0 |
Brightness | 0 |
Camera Profile | Embedded |
Circle Of Confusion | 0.005 mm |
Clarity | 0 |
Clarity 2012 | 0 |
Color Noise Reduction | 0 |
Contrast | 0 |
Contrast 2012 | +10 |
Convert To Grayscale | False |
Crop Angle | 2.2 |
Crop Bottom | 0.902932 |
Crop Constrain To Warp | 0 |
Crop Height | 794 |
Crop Left | 0.032071 |
Crop Right | 0.941517 |
Crop Top | 0.03181 |
Crop Unit | pixels |
Crop Width | 1200 |
Custom Rendered | Normal |
Date Created | 2012:05:28 16:17:49 |
Defringe | 0 |
Description | The Macy Street Viaduct, now the Cesar Chavez Street Bridge, was built in 1926 during the 10 year period that multiple major bridges over the LA River were built. |
Digital Zoom Ratio | 1 |
Exposure | 0.00 |
Exposure 2012 | -0.40 |
Exposure Compensation | 0 |
Exposure Mode | Auto |
Field Of View | 24.1 deg |
Fill Light | 0 |
Format | image/jpeg |
Grain Amount | 0 |
Green Hue | 0 |
Green Saturation | 0 |
Has Crop | True |
Has Settings | True |
Highlight Recovery | 0 |
Highlights 2012 | 0 |
Hue Adjustment Aqua | 0 |
Hue Adjustment Blue | 0 |
Hue Adjustment Green | 0 |
Hue Adjustment Magenta | 0 |
Hue Adjustment Orange | 0 |
Hue Adjustment Purple | 0 |
Hue Adjustment Red | 0 |
Hue Adjustment Yellow | 0 |
Hyperfocal Distance | 8.21 m |
ISO | 125 |
Image Description | The Macy Street Viaduct, now the Cesar Chavez Street Bridge, was built in 1926 during the 10 year period that multiple major bridges over the LA River were built. |
Image Size | 794x1200 |
Incremental Temperature | 0 |
Incremental Tint | 0 |
Last Keyword XMP | California, LAarea, Los Angeles |
Lens Manual Distortion Amount | 0 |
Lens Profile Enable | 0 |
Lens Profile Setup | LensDefaults |
Light Value | 15.3 |
Luminance Adjustment Aqua | 0 |
Luminance Adjustment Blue | 0 |
Luminance Adjustment Green | 0 |
Luminance Adjustment Magenta | 0 |
Luminance Adjustment Orange | 0 |
Luminance Adjustment Purple | 0 |
Luminance Adjustment Red | 0 |
Luminance Adjustment Yellow | 0 |
Luminance Smoothing | 0 |
Metering Mode | Multi-segment |
Parametric Darks | 0 |
Parametric Highlight Split | 75 |
Parametric Highlights | 0 |
Parametric Lights | 0 |
Parametric Midtone Split | 50 |
Parametric Shadow Split | 25 |
Parametric Shadows | 0 |
Perspective Horizontal | 0 |
Perspective Rotate | 0.0 |
Perspective Scale | 100 |
Perspective Vertical | 0 |
Post Crop Vignette Amount | 0 |
Process Version | 6.7 |
Red Hue | 0 |
Red Saturation | 0 |
Saturation | 0 |
Saturation Adjustment Aqua | 0 |
Saturation Adjustment Blue | 0 |
Saturation Adjustment Green | 0 |
Saturation Adjustment Magenta | 0 |
Saturation Adjustment Orange | 0 |
Saturation Adjustment Purple | 0 |
Saturation Adjustment Red | 0 |
Saturation Adjustment Yellow | 0 |
Scale Factor To 35 mm Equivalent | 5.7 |
Scene Capture Type | Standard |
Sensing Method | One-chip color area |
Shadow Tint | 0 |
Shadows | 0 |
Shadows 2012 | 0 |
Sharpen Detail | 25 |
Sharpen Edge Masking | 0 |
Sharpen Radius | +1.0 |
Sharpness | 15 |
Split Toning Balance | 0 |
Split Toning Highlight Hue | 0 |
Split Toning Highlight Saturation | 0 |
Split Toning Shadow Hue | 0 |
Split Toning Shadow Saturation | 0 |
Subject | California, LAarea, Los Angeles, bridge, infrastructure |
Title | LA Macy St Viaduct (2551) |
Tone Curve | 0, 0, 255, 255 |
Tone Curve Blue | 0, 0, 255, 255 |
Tone Curve Green | 0, 0, 255, 255 |
Tone Curve Name | Linear |
Tone Curve Name 2012 | Linear |
Tone Curve PV2012 | 0, 0, 255, 255 |
Tone Curve PV2012 Blue | 0, 0, 255, 255 |
Tone Curve PV2012 Green | 0, 0, 255, 255 |
Tone Curve PV2012 Red | 0, 0, 255, 255 |
Tone Curve Red | 0, 0, 255, 255 |
Version | 7.0 |
Vibrance | 0 |
Vignette Amount | 0 |
White Balance | Auto |
Whites 2012 | 0 |
GPS Information |
GPS Latitude | 34 deg 3' 17.90" N |
GPS Latitude Ref | North |
GPS Longitude | 118 deg 13' 38.03" W |
GPS Longitude Ref | West |
GPS Position | 34 deg 3' 17.90" N, 118 deg 13' 38.03" W |