Shooting information for this photo
Camera: | NIKON E995 |
Exposure: | 0.00286 sec. (1/350) |
Aperture: | f/6.2 |
Focal Length: | 12.2 mm |
Flash: | No Flash |
Exposure mode: | Program AE |
Max Aperture: | 1.0 |
Resolution: | 240 x 240 dpi |
Original Date: | 2005:06:07 09:38:04 |
Created on: | 2005:06:07 09:38:04 |
Modified on: | 2012:12:16 23:04:34 |
Software: | Adobe Photoshop Lightroom 4.2 (Windows) |
Already Applied | True |
Auto Lateral CA | 0 |
Blacks 2012 | +1 |
Blue Hue | 0 |
Blue Saturation | 0 |
Camera Profile | Embedded |
Clarity 2012 | 0 |
Color Noise Reduction | 0 |
Contrast 2012 | +22 |
Convert To Grayscale | False |
Crop Angle | -1.7 |
Crop Bottom | 0.934755 |
Crop Constrain To Warp | 0 |
Crop Height | 1200 |
Crop Left | 0.026217 |
Crop Right | 0.922353 |
Crop Top | 0.199371 |
Crop Unit | pixels |
Crop Width | 1033 |
Date Created | 2005:06:07 09:38:04 |
Defringe Green Amount | 0 |
Defringe Green Hue Hi | 60 |
Defringe Green Hue Lo | 40 |
Defringe Purple Amount | 0 |
Defringe Purple Hue Hi | 70 |
Defringe Purple Hue Lo | 30 |
Description | Intake tower on the Nevada side of Hoover Dam. What amazes me is the level of detail put into the design of even the intake towers. |
Exposure 2012 | -0.15 |
Exposure Compensation | 0 |
Format | image/jpeg |
Grain Amount | 0 |
Green Hue | 0 |
Green Saturation | 0 |
Has Crop | True |
Has Settings | True |
Highlights 2012 | 0 |
Hue Adjustment Aqua | 0 |
Hue Adjustment Blue | 0 |
Hue Adjustment Green | 0 |
Hue Adjustment Magenta | 0 |
Hue Adjustment Orange | 0 |
Hue Adjustment Purple | 0 |
Hue Adjustment Red | 0 |
Hue Adjustment Yellow | 0 |
ISO | 100 |
Image Description | Intake tower on the Nevada side of Hoover Dam. What amazes me is the level of detail put into the design of even the intake towers. |
Image Size | 1033x1200 |
Incremental Temperature | 0 |
Incremental Tint | 0 |
Last Keyword XMP | ColoradoRiver, HooverDam |
Lens Manual Distortion Amount | 0 |
Lens Profile Enable | 0 |
Lens Profile Setup | LensDefaults |
Light Source | Unknown |
Light Value | 13.7 |
Luminance Adjustment Aqua | 0 |
Luminance Adjustment Blue | 0 |
Luminance Adjustment Green | 0 |
Luminance Adjustment Magenta | 0 |
Luminance Adjustment Orange | 0 |
Luminance Adjustment Purple | 0 |
Luminance Adjustment Red | 0 |
Luminance Adjustment Yellow | 0 |
Luminance Smoothing | 0 |
Metering Mode | Multi-segment |
Parametric Darks | 0 |
Parametric Highlight Split | 75 |
Parametric Highlights | 0 |
Parametric Lights | 0 |
Parametric Midtone Split | 50 |
Parametric Shadow Split | 25 |
Parametric Shadows | 0 |
Perspective Horizontal | 0 |
Perspective Rotate | 0.0 |
Perspective Scale | 100 |
Perspective Vertical | 0 |
Post Crop Vignette Amount | 0 |
Process Version | 6.7 |
Red Hue | 0 |
Red Saturation | 0 |
Saturation | 0 |
Saturation Adjustment Aqua | 0 |
Saturation Adjustment Blue | 0 |
Saturation Adjustment Green | 0 |
Saturation Adjustment Magenta | 0 |
Saturation Adjustment Orange | 0 |
Saturation Adjustment Purple | 0 |
Saturation Adjustment Red | 0 |
Saturation Adjustment Yellow | 0 |
Scene Type | Directly photographed |
Shadow Tint | 0 |
Shadows 2012 | 0 |
Sharpen Detail | 25 |
Sharpen Edge Masking | 0 |
Sharpen Radius | +1.0 |
Sharpness | 0 |
Split Toning Balance | 0 |
Split Toning Highlight Hue | 0 |
Split Toning Highlight Saturation | 0 |
Split Toning Shadow Hue | 0 |
Split Toning Shadow Saturation | 0 |
Subject | Arizona, ColoradoRiver, HooverDam, Nevada, infrastructure |
Title | Hoover Dam Intake tower (1810) |
Tone Curve Name 2012 | Linear |
Tone Curve PV2012 | 0, 0, 255, 255 |
Tone Curve PV2012 Blue | 0, 0, 255, 255 |
Tone Curve PV2012 Green | 0, 0, 255, 255 |
Tone Curve PV2012 Red | 0, 0, 255, 255 |
Version | 7.2 |
Vibrance | 0 |
Vignette Amount | 0 |
White Balance | As Shot |
Whites 2012 | +25 |
GPS Information |
GPS Latitude | 36 deg 0' 59.87" N |
GPS Latitude Ref | North |
GPS Longitude | 114 deg 44' 16.60" W |
GPS Longitude Ref | West |
GPS Position | 36 deg 0' 59.87" N, 114 deg 44' 16.60" W |
GPS Version ID | 2.2.0.0 |