Shooting information for this photo
Camera: | LEICA CAMERA AG LEICA Q2 MONO |
Exposure: | 0.001 sec. (1/1000) |
Aperture: | f/5.6 |
Focal Length: | 28.0 mm (35 mm equivalent: 28.0 mm) |
Flash: | Off, Did not fire |
Exposure mode: | Aperture-priority AE |
Max Aperture: | 1.7 |
Resolution: | 72 x 72 dpi |
Original Date: | 2022:06:23 15:22:41 |
Created on: | 2022:06:23 15:22:41 |
Modified on: | 2022:06:24 14:19:55 |
Software: | Adobe Photoshop Lightroom Classic 11.4 (Macintosh) |
Already Applied | True |
Blacks 2012 | 0 |
Circle Of Confusion | 0.030 mm |
Clarity 2012 | +60 |
Color Grade Blending | 50 |
Color Grade Global Hue | 0 |
Color Grade Global Lum | 0 |
Color Grade Global Sat | 0 |
Color Grade Highlight Lum | 0 |
Color Grade Midtone Hue | 0 |
Color Grade Midtone Lum | 0 |
Color Grade Midtone Sat | 0 |
Color Grade Shadow Lum | 0 |
Color Space | sRGB |
Contrast | Normal |
Contrast 2012 | 0 |
Crop Angle | 0.122873 |
Crop Bottom | 1 |
Crop Constrain To Warp | 0 |
Crop Left | 0.002315 |
Crop Right | 0.997685 |
Crop Top | 0 |
Custom Rendered | Normal |
Date Created | 2022:06:23 15:22:41+02:00 |
Dehaze | 0 |
Description | am Falkensteiner Ufer |
Digital Zoom Ratio | 1 |
Distortion Correction Already Applied | True |
Exposure 2012 | 0.00 |
Exposure Compensation | 0 |
Field Of View | 65.5 deg |
Focal Length In 35mm Format | 28 mm |
Format | image/jpeg |
Grain Amount | 0 |
Has Crop | True |
Has Settings | True |
Highlights 2012 | 0 |
Hyperfocal Distance | 4.66 m |
ISO | 200 |
Image Description | am Falkensteiner Ufer |
Image Size | 1024x683 |
Lens | SUMMILUX 1:1.7/28 ASPH. |
Lens Info | 28mm f/1.53125-2.97265625 |
Lens Manual Distortion Amount | 0 |
Lens Model | SUMMILUX 1:1.7/28 ASPH. |
Lens Profile Enable | 0 |
Light Source | Unknown |
Light Value | 13.9 |
Luminance Noise Reduction Contrast | 0 |
Luminance Noise Reduction Detail | 50 |
Luminance Smoothing | 5 |
Metering Mode | Other |
Override Look Vignette | False |
Parametric Darks | 0 |
Parametric Highlight Split | 75 |
Parametric Highlights | 0 |
Parametric Lights | 0 |
Parametric Midtone Split | 50 |
Parametric Shadow Split | 25 |
Parametric Shadows | 0 |
Perspective Aspect | 0 |
Perspective Horizontal | 0 |
Perspective Rotate | 0.0 |
Perspective Scale | 100 |
Perspective Upright | 0 |
Perspective Vertical | 0 |
Perspective X | 0.00 |
Perspective Y | 0.00 |
Post Crop Vignette Amount | 0 |
Preserved File Name | L1000079.DNG |
Process Version | 11.0 |
Raw File Name | 20220623-022.DNG |
Scale Factor To 35 mm Equivalent | 1.0 |
Scene Capture Type | Standard |
Sensitivity Type | Standard Output Sensitivity |
Shadows 2012 | 0 |
Sharpen Detail | 25 |
Sharpen Edge Masking | 0 |
Sharpen Radius | +1.0 |
Sharpness | Normal |
Split Toning Balance | 0 |
Split Toning Highlight Hue | 0 |
Split Toning Highlight Saturation | 0 |
Split Toning Shadow Hue | 0 |
Split Toning Shadow Saturation | 0 |
Standard Output Sensitivity | 200 |
Subject | Deutschland, Elbe, Hamburg, Rissen, Strand, Wittenbergen, beach |
Texture | 0 |
Tone Curve Name 2012 | Linear |
Tone Curve PV2012 | 0, 0, 255, 255 |
Tone Curve PV2012 Blue | 0, 0, 255, 255 |
Tone Curve PV2012 Green | 0, 0, 255, 255 |
Tone Curve PV2012 Red | 0, 0, 255, 255 |
Version | 14.4 |
Vignette Amount | 0 |
Weighted Flat Subject | beach, Deutschland, Hamburg, Rissen, Wittenbergen, Strand, Elbe |
Whites 2012 | 0 |
GPS Information |
GPS Latitude | 53 deg 33' 51.48" N |
GPS Latitude Ref | North |
GPS Longitude | 9 deg 45' 16.71" E |
GPS Longitude Ref | East |
GPS Position | 53 deg 33' 51.48" N, 9 deg 45' 16.71" E |
GPS Version ID | 2.2.0.0 |