Shooting information for this photo
Camera: | Canon EOS 50D |
Exposure: | 0.002 sec. (1/500) |
Aperture: | f/5.0 |
Focal Length: | 220.0 mm (35 mm equivalent: 1507.4 mm) |
Flash: | Off, Did not fire |
Exposure mode: | Shutter speed priority AE |
Max Aperture: | 5.0 |
Resolution: | 72 x 72 dpi |
Dimension: | 1418 x 951 pixels |
Original Date: | 2021:08:16 10:13:56.43 |
Digitized Date: | 2021:08:16 10:13:56-06:00 |
Created on: | 2021:08:16 10:13:56.43 |
Software: | Adobe Photoshop Lightroom 5.7.1 (Windows) |
Copyright: | Charles D Therit (c) 2011-2021 |
AEB Auto Cancel | On |
AEB Sequence | 0,-,+ |
AF Area Mode | Single-point AF |
AF Assist Beam | Emits |
AF Image Height | 3168 |
AF Image Width | 4752 |
AF Micro Adj Mode | Disable |
AF Micro Adj Value | 0 |
AF Microadjustment | Disable; 0; 0; 0; 0 |
AF On AE Lock Button Switch | Disable |
AF Point Selection Method | Multi-controller direct |
AF Points In Focus | 4 |
AF Points Selected | 4 |
Add Original Decision Data | Off |
Already Applied | True |
Approximate Focus Distance | 9.44 |
Artist | Charles D Therit (c) 2011-2021 |
Aspect Ratio | 3:2 |
Assign Func Button | LCD brightness |
Auto Lateral CA | 0 |
Auto Lighting Optimizer | Disable |
Auto White Version | 134348800 |
Base URL | https://www.flickr.com/photos/ ctofcsco |
Blacks 2012 | -48 |
Blue Balance | 1.580078 |
Blue Hue | 0 |
Blue Saturation | 0 |
Camera ISO | Auto |
Camera Orientation | Horizontal (normal) |
Camera Profile | Adobe Standard |
Camera Temperature | 25 C |
Camera Type | EOS High-end |
Canon Exposure Mode | Shutter speed priority AE |
Canon Firmware Version | Firmware Version 1.0.9 |
Canon Flash Mode | Off |
Canon Image Size | Unknown (-1) |
Canon Model ID | EOS 50D |
Chromatic Aberration Corr | Off |
Circle Of Confusion | 0.004 mm |
Clarity 2012 | +7 |
Color Data Version | 6 (50D/5DmkII) |
Color Noise Reduction | 25 |
Color Noise Reduction Detail | 50 |
Color Noise Reduction Smoothness | 50 |
Color Space | sRGB |
Color Temp As Shot | 4478 |
Color Temp Auto | 4478 |
Color Temp Cloudy | 6000 |
Color Temp Daylight | 5200 |
Color Temp Flash | 6250 |
Color Temp Fluorescent | 3793 |
Color Temp Kelvin | 5238 |
Color Temp Measured | 4478 |
Color Temp Shade | 7000 |
Color Temp Tungsten | 3200 |
Color Tone | Normal |
Color Tone Faithful | 0 |
Color Tone Landscape | 0 |
Color Tone Neutral | 0 |
Color Tone Portrait | 0 |
Color Tone Standard | 0 |
Color Tone User Def 1 | 0 |
Color Tone User Def 2 | 0 |
Color Tone User Def 3 | 0 |
Continuous Drive | Continuous, High |
Contrast | Normal |
Contrast 2012 | +12 |
Contrast Faithful | 0 |
Contrast Landscape | 0 |
Contrast Monochrome | 0 |
Contrast Neutral | 0 |
Contrast Portrait | 0 |
Contrast Standard | 0 |
Contrast User Def 1 | 0 |
Contrast User Def 2 | 0 |
Contrast User Def 3 | 0 |
Convert To Grayscale | False |
Country | United States |
Country Code | USA |
Creator | Charles D Therit (c) 2011-2021 |
Crop Bottom Margin | 0 |
Crop Height | 0 |
Crop Left Margin | 0 |
Crop Right Margin | 0 |
Crop Top Margin | 0 |
Crop Width | 0 |
Cropped Image Height | 3168 |
Cropped Image Left | 0 |
Cropped Image Top | 0 |
Cropped Image Width | 4752 |
Custom Rendered | Normal |
Defringe Green Amount | 0 |
Defringe Green Hue Hi | 60 |
Defringe Green Hue Lo | 40 |
Defringe Purple Amount | 0 |
Defringe Purple Hue Hi | 70 |
Defringe Purple Hue Lo | 30 |
Description | <b>Wild Turkey / Meleagris gallopavo</b>.ORDER: Galliformes.FAMILY: Phasianidae..<a href="https://www.allabou tbirds.org/guide/Wild_Turkey/i d" rel="noreferrer nofollow">www.allabout birds.org/guide/Wild_Turkey/id </a>..Palmer Park, Colorado Springs, CO |
Dial Direction Tv Av | Normal |
Digital Zoom | None |
Drive Mode | Continuous Shooting |
Easy Mode | Manual |
Exposure 2012 | -0.24 |
Exposure Level Increments | 1/3 Stop |
Exposure Mode | Auto |
Field Of View | 1.4 deg |
File Number | 100-3927 |
Filter Effect Monochrome | None |
Filter Effect User Def 1 | n/a |
Filter Effect User Def 2 | None |
Filter Effect User Def 3 | None |
Firmware | 1.0.9 |
Firmware Version | 1.0.9 |
Flash Activity | 0 |
Flash Bits | (none) |
Flash Compensation | 0 |
Flash Fired | False |
Flash Function | False |
Flash Metering Mode | Off |
Flash Mode | Off |
Flash Red Eye Mode | False |
Flash Return | No return detection |
Flash Sync Speed Av | Auto |
Focal Units | 1/mm |
Focus Distance Lower | 9 m |
Focus Distance Upper | 10.2 m |
Focus Mode | AI Servo AF |
Focus Range | Not Known |
Focusing Screen | Ef-A |
Format | image/jpeg |
Grain Amount | 0 |
Green Hue | 0 |
Green Saturation | 0 |
Has Crop | False |
Has Settings | True |
High ISO Noise Reduction | Standard |
Highlight Tone Priority | Disable |
Highlights 2012 | -100 |
Hue Adjustment Aqua | 0 |
Hue Adjustment Blue | 0 |
Hue Adjustment Green | 0 |
Hue Adjustment Magenta | 0 |
Hue Adjustment Orange | 0 |
Hue Adjustment Purple | 0 |
Hue Adjustment Red | 0 |
Hue Adjustment Yellow | 0 |
Hyperfocal Distance | 2207.51 m |
ISO | 1250 |
ISO Expansion | On |
ISO Speed Increments | 1/3 Stop |
Image Description | <b>Wild Turkey / Meleagris gallopavo</b>.ORDER: Galliformes.FAMILY: Phasianidae..<a href="https://www.allabou tbirds.org/guide/Wild_Turkey/i d" rel="noreferrer nofollow">www.allabout birds.org/guide/Wild_Turkey/id </a>..Palmer Park, Colorado Springs, CO |
Image Number | 0 |
Image Size | 1418x951 |
Lens | 100.0 - 400.0 mm (35 mm equivalent: 685.2 - 2740.8 mm) |
Lens AF Stop Button | AF stop |
Lens Drive No AF | Focus search on |
Lens ID | Canon EF 100-400mm f/4.5-5.6L IS |
Lens Info | 100-400mm f/? |
Lens Manual Distortion Amount | 0 |
Lens Model | EF100-400mm f/4.5-5.6L IS USM |
Lens Profile Enable | 0 |
Lens Profile Setup | LensDefaults |
Lens Type | Canon EF 100-400mm f/4.5-5.6L IS or Sigma Lens |
Light Value | 10.0 |
Location | Papeton |
Long Exposure Noise Reduction | Off |
Luminance Adjustment Aqua | 0 |
Luminance Adjustment Blue | 0 |
Luminance Adjustment Green | 0 |
Luminance Adjustment Magenta | 0 |
Luminance Adjustment Orange | 0 |
Luminance Adjustment Purple | 0 |
Luminance Adjustment Red | 0 |
Luminance Adjustment Yellow | 0 |
Luminance Smoothing | 0 |
Macro Mode | Normal |
Manual Flash Output | n/a |
Max Aperture | 5 |
Max Focal Length | 400 mm |
Measured RGGB | 464 1024 1024 788 |
Metering Mode | Evaluative |
Min Aperture | 35 |
Min Focal Length | 100 mm |
Mirror Lockup | Disable |
Num AF Points | 9 |
Optical Zoom Code | n/a |
Original Decision Data Offset | 0 |
Original Image Height | 3168 |
Original Image Width | 4752 |
Owner Name | Charles D Therit (c) 2011-2021 |
Parametric Darks | 0 |
Parametric Highlight Split | 75 |
Parametric Highlights | 0 |
Parametric Lights | 0 |
Parametric Midtone Split | 50 |
Parametric Shadow Split | 25 |
Parametric Shadows | 0 |
Peripheral Lighting | On |
Peripheral Lighting Setting | On |
Peripheral Lighting Value | 53 |
Perspective Aspect | 0 |
Perspective Horizontal | 0 |
Perspective Rotate | 0.0 |
Perspective Scale | 100 |
Perspective Upright | 0 |
Perspective Vertical | 0 |
Photometric Interpretation | RGB |
Planar Configuration | Chunky |
Post Crop Vignette Amount | -26 |
Post Crop Vignette Feather | 50 |
Post Crop Vignette Highlight Contrast | 0 |
Post Crop Vignette Midpoint | 50 |
Post Crop Vignette Roundness | 0 |
Post Crop Vignette Style | 1 |
Process Version | 6.7 |
Quality | RAW |
Rating | 3 |
Rating Percent | 50 |
Raw Measured RGGB | 135216 314314 311554 240751 |
Record Mode | CR2 |
Red Balance | 1.976563 |
Red Hue | 0 |
Red Saturation | 0 |
Related Image Height | 933 |
Related Image Width | 1400 |
Rights | Charles D Therit (c) 2011-2021 |
SRAW Quality | n/a |
Safety Shift | Disable |
Samples Per Pixel | 3 |
Saturation | Normal |
Saturation Adjustment Aqua | 0 |
Saturation Adjustment Blue | 0 |
Saturation Adjustment Green | 0 |
Saturation Adjustment Magenta | 0 |
Saturation Adjustment Orange | 0 |
Saturation Adjustment Purple | 0 |
Saturation Adjustment Red | 0 |
Saturation Adjustment Yellow | 0 |
Saturation Faithful | 0 |
Saturation Landscape | 0 |
Saturation Neutral | 0 |
Saturation Portrait | 0 |
Saturation Standard | 0 |
Saturation User Def 1 | 0 |
Saturation User Def 2 | 0 |
Saturation User Def 3 | 0 |
Scale Factor To 35 mm Equivalent | 6.9 |
Scene Capture Type | Standard |
Self Timer | Off |
Sequence Number | 0 |
Set Button When Shooting | Normal (disabled) |
Shadow Tint | 0 |
Shadows 2012 | -45 |
Sharpen Detail | 25 |
Sharpen Edge Masking | 27 |
Sharpen Radius | +1.9 |
Sharpness | Hard |
Sharpness Faithful | 0 |
Sharpness Landscape | 4 |
Sharpness Monochrome | 3 |
Sharpness Neutral | 0 |
Sharpness Portrait | 2 |
Sharpness Standard | 3 |
Sharpness User Def 1 | 7 |
Sharpness User Def 2 | 3 |
Sharpness User Def 3 | 3 |
Shooting Mode | Shutter speed priority AE |
Shutter Button AF On Button | Metering + AF start/AF stop |
Split Toning Balance | 0 |
Split Toning Highlight Hue | 0 |
Split Toning Highlight Saturation | 0 |
Split Toning Shadow Hue | 0 |
Split Toning Shadow Saturation | 0 |
State | Colorado |
Subject | 1/500, 220 mm, canon, digital, explored, image, landscape, nature, Canon EF 100-400mm f/4.5-5.6L IS USM or Sigma Lens, Colorado, Colorado Springs, Did not fire, EF100-400mm f/4.5-5.6L IS USM, EOS 50D, esplora, Evaluative, explore, f/5.0, Flash Off, ISO1250, photo, pic, pretty, renown, Shutter speed priority AE, United States, USA |
Superimposed Display | On |
Tint | +27 |
Title | Turkey Trot |
Tone Curve | Standard |
Tone Curve Blue | 0, 0, 255, 255 |
Tone Curve Green | 0, 0, 255, 255 |
Tone Curve Name | Linear |
Tone Curve Name 2012 | Linear |
Tone Curve PV2012 | 0, 0, 255, 255 |
Tone Curve PV2012 Blue | 0, 0, 255, 255 |
Tone Curve PV2012 Green | 0, 0, 255, 255 |
Tone Curve PV2012 Red | 0, 0, 255, 255 |
Tone Curve Red | 0, 0, 255, 255 |
Toning Effect Monochrome | None |
Toning Effect User Def 1 | n/a |
Toning Effect User Def 2 | None |
Toning Effect User Def 3 | None |
User Def 1 Picture Style | Faithful |
User Def 2 Picture Style | Standard |
User Def 3 Picture Style | Standard |
VRD Offset | 0 |
Valid AF Points | 9 |
Version | 8.7.1 |
Vibrance | -10 |
Vignette Amount | 0 |
WB RGGB Levels | 2024 1024 1024 1618 |
WB RGGB Levels As Shot | 2024 1024 1024 1618 |
WB RGGB Levels Auto | 2024 1024 1024 1618 |
WB RGGB Levels Cloudy | 2310 1024 1024 1319 |
WB RGGB Levels Daylight | 2158 1024 1024 1440 |
WB RGGB Levels Flash | 2341 1024 1024 1303 |
WB RGGB Levels Fluorescent | 1935 1024 1024 1928 |
WB RGGB Levels Kelvin | 2158 1024 1024 1440 |
WB RGGB Levels Measured | 2046 1020 1027 1607 |
WB RGGB Levels Shade | 2461 1024 1024 1228 |
WB RGGB Levels Tungsten | 1698 1095 1095 2164 |
Whites 2012 | +29 |
Zoom Source Width | 0 |
Zoom Target Width | 0 |
GPS Information |
GPS Altitude | 1933 m Above Sea Level |
GPS Altitude Ref | Above Sea Level |
GPS Date Stamp | 2021:08:16 |
GPS Date/Time | 2021:08:16 16:13:56Z |
GPS Latitude | 38 deg 52' 49.58" N |
GPS Latitude Ref | North |
GPS Longitude | 104 deg 47' 15.38" W |
GPS Longitude Ref | West |
GPS Map Datum | WGS-84 |
GPS Position | 38 deg 52' 49.58" N, 104 deg 47' 15.38" W |
GPS Time Stamp | 16:13:56 |
GPS Version ID | 2.2.0.0 |