Shooting information for this photo
Camera: | Canon EOS 620 |
Exposure: | 0.004 sec. (1/250) |
Aperture: | f/5.6 |
Focal Length: | 105.0 mm |
Flash: | Off, Did not fire, Return not detected |
Exposure mode: | Manual |
Resolution: | 300 x 300 dpi |
Dimension: | 1428 x 963 pixels |
Original Date: | 1988:04:15 12:00:00 |
Digitized Date: | 1988:04:15 12:00:00-04:00 |
Created on: | 1988:04:15 12:00:00 |
Software: | Adobe Photoshop Lightroom 5.7.1 (Windows) |
Copyright: | Charles D Therit (c) 1987-2021 |
Already Applied | True |
Artist | Picasa |
Auto Lateral CA | 0 |
Auto White Version | 134348800 |
Base URL | https://www.flickr.com/photos/ ctofcsco |
Blacks 2012 | +10 |
Blue Hue | 0 |
Blue Saturation | 0 |
Camera Profile | Embedded |
Clarity 2012 | +14 |
Color Noise Reduction | 0 |
Color Space | sRGB |
Contrast 2012 | 0 |
Convert To Grayscale | False |
Country | United States |
Country Code | USA |
Creator | Picasa |
Crop Angle | 1 |
Crop Bottom | 0.755327 |
Crop Constrain To Warp | 0 |
Crop Left | 0.235921 |
Crop Right | 0.72777 |
Crop Top | 0.244673 |
Defringe Green Amount | 0 |
Defringe Green Hue Hi | 60 |
Defringe Green Hue Lo | 40 |
Defringe Purple Amount | 0 |
Defringe Purple Hue Hi | 70 |
Defringe Purple Hue Lo | 30 |
Description | By far my favorite vehicle and the one in which I logged the most miles, it was sold before I started into digital photography. Fortunately, I've uncovered several photos as I continue scanning my film archives .....<b>1985 Chevrolet Corvette (C4)</b>.https://www.car anddriver.com/reviews/a1514655 2/1985-chevrolet-corvette-firs t-drive-review/.https://www.co rvettemuseum.org/learn/about-c orvette/corvette-specs/1985-co rvette-specs/..Baltimore County, MD..Scanned Color Negative, Kodak CA100, Circa April 1988 |
Exposure 2012 | 0.00 |
Flash Fired | False |
Flash Mode | Off |
Flash Return | Return not detected |
Format | image/jpeg |
Grain Amount | 0 |
Green Hue | 0 |
Green Saturation | 0 |
Has Crop | True |
Has Settings | True |
Highlights 2012 | +52 |
Hue Adjustment Aqua | 0 |
Hue Adjustment Blue | 0 |
Hue Adjustment Green | 0 |
Hue Adjustment Magenta | 0 |
Hue Adjustment Orange | 0 |
Hue Adjustment Purple | 0 |
Hue Adjustment Red | 0 |
Hue Adjustment Yellow | 0 |
ISO | 100 |
Image Description | By far my favorite vehicle and the one in which I logged the most miles, it was sold before I started into digital photography. Fortunately, I've uncovered several photos as I continue scanning my film archives .....<b>1985 Chevrolet Corvette (C4)</b>.https://www.car anddriver.com/reviews/a1514655 2/1985-chevrolet-corvette-firs t-drive-review/.https://www.co rvettemuseum.org/learn/about-c orvette/corvette-specs/1985-co rvette-specs/..Baltimore County, MD..Scanned Color Negative, Kodak CA100, Circa April 1988 |
Image Size | 1428x963 |
Incremental Temperature | +8 |
Incremental Tint | +5 |
Lens Manual Distortion Amount | 0 |
Lens Model | EF35-105mm f/3.5-4.5 |
Lens Profile Enable | 0 |
Lens Profile Setup | LensDefaults |
Light Value | 12.9 |
Location | Marble Hill |
Luminance Adjustment Aqua | 0 |
Luminance Adjustment Blue | 0 |
Luminance Adjustment Green | 0 |
Luminance Adjustment Magenta | 0 |
Luminance Adjustment Orange | 0 |
Luminance Adjustment Purple | 0 |
Luminance Adjustment Red | 0 |
Luminance Adjustment Yellow | 0 |
Luminance Smoothing | 0 |
Parametric Darks | 0 |
Parametric Highlight Split | 75 |
Parametric Highlights | 0 |
Parametric Lights | 0 |
Parametric Midtone Split | 50 |
Parametric Shadow Split | 25 |
Parametric Shadows | 0 |
Perspective Aspect | 0 |
Perspective Horizontal | 0 |
Perspective Rotate | 0.0 |
Perspective Scale | 100 |
Perspective Upright | 0 |
Perspective Vertical | 0 |
Post Crop Vignette Amount | 0 |
Process Version | 6.7 |
Red Hue | 0 |
Red Saturation | 0 |
Related Image Height | 935 |
Related Image Width | 1400 |
Rights | Charles D Therit (c) 1987-2021 |
Saturation | +7 |
Saturation Adjustment Aqua | 0 |
Saturation Adjustment Blue | 0 |
Saturation Adjustment Green | 0 |
Saturation Adjustment Magenta | 0 |
Saturation Adjustment Orange | 0 |
Saturation Adjustment Purple | 0 |
Saturation Adjustment Red | +69 |
Saturation Adjustment Yellow | 0 |
Shadow Tint | 0 |
Shadows 2012 | +21 |
Sharpen Detail | 25 |
Sharpen Edge Masking | 0 |
Sharpen Radius | +1.0 |
Sharpness | 0 |
Split Toning Balance | 0 |
Split Toning Highlight Hue | 0 |
Split Toning Highlight Saturation | 0 |
Split Toning Shadow Hue | 0 |
Split Toning Shadow Saturation | 0 |
State | Maryland |
Subject | 35mm, 420EZ, 5095, analog, ASA 100, Canon, CanoScan, CanoScan 9000F Mark II, color negative, EF100-300mm f/5.6L, EF35-105mm f/3.5-4.5, EF50mm f/1.8, EOS, EOS 620, esplora, explore, explored, film, GA, Gold Plus 100, ISO100, Kodacolor VR Gold 100, Kodak, process C-41, scanned, standard base, United States, USA |
Title | My85 |
Tone Curve | 0, 0, 255, 255 |
Tone Curve Blue | 0, 0, 255, 255 |
Tone Curve Green | 0, 0, 255, 255 |
Tone Curve Name | Linear |
Tone Curve Name 2012 | Linear |
Tone Curve PV2012 | 0, 0, 255, 255 |
Tone Curve PV2012 Blue | 0, 0, 255, 255 |
Tone Curve PV2012 Green | 0, 0, 255, 255 |
Tone Curve PV2012 Red | 0, 0, 255, 255 |
Tone Curve Red | 0, 0, 255, 255 |
Version | 8.7.1 |
Vibrance | -36 |
Vignette Amount | 0 |
White Balance | Manual |
Whites 2012 | -7 |
GPS Information |
GPS Altitude | 92 m Above Sea Level |
GPS Altitude Ref | Above Sea Level |
GPS Date Stamp | 1988:04:15 |
GPS Date/Time | 1988:04:15 18:00:00Z |
GPS Latitude | 39 deg 29' 24.00" N |
GPS Latitude Ref | North |
GPS Longitude | 76 deg 39' 30.63" W |
GPS Longitude Ref | West |
GPS Map Datum | WGS-84 |
GPS Position | 39 deg 29' 24.00" N, 76 deg 39' 30.63" W |
GPS Time Stamp | 18:00:00 |
GPS Version ID | 2.2.0.0 |