Shooting information for this photo
Camera: | NIKON CORPORATION NIKON D7100 |
Exposure: | 0.004 sec. (1/250) |
Aperture: | f/6.3 |
Focal Length: | 65.0 mm (35 mm equivalent: 97.0 mm) |
Flash: | Off, Did not fire |
Exposure mode: | Manual |
Max Aperture: | 5.5 |
Resolution: | 240 x 240 dpi |
Dimension: | 2261 x 1280 pixels |
Original Date: | 2015:01:30 14:34:13.40 |
Created on: | 2015:01:30 14:34:13.40 |
Modified on: | 2017:02:01 10:01:00 |
Software: | Adobe Photoshop CC 2015 (Windows) |
Copyright: | Bernhard Westrup |
Already Applied | True |
Approximate Focus Distance | 4294967295 |
Artist | Bernhard Westrup |
Auto Lateral CA | 0 |
Auto White Version | 134348800 |
Blacks 2012 | 0 |
Blue Hue | 0 |
Blue Saturation | 0 |
CFA Pattern | [Red,Green][Green,Blue] |
Camera Profile | Adobe Standard |
Circle Of Confusion | 0.020 mm |
Clarity 2012 | +15 |
Color Mode | RGB |
Color Noise Reduction | 25 |
Color Noise Reduction Detail | 50 |
Color Noise Reduction Smoothness | 50 |
Color Space | sRGB |
Color Temperature | 4718 |
Contrast | Normal |
Contrast 2012 | -3 |
Convert To Grayscale | False |
Creator | Bernhard Westrup |
Custom Rendered | Normal |
Date Created | 2015:01:30 14:34:13.004 |
Defringe Green Amount | 0 |
Defringe Green Hue Hi | 60 |
Defringe Green Hue Lo | 40 |
Defringe Purple Amount | 0 |
Defringe Purple Hue Hi | 70 |
Defringe Purple Hue Lo | 30 |
Description | 24h-Burgenland-extrem |
Digital Zoom Ratio | 1 |
Exposure 2012 | +1.31 |
Exposure Compensation | 0 |
Exposure Mode | Manual |
Field Of View | 21.0 deg |
Focal Length In 35mm Format | 97 mm |
Format | image/jpeg |
Gain Control | None |
Grain Amount | 0 |
Green Hue | 0 |
Green Saturation | 0 |
Has Crop | False |
Has Settings | True |
Highlights 2012 | -88 |
Hue Adjustment Aqua | 0 |
Hue Adjustment Blue | 0 |
Hue Adjustment Green | 0 |
Hue Adjustment Magenta | 0 |
Hue Adjustment Orange | 0 |
Hue Adjustment Purple | 0 |
Hue Adjustment Red | 0 |
Hue Adjustment Yellow | 0 |
Hyperfocal Distance | 33.31 m |
ICC Profile Name | sRGB IEC61966-2.1 |
ISO | 200 |
Image Description | 24h-Burgenland-extrem |
Image Number | 4810 |
Image Size | 2261x1280 |
Last Keyword IPTC | DSC4701 |
Last Keyword XMP | DSC4701 |
Lens | 16.0-85.0 mm f/3.5-5.6 |
Lens ID | AF-S DX VR Zoom-Nikkor 16-85mm f/3.5-5.6G ED |
Lens Info | 16-85mm f/3.5-5.6 |
Lens Manual Distortion Amount | 0 |
Lens Model | 16.0-85.0 mm f/3.5-5.6 |
Lens Profile Chromatic Aberration Scale | 100 |
Lens Profile Distortion Scale | 100 |
Lens Profile Enable | 1 |
Lens Profile Filename | NIKON CORPORATION (Tokina AT-X 116 PRO DX 11-16mm F2.8) - RAW.lcp |
Lens Profile Name | Adobe (Tokina AT-X 116 PRO DX 11-16mm F2.8, NIKON CORPORATION) |
Lens Profile Setup | Custom |
Lens Profile Vignetting Scale | 100 |
Light Source | Unknown |
Light Value | 12.3 |
Luminance Adjustment Aqua | 0 |
Luminance Adjustment Blue | 0 |
Luminance Adjustment Green | 0 |
Luminance Adjustment Magenta | 0 |
Luminance Adjustment Orange | 0 |
Luminance Adjustment Purple | 0 |
Luminance Adjustment Red | 0 |
Luminance Adjustment Yellow | 0 |
Luminance Smoothing | 0 |
Metering Mode | Center-weighted average |
Parametric Darks | 0 |
Parametric Highlight Split | 75 |
Parametric Highlights | 0 |
Parametric Lights | 0 |
Parametric Midtone Split | 50 |
Parametric Shadow Split | 25 |
Parametric Shadows | 0 |
Perspective Aspect | 0 |
Perspective Horizontal | 0 |
Perspective Rotate | 0.0 |
Perspective Scale | 100 |
Perspective Upright | 0 |
Perspective Vertical | 0 |
Photometric Interpretation | RGB |
Planar Configuration | Chunky |
Post Crop Vignette Amount | 0 |
Process Version | 6.7 |
Red Hue | 0 |
Red Saturation | 0 |
Rights | Bernhard Westrup |
Samples Per Pixel | 3 |
Saturation | Normal |
Saturation Adjustment Aqua | 0 |
Saturation Adjustment Blue | 0 |
Saturation Adjustment Green | 0 |
Saturation Adjustment Magenta | 0 |
Saturation Adjustment Orange | 0 |
Saturation Adjustment Purple | 0 |
Saturation Adjustment Red | 0 |
Saturation Adjustment Yellow | 0 |
Scale Factor To 35 mm Equivalent | 1.5 |
Scene Capture Type | Standard |
Scene Type | Directly photographed |
Sensing Method | One-chip color area |
Sensitivity Type | Recommended Exposure Index |
Shadow Tint | 0 |
Shadows 2012 | 0 |
Sharpen Detail | 25 |
Sharpen Edge Masking | 0 |
Sharpen Radius | +1.0 |
Sharpness | Normal |
Split Toning Balance | 0 |
Split Toning Highlight Hue | 0 |
Split Toning Highlight Saturation | 0 |
Split Toning Shadow Hue | 0 |
Split Toning Shadow Saturation | 0 |
Subject | DSC4701 |
Subject Distance Range | Unknown |
Tint | +2 |
Title | 24h-Burgenland-extrem |
Tone Curve | 0, 0, 255, 255 |
Tone Curve Blue | 0, 0, 255, 255 |
Tone Curve Green | 0, 0, 255, 255 |
Tone Curve Name | Linear |
Tone Curve Name 2012 | Linear |
Tone Curve PV2012 | 0, 0, 255, 255 |
Tone Curve PV2012 Blue | 0, 0, 255, 255 |
Tone Curve PV2012 Green | 0, 0, 255, 255 |
Tone Curve PV2012 Red | 0, 0, 255, 255 |
Tone Curve Red | 0, 0, 255, 255 |
Version | 8.7 |
Vibrance | +9 |
Vignette Amount | 0 |
White Balance | Manual |
Whites 2012 | 0 |
XP Author | Bernhard Westrup |
XP Keywords | DSC4701 |
XP Subject | Sport |
XP Title | 24h-Burgenland-extrem |