Shooting information for this photo
Camera: | OLYMPUS IMAGING CORP. E-420 |
Exposure: | 0.01 sec. (1/100) |
Aperture: | f/4.0 |
Focal Length: | 17.0 mm |
Flash: | No Flash |
Exposure mode: | Creative (Slow speed) |
Max Aperture: | 3.5 |
Resolution: | 72 x 72 dpi |
Dimension: | 2736 x 3648 pixels |
Original Date: | 2010:12:20 14:54:15 |
Digitized Date: | 2010:12:20 14:54:15+01:00 |
Created on: | 2010:12:20 14:54:15 |
Modified on: | 2010:12:21 03:14:33 |
Software: | PhotoScape |
Already Applied | True |
Blue Hue | 0 |
Blue Saturation | 0 |
Brightness | +50 |
CFA Pattern | [Red,Green][Green,Blue] |
Camera Profile | ACR 4.5 |
Chromatic Aberration B | 0 |
Chromatic Aberration R | 0 |
Clarity | +100 |
Color Noise Reduction | 25 |
Color Temperature | 5800 |
Contrast | +25 |
Convert To Grayscale | False |
Custom Rendered | Normal |
Defringe | 0 |
Description | OLYMPUS DIGITAL CAMERA |
Digital Zoom Ratio | 1 |
Exposure | 0.00 |
Exposure Compensation | +0.3 |
Exposure Mode | Manual |
Fill Light | 12 |
Flash Compensation | 0 |
Gain Control | None |
Green Hue | 0 |
Green Saturation | 0 |
Has Crop | False |
Has Settings | True |
Highlight Recovery | 0 |
Hue Adjustment Aqua | 0 |
Hue Adjustment Blue | 0 |
Hue Adjustment Green | 0 |
Hue Adjustment Magenta | 0 |
Hue Adjustment Orange | 0 |
Hue Adjustment Purple | 0 |
Hue Adjustment Red | 0 |
Hue Adjustment Yellow | 0 |
ISO | 100 |
Image Description | OLYMPUS DIGITAL CAMERA |
Image Size | 1500x1968 |
Lens | 17.0-45.0 mm f/3.5-5.6 |
Lens Info | 17-45mm f/3.5-5.6 |
Light Source | Cloudy |
Light Value | 10.6 |
Luminance Adjustment Aqua | 0 |
Luminance Adjustment Blue | 0 |
Luminance Adjustment Green | 0 |
Luminance Adjustment Magenta | 0 |
Luminance Adjustment Orange | 0 |
Luminance Adjustment Purple | 0 |
Luminance Adjustment Red | 0 |
Luminance Adjustment Yellow | 0 |
Luminance Smoothing | 0 |
Metering Mode | Multi-segment |
Parametric Darks | 0 |
Parametric Highlight Split | 75 |
Parametric Highlights | 0 |
Parametric Lights | 0 |
Parametric Midtone Split | 50 |
Parametric Shadow Split | 25 |
Parametric Shadows | 0 |
Post Crop Vignette Amount | 0 |
Raw File Name | PC200365.ORF |
Red Hue | 0 |
Red Saturation | 0 |
Saturation | +14 |
Saturation Adjustment Aqua | 0 |
Saturation Adjustment Blue | 0 |
Saturation Adjustment Green | 0 |
Saturation Adjustment Magenta | 0 |
Saturation Adjustment Orange | 0 |
Saturation Adjustment Purple | 0 |
Saturation Adjustment Red | 0 |
Saturation Adjustment Yellow | 0 |
Scene Capture Type | Standard |
Shadow Tint | 0 |
Shadows | 5 |
Sharpen Detail | 25 |
Sharpen Edge Masking | 0 |
Sharpen Radius | +1.0 |
Sharpness | 25 |
Split Toning Balance | 0 |
Split Toning Highlight Hue | 0 |
Split Toning Highlight Saturation | 0 |
Split Toning Shadow Hue | 0 |
Split Toning Shadow Saturation | 0 |
Tint | +5 |
Tone Curve | 0, 0, 32, 22, 64, 56, 128, 128, 192, 196, 255, 255 |
Tone Curve Name | Medium Contrast |
Version | 4.5 |
Vibrance | +14 |
Vignette Amount | 0 |
White Balance | As Shot |