Shooting information for this photo
Camera: | Canon EOS 60D |
Exposure: | 0.01667 sec. (1/60) |
Aperture: | f/5.6 |
Focal Length: | 200.0 mm (35 mm equivalent: 314.6 mm) |
Flash: | Off, Did not fire |
Exposure mode: | Manual |
Max Aperture: | 2.8 |
Resolution: | 300 x 300 dpi |
Dimension: | 6144 x 4096 pixels |
Original Date: | 2014:10:24 23:11:28.70 |
Created on: | 2014:10:24 23:11:28.70 |
Modified on: | 2014:10:25 14:12:04.70 |
Software: | Adobe Photoshop CS5.1 Windows |
Copyright: | Giancarlo Bruss.© TUTTI I DIRITTI RISERVATI ©.Tutto il materiale nella mia galleria NON PUO' essere riprodotto, copiato, modificato, pubblicato, trasmesso e inserito senza la mia autorizzazione scritta...© ALL RIGHT RESERVED © .All material in my gallery MAY NOT be reproduced, copied, edited, published, transmitted or uploaded without my permission. |
Already Applied | True |
Approximate Focus Distance | 15.4 |
Artist | Giancarlo Bruss |
Auto Lateral CA | 0 |
Blacks 2012 | 0 |
Blue Hue | 0 |
Blue Saturation | 0 |
Brightness | +50 |
Camera Profile | Adobe Standard |
Circle Of Confusion | 0.019 mm |
Clarity | 0 |
Clarity 2012 | 0 |
Color Mode | RGB |
Color Noise Reduction | 21 |
Color Noise Reduction Detail | 50 |
Color Space | Uncalibrated |
Color Temperature | 3200 |
Contrast | +25 |
Contrast 2012 | 0 |
Convert To Grayscale | False |
Creator | Giancarlo Bruss |
Custom Rendered | Normal |
Date Created | 2014:05:01 11:54:51.067 |
Defringe | 0 |
Depth Of Field | 1.25 m (14.80 - 16.05) |
Description | 12° Gallarate Jazz Festival 2014 |
Exposure | 0.00 |
Exposure 2012 | 0.00 |
Exposure Compensation | 0 |
Exposure Mode | Manual |
Field Of View | 6.6 deg |
Fill Light | 0 |
Firmware | 1.0.9 |
Flash Compensation | 0 |
Format | image/jpeg |
Grain Amount | 0 |
Green Hue | 0 |
Green Saturation | 0 |
Has Crop | False |
Has Settings | True |
Highlight Recovery | 0 |
Highlights 2012 | 0 |
Hue Adjustment Aqua | 0 |
Hue Adjustment Blue | 0 |
Hue Adjustment Green | 0 |
Hue Adjustment Magenta | 0 |
Hue Adjustment Orange | 0 |
Hue Adjustment Purple | 0 |
Hue Adjustment Red | 0 |
Hue Adjustment Yellow | 0 |
Hyperfocal Distance | 373.89 m |
ICC Profile Name | Adobe RGB (1998) |
ISO | 2000 |
Image Description | 12° Gallarate Jazz Festival 2014 |
Image Number | 0 |
Image Size | 6144x4096 |
Lens | EF70-200mm f/2.8L IS II USM |
Lens ID | Canon EF 70-200mm f/2.8L IS II USM |
Lens Info | 70-200mm f/? |
Lens Manual Distortion Amount | 0 |
Lens Model | EF70-200mm f/2.8L IS II USM |
Lens Profile Enable | 0 |
Lens Profile Setup | LensDefaults |
Light Value | 6.6 |
Location Created City | Gallarate |
Location Created Province State | Italia |
Luminance Adjustment Aqua | 0 |
Luminance Adjustment Blue | 0 |
Luminance Adjustment Green | 0 |
Luminance Adjustment Magenta | 0 |
Luminance Adjustment Orange | 0 |
Luminance Adjustment Purple | 0 |
Luminance Adjustment Red | 0 |
Luminance Adjustment Yellow | 0 |
Luminance Noise Reduction Contrast | 0 |
Luminance Noise Reduction Detail | 6 |
Luminance Smoothing | 30 |
Marked | True |
Metering Mode | Center-weighted average |
Parametric Darks | 0 |
Parametric Highlight Split | 75 |
Parametric Highlights | 0 |
Parametric Lights | 0 |
Parametric Midtone Split | 50 |
Parametric Shadow Split | 25 |
Parametric Shadows | 0 |
Person In Image | Stefania Tallini, Guinga |
Perspective Horizontal | 0 |
Perspective Rotate | 0.0 |
Perspective Scale | 100 |
Perspective Vertical | 0 |
Post Crop Vignette Amount | 0 |
Process Version | 5.7 |
Rating | 0 |
Raw File Name | _MG_2829.CR2 |
Recommended Exposure Index | 2000 |
Red Hue | 0 |
Red Saturation | 0 |
Rights | Giancarlo Bruss.© TUTTI I DIRITTI RISERVATI ©.Tutto il materiale nella mia galleria NON PUO' essere riprodotto, copiato, modificato, pubblicato, trasmesso e inserito senza la mia autorizzazione scritta...© ALL RIGHT RESERVED © .All material in my gallery MAY NOT be reproduced, copied, edited, published, transmitted or uploaded without my permission. |
Saturation | +4 |
Saturation Adjustment Aqua | 0 |
Saturation Adjustment Blue | 0 |
Saturation Adjustment Green | 0 |
Saturation Adjustment Magenta | 0 |
Saturation Adjustment Orange | 0 |
Saturation Adjustment Purple | 0 |
Saturation Adjustment Red | 0 |
Saturation Adjustment Yellow | 0 |
Scale Factor To 35 mm Equivalent | 1.6 |
Scene Capture Type | Standard |
Sensitivity Type | Recommended Exposure Index |
Shadow Tint | 0 |
Shadows | 0 |
Shadows 2012 | 0 |
Sharpen Detail | 26 |
Sharpen Edge Masking | 14 |
Sharpen Radius | +0.8 |
Sharpness | 25 |
Split Toning Balance | 0 |
Split Toning Highlight Hue | 0 |
Split Toning Highlight Saturation | 0 |
Split Toning Shadow Hue | 0 |
Split Toning Shadow Saturation | 0 |
Subject Distance | 15.4 m |
Tint | 0 |
Title | Stefania Tallini e Guinga |
Tone Curve | 0, 0, 32, 22, 64, 56, 128, 128, 192, 196, 255, 255 |
Tone Curve Blue | 0, 0, 255, 255 |
Tone Curve Green | 0, 0, 255, 255 |
Tone Curve Name | Medium Contrast |
Tone Curve Name 2012 | Linear |
Tone Curve PV2012 | 0, 0, 255, 255 |
Tone Curve PV2012 Blue | 0, 0, 255, 255 |
Tone Curve PV2012 Green | 0, 0, 255, 255 |
Tone Curve PV2012 Red | 0, 0, 255, 255 |
Tone Curve Red | 0, 0, 255, 255 |
Version | 6.7 |
Vibrance | -3 |
Vignette Amount | 0 |
Web Statement | http://www.flickr.com/photos/5 4034120@N05/ |
White Balance | Auto |
Whites 2012 | 0 |