Shooting information for this photo
Camera: | Canon EOS 450D |
Exposure: | 0.005 sec. (1/200) |
Aperture: | f/13.0 |
Focal Length: | 100.0 mm (35 mm equivalent: 161.5 mm) |
Flash: | On, Fired |
Exposure mode: | Manual |
Max Aperture: | 2.8 |
Resolution: | 240 x 240 dpi |
Dimension: | 2839 x 2839 pixels |
Original Date: | 2014:07:30 10:26:26.03 |
Created on: | 2014:07:30 10:26:26.03 |
Modified on: | 2014:10:09 18:51:06.03 |
Software: | Adobe Photoshop CS5.1 Windows |
Already Applied | True |
Approximate Focus Distance | 0.37 |
Auto Lateral CA | 0 |
Blacks 2012 | 0 |
Blue Hue | 0 |
Blue Saturation | 0 |
Brightness | +50 |
Camera Profile | Adobe Standard |
Circle Of Confusion | 0.019 mm |
Clarity | +33 |
Clarity 2012 | 0 |
Color Mode | RGB |
Color Noise Reduction | 25 |
Color Noise Reduction Detail | 50 |
Color Space | Uncalibrated |
Color Temperature | 6300 |
Contrast | +25 |
Contrast 2012 | 0 |
Convert To Grayscale | False |
Crop Angle | 0 |
Crop Bottom | 0.996801 |
Crop Constrain To Warp | 0 |
Crop Height | 1 |
Crop Left | 0.180212 |
Crop Right | 0.84368 |
Crop Top | 0.0016 |
Crop Unit | Unknown (3) |
Crop Width | 1 |
Custom Rendered | Normal |
Date Created | 2014:07:30 10:26:26.003 |
Defringe | 0 |
Depth Of Field | 0.005 m (0.368 - 0.372) |
Exposure | 0.00 |
Exposure 2012 | 0.00 |
Exposure Compensation | 0 |
Exposure Mode | Manual |
Field Of View | 12.7 deg |
Fill Light | 0 |
Firmware | 1.0.9 |
Flash Compensation | 0 |
Format | image/jpeg |
Grain Amount | 0 |
Green Hue | 0 |
Green Saturation | 0 |
Has Crop | True |
Has Settings | True |
Highlight Recovery | 0 |
Highlights 2012 | 0 |
Hue Adjustment Aqua | 0 |
Hue Adjustment Blue | 0 |
Hue Adjustment Green | 0 |
Hue Adjustment Magenta | 0 |
Hue Adjustment Orange | 0 |
Hue Adjustment Purple | 0 |
Hue Adjustment Red | 0 |
Hue Adjustment Yellow | 0 |
Hyperfocal Distance | 41.36 m |
ICC Profile Name | Adobe RGB (1998) |
ISO | 100 |
Image Number | 0 |
Image Size | 2839x2839 |
Lens | EF100mm f/2.8L Macro IS USM |
Lens ID | Canon EF 100mm f/2.8L Macro IS USM |
Lens Info | 100mm f/? |
Lens Manual Distortion Amount | 0 |
Lens Model | EF100mm f/2.8L Macro IS USM |
Lens Profile Enable | 0 |
Lens Profile Setup | LensDefaults |
Light Value | 15.0 |
Luminance Adjustment Aqua | 0 |
Luminance Adjustment Blue | 0 |
Luminance Adjustment Green | 0 |
Luminance Adjustment Magenta | 0 |
Luminance Adjustment Orange | 0 |
Luminance Adjustment Purple | 0 |
Luminance Adjustment Red | 0 |
Luminance Adjustment Yellow | 0 |
Luminance Smoothing | 0 |
Metering Mode | Center-weighted average |
Parametric Darks | 0 |
Parametric Highlight Split | 75 |
Parametric Highlights | 0 |
Parametric Lights | 0 |
Parametric Midtone Split | 50 |
Parametric Shadow Split | 25 |
Parametric Shadows | 0 |
Perspective Horizontal | 0 |
Perspective Rotate | 0.0 |
Perspective Scale | 100 |
Perspective Vertical | 0 |
Post Crop Vignette Amount | 0 |
Process Version | 5.7 |
Rating | 0 |
Raw File Name | _MG_0570.CR2 |
Red Hue | 0 |
Red Saturation | 0 |
Saturation | +9 |
Saturation Adjustment Aqua | 0 |
Saturation Adjustment Blue | 0 |
Saturation Adjustment Green | 0 |
Saturation Adjustment Magenta | 0 |
Saturation Adjustment Orange | 0 |
Saturation Adjustment Purple | 0 |
Saturation Adjustment Red | 0 |
Saturation Adjustment Yellow | 0 |
Scale Factor To 35 mm Equivalent | 1.6 |
Scene Capture Type | Standard |
Shadow Tint | 0 |
Shadows | 5 |
Shadows 2012 | 0 |
Sharpen Detail | 25 |
Sharpen Edge Masking | 0 |
Sharpen Radius | +1.0 |
Sharpness | 25 |
Split Toning Balance | 0 |
Split Toning Highlight Hue | 0 |
Split Toning Highlight Saturation | 0 |
Split Toning Shadow Hue | 0 |
Split Toning Shadow Saturation | 0 |
Subject Distance | 0.37 m |
Tint | +2 |
Tone Curve | 0, 0, 32, 22, 64, 56, 128, 128, 192, 196, 255, 255 |
Tone Curve Blue | 0, 0, 255, 255 |
Tone Curve Green | 0, 0, 255, 255 |
Tone Curve Name | Medium Contrast |
Tone Curve Name 2012 | Linear |
Tone Curve PV2012 | 0, 0, 255, 255 |
Tone Curve PV2012 Blue | 0, 0, 255, 255 |
Tone Curve PV2012 Green | 0, 0, 255, 255 |
Tone Curve PV2012 Red | 0, 0, 255, 255 |
Tone Curve Red | 0, 0, 255, 255 |
Version | 6.7 |
Vibrance | +3 |
Vignette Amount | 0 |
White Balance | Manual |
Whites 2012 | 0 |