Shooting information for this photo
Camera: | SONY DSC-RX100M6 |
Exposure: | 0.001 sec. (1/1000) |
Aperture: | f/4.5 |
Focal Length: | 9.0 mm (35 mm equivalent: 24.0 mm) |
Flash: | Off, Did not fire |
Exposure mode: | Aperture-priority AE |
Max Aperture: | 2.8 |
Resolution: | 240 x 240 dpi |
Original Date: | 2019:05:31 10:06:55 |
Created on: | 2019:05:31 10:06:55 |
Modified on: | 2019:07:02 17:46:01 |
Software: | Adobe Photoshop Lightroom Classic 8.3.1 (Windows) |
Copyright: | Bernhard Sonderhuesken |
Already Applied | True |
Artist | Bernhard Sonderhuesken |
Auto Lateral CA | 0 |
Blacks 2012 | 0 |
Blue Hue | 0 |
Blue Saturation | 0 |
Brightness Value | 10.0484375 |
Camera Profile | Embedded |
Circle Of Confusion | 0.011 mm |
Clarity 2012 | 0 |
Color Noise Reduction | 0 |
Color Space | Uncalibrated |
Contrast | Normal |
Contrast 2012 | 0 |
Convert To Grayscale | False |
Creator | Bernhard Sonderhuesken |
Crop Angle | 0 |
Crop Bottom | 1 |
Crop Constrain To Warp | 0 |
Crop Left | 0 |
Crop Right | 0.989112 |
Crop Top | 0.012563 |
Custom Rendered | Normal |
Date Created | 2019:05:31 10:06:55+02:00 |
Defringe Green Amount | 0 |
Defringe Green Hue Hi | 60 |
Defringe Green Hue Lo | 40 |
Defringe Purple Amount | 0 |
Defringe Purple Hue Hi | 70 |
Defringe Purple Hue Lo | 30 |
Dehaze | 0 |
Description | von der Lüner Brücke |
Digital Zoom Ratio | 1 |
Exposure 2012 | 0.00 |
Exposure Compensation | -0.3 |
Exposure Mode | Auto |
Field Of View | 73.7 deg |
Focal Length In 35mm Format | 24 mm |
Format | image/jpeg |
Grain Amount | 0 |
Green Hue | 0 |
Green Saturation | 0 |
Has Crop | True |
Has Settings | True |
Highlights 2012 | -25 |
Hue Adjustment Aqua | 0 |
Hue Adjustment Blue | 0 |
Hue Adjustment Green | 0 |
Hue Adjustment Magenta | 0 |
Hue Adjustment Orange | 0 |
Hue Adjustment Purple | 0 |
Hue Adjustment Red | 0 |
Hue Adjustment Yellow | 0 |
Hyperfocal Distance | 1.60 m |
ISO | 125 |
Image Description | von der Lüner Brücke |
Image Size | 5412x3602 |
Incremental Temperature | 0 |
Incremental Tint | 0 |
Label | Grün |
Lens | 24-200mm F2.8-4.5 |
Lens Info | 9-72mm f/2.8-4.5 |
Lens Manual Distortion Amount | 0 |
Lens Model | 24-200mm F2.8-4.5 |
Lens Profile Enable | 0 |
Lens Profile Setup | LensDefaults |
Light Source | Unknown |
Light Value | 14.0 |
Luminance Adjustment Aqua | 0 |
Luminance Adjustment Blue | 0 |
Luminance Adjustment Green | 0 |
Luminance Adjustment Magenta | 0 |
Luminance Adjustment Orange | 0 |
Luminance Adjustment Purple | 0 |
Luminance Adjustment Red | 0 |
Luminance Adjustment Yellow | 0 |
Luminance Smoothing | 0 |
Marked | True |
Metering Mode | Multi-segment |
Override Look Vignette | False |
Parametric Darks | 0 |
Parametric Highlight Split | 75 |
Parametric Highlights | 0 |
Parametric Lights | 0 |
Parametric Midtone Split | 50 |
Parametric Shadow Split | 25 |
Parametric Shadows | 0 |
Perspective Aspect | 0 |
Perspective Horizontal | 0 |
Perspective Rotate | 0.0 |
Perspective Scale | 100 |
Perspective Upright | 0 |
Perspective Vertical | 0 |
Perspective X | 0.00 |
Perspective Y | 0.00 |
Post Crop Vignette Amount | 0 |
Preserved File Name | DSC01317-Bearbeitet.tif |
Process Version | 11.0 |
Recommended Exposure Index | 125 |
Red Hue | 0 |
Red Saturation | 0 |
Rights | Bernhard Sonderhuesken |
Saturation | Normal |
Saturation Adjustment Aqua | 0 |
Saturation Adjustment Blue | 0 |
Saturation Adjustment Green | 0 |
Saturation Adjustment Magenta | 0 |
Saturation Adjustment Orange | 0 |
Saturation Adjustment Purple | 0 |
Saturation Adjustment Red | 0 |
Saturation Adjustment Yellow | 0 |
Scale Factor To 35 mm Equivalent | 2.7 |
Scene Capture Type | Standard |
Scene Type | Directly photographed |
Sensitivity Type | Recommended Exposure Index |
Shadow Tint | 0 |
Shadows 2012 | 0 |
Sharpen Detail | 25 |
Sharpen Edge Masking | 0 |
Sharpen Radius | +1.0 |
Sharpness | Normal |
Split Toning Balance | 0 |
Split Toning Highlight Hue | 0 |
Split Toning Highlight Saturation | 0 |
Split Toning Shadow Hue | 0 |
Split Toning Shadow Saturation | 0 |
Subject | Lueneburg, boat, deutschland, germany, ilmenau, niedersachsen, reflections, river |
Texture | 0 |
Title | Stintmarkt |
Tone Curve | 0, 0, 255, 255 |
Tone Curve Blue | 0, 0, 255, 255 |
Tone Curve Green | 0, 0, 255, 255 |
Tone Curve Name | Linear |
Tone Curve Name 2012 | Linear |
Tone Curve PV2012 | 0, 0, 255, 255 |
Tone Curve PV2012 Blue | 0, 0, 255, 255 |
Tone Curve PV2012 Green | 0, 0, 255, 255 |
Tone Curve PV2012 Red | 0, 0, 255, 255 |
Tone Curve Red | 0, 0, 255, 255 |
Tone Map Strength | 0 |
Version | 11.3 |
Vibrance | 0 |
Vignette Amount | 0 |
White Balance | Auto |
Whites 2012 | 0 |
GPS Information |
GPS Differential | No Correction |
GPS Latitude | 53 deg 15' 5.11" N |
GPS Latitude Ref | North |
GPS Longitude | 10 deg 24' 46.92" E |
GPS Longitude Ref | East |
GPS Map Datum | WGS-84 |
GPS Position | 53 deg 15' 5.11" N, 10 deg 24' 46.92" E |
GPS Status | Measurement Void |
GPS Version ID | 2.2.0.0 |