Shooting information for this photo
Camera: | FUJIFILM X-T1 |
Exposure: | 0.00059 sec. (1/1700) |
Aperture: | f/6.4 |
Focal Length: | 34.3 mm (35 mm equivalent: 51.0 mm) |
Flash: | Off, Did not fire |
Exposure mode: | Aperture-priority AE |
Max Aperture: | 2.8 |
Resolution: | 240 x 240 dpi |
Original Date: | 2015:09:10 12:05:28 |
Created on: | 2015:09:10 12:05:28 |
Modified on: | 2015:09:19 08:54:52 |
Software: | Adobe Photoshop Lightroom 6.0 (Windows) |
Copyright: | Bernhard Sonderhuesken |
Already Applied | True |
Artist | Bernhard Sonderhuesken |
Auto Lateral CA | 0 |
Auto White Version | 134348800 |
Blacks 2012 | -14 |
Blue Hue | 0 |
Blue Saturation | 0 |
Brightness Value | 10.42 |
Camera Profile | Adobe Standard |
Circle Of Confusion | 0.020 mm |
Clarity 2012 | 0 |
Color Noise Reduction | 25 |
Color Noise Reduction Detail | 50 |
Color Noise Reduction Smoothness | 50 |
Color Space | sRGB |
Color Temperature | 5150 |
Contrast 2012 | 0 |
Convert To Grayscale | False |
Country | Frankreich |
Country Code | FR |
Creator | Bernhard Sonderhuesken |
Crop Angle | 0 |
Crop Bottom | 0.957005 |
Crop Constrain To Warp | 0 |
Crop Left | 0 |
Crop Right | 0.981102 |
Crop Top | 0.099477 |
Custom Rendered | Normal |
Defringe Green Amount | 0 |
Defringe Green Hue Hi | 60 |
Defringe Green Hue Lo | 40 |
Defringe Purple Amount | 0 |
Defringe Purple Hue Hi | 70 |
Defringe Purple Hue Lo | 30 |
Description | Gouville-sur-mer, Cotentin |
Exposure 2012 | +0.24 |
Exposure Compensation | 0 |
Exposure Mode | Auto |
Field Of View | 38.9 deg |
Focal Length In 35mm Format | 51 mm |
Format | image/jpeg |
Grain Amount | 0 |
Green Hue | 0 |
Green Saturation | 0 |
Has Crop | True |
Has Settings | True |
Highlights 2012 | -100 |
Hue Adjustment Aqua | 0 |
Hue Adjustment Blue | 0 |
Hue Adjustment Green | 0 |
Hue Adjustment Magenta | 0 |
Hue Adjustment Orange | 0 |
Hue Adjustment Purple | 0 |
Hue Adjustment Red | 0 |
Hue Adjustment Yellow | 0 |
Hyperfocal Distance | 9.10 m |
ISO | 200 |
Image Description | Gouville-sur-mer, Cotentin |
Image Size | 4803x2799 |
Lens | XF18-55mmF2.8-4 R LM OIS |
Lens Info | 18-55mm f/2.8-4 |
Lens Make | FUJIFILM |
Lens Manual Distortion Amount | 0 |
Lens Model | XF18-55mmF2.8-4 R LM OIS |
Lens Profile Enable | 0 |
Lens Profile Setup | LensDefaults |
Light Source | Unknown |
Light Value | 15.1 |
Luminance Adjustment Aqua | 0 |
Luminance Adjustment Blue | 0 |
Luminance Adjustment Green | 0 |
Luminance Adjustment Magenta | 0 |
Luminance Adjustment Orange | 0 |
Luminance Adjustment Purple | 0 |
Luminance Adjustment Red | 0 |
Luminance Adjustment Yellow | 0 |
Luminance Smoothing | 0 |
Marked | True |
Metering Mode | Multi-segment |
Parametric Darks | 0 |
Parametric Highlight Split | 75 |
Parametric Highlights | 0 |
Parametric Lights | 0 |
Parametric Midtone Split | 50 |
Parametric Shadow Split | 25 |
Parametric Shadows | 0 |
Perspective Aspect | 0 |
Perspective Horizontal | 0 |
Perspective Rotate | 0.0 |
Perspective Scale | 100 |
Perspective Upright | 0 |
Perspective Vertical | 0 |
Post Crop Vignette Amount | -9 |
Post Crop Vignette Feather | 50 |
Post Crop Vignette Highlight Contrast | 0 |
Post Crop Vignette Midpoint | 50 |
Post Crop Vignette Roundness | 0 |
Post Crop Vignette Style | 1 |
Process Version | 6.7 |
Raw File Name | DSCF2884.jpg |
Red Hue | 0 |
Red Saturation | 0 |
Rights | Bernhard Sonderhuesken |
Saturation | 0 |
Saturation Adjustment Aqua | 0 |
Saturation Adjustment Blue | 0 |
Saturation Adjustment Green | 0 |
Saturation Adjustment Magenta | 0 |
Saturation Adjustment Orange | 0 |
Saturation Adjustment Purple | 0 |
Saturation Adjustment Red | 0 |
Saturation Adjustment Yellow | 0 |
Scale Factor To 35 mm Equivalent | 1.5 |
Scene Capture Type | Standard |
Scene Type | Directly photographed |
Sensing Method | One-chip color area |
Sensitivity Type | Standard Output Sensitivity |
Shadow Tint | 0 |
Shadows 2012 | 0 |
Sharpen Detail | 35 |
Sharpen Edge Masking | 0 |
Sharpen Radius | +0.8 |
Sharpness | Normal |
Split Toning Balance | 0 |
Split Toning Highlight Hue | 0 |
Split Toning Highlight Saturation | 0 |
Split Toning Shadow Hue | 0 |
Split Toning Shadow Saturation | 0 |
State | Basse-Normandie |
Subject | beach, beach huts, colors, colours, cotentin, france, gouville-sur-mer, huts, hütten, manche, normandie, plage, strand |
Subject Distance Range | Unknown |
Tint | +6 |
Title | Beach huts |
Tone Curve | 0, 0, 255, 255 |
Tone Curve Blue | 0, 0, 255, 255 |
Tone Curve Green | 0, 0, 255, 255 |
Tone Curve Name | Linear |
Tone Curve Name 2012 | Medium Contrast |
Tone Curve PV2012 | 0, 0, 32, 22, 64, 56, 128, 128, 192, 196, 255, 255 |
Tone Curve PV2012 Blue | 0, 0, 255, 255 |
Tone Curve PV2012 Green | 0, 0, 255, 255 |
Tone Curve PV2012 Red | 0, 0, 255, 255 |
Tone Curve Red | 0, 0, 255, 255 |
Version | 9.0 |
Vibrance | 0 |
Vignette Amount | 0 |
White Balance | Auto |
Whites 2012 | +54 |
GPS Information |
GPS Altitude | 10.5254 m |
GPS Latitude | 49 deg 5' 38.29" N |
GPS Latitude Ref | North |
GPS Longitude | 1 deg 36' 34.79" W |
GPS Longitude Ref | West |
GPS Position | 49 deg 5' 38.29" N, 1 deg 36' 34.79" W |
GPS Version ID | 2.2.0.0 |