Shooting information for this photo
Camera: | NIKON CORPORATION NIKON D750 |
Exposure: | 0.008 sec. (1/125) |
Aperture: | f/5.6 |
Focal Length: | 24.0 mm (35 mm equivalent: 24.0 mm) |
Flash: | Off, Did not fire |
Exposure mode: | Aperture-priority AE |
Max Aperture: | 3.6 |
Resolution: | 300 x 300 dpi |
Dimension: | 930 x 1300 pixels |
Original Date: | 2017:03:21 21:26:28.15 |
Created on: | 2017:03:21 21:26:28.15 |
Modified on: | 2017:05:20 13:17:07.15 |
Software: | Adobe Photoshop CS6 (Windows) |
Already Applied | True |
Approximate Focus Distance | 2.66 |
Auto Lateral CA | 0 |
Auto White Version | 134348800 |
Blacks 2012 | 0 |
Blue Hue | 0 |
Blue Saturation | 0 |
CFA Pattern | [Red,Green][Green,Blue] |
Camera Profile | Adobe Standard |
Circle Of Confusion | 0.030 mm |
Clarity 2012 | +33 |
Color Mode | RGB |
Color Noise Reduction | 25 |
Color Noise Reduction Detail | 50 |
Color Noise Reduction Smoothness | 50 |
Color Space | Uncalibrated |
Color Temperature | 5900 |
Contrast | Normal |
Contrast 2012 | 0 |
Convert To Grayscale | False |
Crop Angle | -4.385861 |
Crop Bottom | 0.780624 |
Crop Constrain To Warp | 1 |
Crop Height | 3 |
Crop Left | 0.065109 |
Crop Right | 0.886739 |
Crop Top | 0.089808 |
Crop Unit | Unknown (3) |
Crop Width | 2 |
Custom Rendered | Custom |
Date Created | 2017:03:21 21:26:28.015 |
Defringe Green Amount | 0 |
Defringe Green Hue Hi | 60 |
Defringe Green Hue Lo | 40 |
Defringe Purple Amount | 0 |
Defringe Purple Hue Hi | 70 |
Defringe Purple Hue Lo | 30 |
Digital Zoom Ratio | 1 |
Exposure 2012 | +0.50 |
Exposure Compensation | 0 |
Exposure Mode | Auto |
Field Of View | 73.7 deg |
Focal Length In 35mm Format | 24 mm |
Format | image/jpeg |
Gain Control | None |
Grain Amount | 0 |
Green Hue | 0 |
Green Saturation | 0 |
Has Crop | True |
Has Settings | True |
Highlights 2012 | 0 |
Hue Adjustment Aqua | 0 |
Hue Adjustment Blue | 0 |
Hue Adjustment Green | 0 |
Hue Adjustment Magenta | 0 |
Hue Adjustment Orange | 0 |
Hue Adjustment Purple | 0 |
Hue Adjustment Red | 0 |
Hue Adjustment Yellow | 0 |
Hyperfocal Distance | 3.42 m |
ICC Profile Name | Adobe RGB (1998) |
ISO | 100 |
Image Number | 8657 |
Image Size | 930x1300 |
Lens | 24.0-85.0 mm f/3.5-4.5 |
Lens ID | AF-S VR Zoom-Nikkor 24-85mm f/3.5-4.5G IF-ED |
Lens Info | 24-85mm f/3.5-4.5 |
Lens Manual Distortion Amount | 0 |
Lens Model | 24.0-85.0 mm f/3.5-4.5 |
Lens Profile Enable | 0 |
Lens Profile Setup | LensDefaults |
Light Source | Unknown |
Light Value | 11.9 |
Luminance Adjustment Aqua | 0 |
Luminance Adjustment Blue | 0 |
Luminance Adjustment Green | 0 |
Luminance Adjustment Magenta | 0 |
Luminance Adjustment Orange | 0 |
Luminance Adjustment Purple | 0 |
Luminance Adjustment Red | 0 |
Luminance Adjustment Yellow | 0 |
Luminance Smoothing | 0 |
Metering Mode | Multi-segment |
Parametric Darks | 0 |
Parametric Highlight Split | 75 |
Parametric Highlights | 0 |
Parametric Lights | 0 |
Parametric Midtone Split | 50 |
Parametric Shadow Split | 25 |
Parametric Shadows | 0 |
Perspective Aspect | 0 |
Perspective Horizontal | 0 |
Perspective Rotate | 0.0 |
Perspective Scale | 100 |
Perspective Upright | 0 |
Perspective Vertical | 0 |
Post Crop Vignette Amount | 0 |
Process Version | 6.7 |
Rating | 0 |
Raw File Name | DSC_8592.NEF |
Red Hue | 0 |
Red Saturation | 0 |
Saturation | Normal |
Saturation Adjustment Aqua | 0 |
Saturation Adjustment Blue | 0 |
Saturation Adjustment Green | 0 |
Saturation Adjustment Magenta | 0 |
Saturation Adjustment Orange | 0 |
Saturation Adjustment Purple | 0 |
Saturation Adjustment Red | 0 |
Saturation Adjustment Yellow | 0 |
Scale Factor To 35 mm Equivalent | 1.0 |
Scene Capture Type | Standard |
Scene Type | Directly photographed |
Sensing Method | One-chip color area |
Sensitivity Type | Recommended Exposure Index |
Shadow Tint | 0 |
Shadows 2012 | 0 |
Sharpen Detail | 25 |
Sharpen Edge Masking | 0 |
Sharpen Radius | +1.0 |
Sharpness | Normal |
Split Toning Balance | 0 |
Split Toning Highlight Hue | 0 |
Split Toning Highlight Saturation | 0 |
Split Toning Shadow Hue | 0 |
Split Toning Shadow Saturation | 0 |
Subject Distance Range | Unknown |
Tint | +4 |
Tone Curve | 0, 0, 32, 22, 64, 56, 128, 128, 192, 196, 255, 255 |
Tone Curve Blue | 0, 0, 255, 255 |
Tone Curve Green | 0, 0, 255, 255 |
Tone Curve Name | Medium Contrast |
Tone Curve Name 2012 | Linear |
Tone Curve PV2012 | 0, 0, 255, 255 |
Tone Curve PV2012 Blue | 0, 0, 255, 255 |
Tone Curve PV2012 Green | 0, 0, 255, 255 |
Tone Curve PV2012 Red | 0, 0, 255, 255 |
Tone Curve Red | 0, 0, 255, 255 |
Version | 8.7.1 |
Vibrance | +35 |
Vignette Amount | 0 |
White Balance | Auto |
Whites 2012 | 0 |