Shooting information for this photo
Camera: | NIKON CORPORATION NIKON D500 |
Exposure: | 0.0025 sec. (1/400) |
Aperture: | f/11.0 |
Focal Length: | 38.0 mm (35 mm equivalent: 57.0 mm) |
Flash: | No Flash |
Exposure mode: | Aperture-priority AE |
Max Aperture: | 3.4 |
Resolution: | 360 x 360 dpi |
Original Date: | 2017:03:19 09:41:20.17 |
Created on: | 2017:03:19 09:41:20.17 |
Modified on: | 2017:04:19 22:26:01 |
Software: | Adobe Photoshop Lightroom 6.10 (Macintosh) |
Copyright: | © Jakob Bärfuss, CH-8625 Gossau ZH, Schweiz - 2017 |
Already Applied | True |
Approximate Focus Distance | 4294967295 |
Artist | Jakob Bärfuss |
Auto Lateral CA | 0 |
Auto White Version | 134348800 |
Blacks 2012 | -32 |
Blue Hue | 0 |
Blue Saturation | 0 |
CFA Pattern | [Red,Green][Green,Blue] |
Camera Profile | Adobe Standard |
Circle Of Confusion | 0.020 mm |
Clarity 2012 | +30 |
Color Noise Reduction | 25 |
Color Noise Reduction Detail | 50 |
Color Noise Reduction Smoothness | 50 |
Color Space | sRGB |
Color Temperature | 5800 |
Contrast | Normal |
Contrast 2012 | 0 |
Convert To Grayscale | False |
Creator | Jakob Bärfuss |
Crop Angle | -1.19903 |
Crop Bottom | 0.969561 |
Crop Constrain To Warp | 0 |
Crop Left | 0.016911 |
Crop Right | 1 |
Crop Top | 0.030439 |
Custom Rendered | Normal |
Date Created | 2017:03:19 09:41:20.17 |
Defringe Green Amount | 0 |
Defringe Green Hue Hi | 60 |
Defringe Green Hue Lo | 40 |
Defringe Purple Amount | 0 |
Defringe Purple Hue Hi | 70 |
Defringe Purple Hue Lo | 30 |
Dehaze | 0 |
Exposure 2012 | +2.00 |
Exposure Compensation | -1 |
Exposure Mode | Auto |
Field Of View | 35.1 deg |
Focal Length In 35mm Format | 57 mm |
Format | image/jpeg |
Gain Control | Low gain up |
Grain Amount | 0 |
Green Hue | 0 |
Green Saturation | 0 |
Has Crop | True |
Has Settings | True |
Highlights 2012 | 0 |
Hue Adjustment Aqua | 0 |
Hue Adjustment Blue | 0 |
Hue Adjustment Green | 0 |
Hue Adjustment Magenta | 0 |
Hue Adjustment Orange | 0 |
Hue Adjustment Purple | 0 |
Hue Adjustment Red | 0 |
Hue Adjustment Yellow | 0 |
Hyperfocal Distance | 6.55 m |
ISO | 800 |
Image Number | 266 |
Image Size | 5400x3600 |
Lens | 16.0-80.0 mm f/2.8-4.0 |
Lens ID | AF-S DX Nikkor 18-300mm 3.5-5.6G ED VR |
Lens Info | 16-80mm f/2.8-4 |
Lens Manual Distortion Amount | 0 |
Lens Model | 16.0-80.0 mm f/2.8-4.0 |
Lens Profile Enable | 0 |
Lens Profile Setup | LensDefaults |
Light Source | Unknown |
Light Value | 12.6 |
Luminance Adjustment Aqua | 0 |
Luminance Adjustment Blue | 0 |
Luminance Adjustment Green | +30 |
Luminance Adjustment Magenta | 0 |
Luminance Adjustment Orange | +20 |
Luminance Adjustment Purple | 0 |
Luminance Adjustment Red | 0 |
Luminance Adjustment Yellow | +10 |
Luminance Noise Reduction Contrast | 0 |
Luminance Noise Reduction Detail | 50 |
Luminance Smoothing | 10 |
Marked | True |
Metering Mode | Center-weighted average |
Parametric Darks | -20 |
Parametric Highlight Split | 80 |
Parametric Highlights | +10 |
Parametric Lights | 0 |
Parametric Midtone Split | 46 |
Parametric Shadow Split | 25 |
Parametric Shadows | -5 |
Perspective Aspect | 0 |
Perspective Horizontal | 0 |
Perspective Rotate | 0.0 |
Perspective Scale | 100 |
Perspective Upright | 0 |
Perspective Vertical | 0 |
Perspective X | 0.00 |
Perspective Y | 0.00 |
Post Crop Vignette Amount | 0 |
Process Version | 6.7 |
Rating | 3 |
Red Hue | 0 |
Red Saturation | 0 |
Rights | © Jakob Bärfuss, CH-8625 Gossau ZH, Schweiz - 2017 |
Saturation | Normal |
Saturation Adjustment Aqua | 0 |
Saturation Adjustment Blue | 0 |
Saturation Adjustment Green | 0 |
Saturation Adjustment Magenta | 0 |
Saturation Adjustment Orange | +25 |
Saturation Adjustment Purple | 0 |
Saturation Adjustment Red | 0 |
Saturation Adjustment Yellow | 0 |
Scale Factor To 35 mm Equivalent | 1.5 |
Scene Capture Type | Standard |
Scene Type | Directly photographed |
Sensing Method | One-chip color area |
Sensitivity Type | Recommended Exposure Index |
Shadow Tint | 0 |
Shadows 2012 | 0 |
Sharpen Detail | 35 |
Sharpen Edge Masking | 5 |
Sharpen Radius | +1.0 |
Sharpness | Normal |
Split Toning Balance | 0 |
Split Toning Highlight Hue | 0 |
Split Toning Highlight Saturation | 0 |
Split Toning Shadow Hue | 0 |
Split Toning Shadow Saturation | 0 |
Subject | 01 Jakob |
Subject Distance Range | Unknown |
Tint | +7 |
Tone Curve | 0, 0, 255, 255 |
Tone Curve Blue | 0, 0, 255, 255 |
Tone Curve Green | 0, 0, 255, 255 |
Tone Curve Name | Linear |
Tone Curve Name 2012 | Linear |
Tone Curve PV2012 | 0, 0, 255, 255 |
Tone Curve PV2012 Blue | 0, 0, 255, 255 |
Tone Curve PV2012 Green | 0, 0, 255, 255 |
Tone Curve PV2012 Red | 0, 0, 255, 255 |
Tone Curve Red | 0, 0, 255, 255 |
Tone Map Strength | 0 |
Version | 9.10 |
Vibrance | +4 |
Vignette Amount | 0 |
White Balance | Auto |
Whites 2012 | +35 |