Shooting information for this photo
Camera: | NIKON CORPORATION NIKON D300 |
Exposure: | 0.008 sec. (1/125) |
Aperture: | f/11.0 |
Focal Length: | 60.0 mm (35 mm equivalent: 90.0 mm) |
Flash: | On, Return detected |
Exposure mode: | Manual |
Max Aperture: | 3.1 |
Resolution: | 240 x 240 dpi |
Original Date: | 2011:05:06 17:35:08.60 |
Created on: | 2011:05:06 17:35:08.60 |
Modified on: | 2011:11:26 22:55:11 |
Software: | Adobe Photoshop Lightroom 3.4.1 |
Copyright: | (C)2011 Jakob Bärfuss CH-8625 Gossau ZH, all rights reserved |
Already Applied | True |
Approximate Focus Distance | 0.32 |
Artist | Jakob Bärfuss |
Authors Position | Dipl. Naturwissenschafter (Botaniker) |
Blue Hue | 0 |
Blue Saturation | 0 |
Brightness | +50 |
CFA Pattern | [Red,Green][Green,Blue] |
Camera Profile | Adobe Standard |
Chromatic Aberration B | 0 |
Chromatic Aberration R | 0 |
Circle Of Confusion | 0.020 mm |
Clarity | +40 |
Color Noise Reduction | 30 |
Color Noise Reduction Detail | 50 |
Color Temperature | 4950 |
Contrast | Normal |
Convert To Grayscale | False |
Creator | Jakob Bärfuss |
Crop Angle | 0 |
Crop Bottom | 0.936214 |
Crop Constrain To Warp | 0 |
Crop Height | 2227 |
Crop Left | 0.282991 |
Crop Right | 0.698444 |
Crop Top | 0.154321 |
Crop Unit | pixels |
Crop Width | 1781 |
Custom Rendered | Normal |
Date Created | 2011:05:06 17:35:08.60+02:00 |
Defringe | 0 |
Depth Of Field | 0.010 m (0.315 - 0.325) |
Digital Zoom Ratio | 1 |
Exposure | +1.80 |
Exposure Compensation | -1/3 |
Exposure Mode | Manual |
Field Of View | 22.6 deg |
Fill Light | 5 |
Focal Length In 35mm Format | 90 mm |
Gain Control | None |
Grain Amount | 0 |
Green Hue | 0 |
Green Saturation | 0 |
Has Crop | True |
Has Settings | True |
Highlight Recovery | 15 |
Hue Adjustment Aqua | 0 |
Hue Adjustment Blue | 0 |
Hue Adjustment Green | -16 |
Hue Adjustment Magenta | 0 |
Hue Adjustment Orange | +10 |
Hue Adjustment Purple | 0 |
Hue Adjustment Red | 0 |
Hue Adjustment Yellow | -12 |
Hyperfocal Distance | 16.34 m |
ISO | 200 |
Image Number | 18881 |
Image Size | 1781x2227 |
Lens | 60.0 mm f/2.8 |
Lens ID | AF-S Micro Nikkor 60mm f/2.8G ED |
Lens Info | 60mm f/2.8 |
Lens Manual Distortion Amount | 0 |
Lens Model | 60.0 mm f/2.8 |
Lens Profile Enable | 0 |
Lens Profile Setup | LensDefaults |
Light Source | Unknown |
Light Value | 12.9 |
Luminance Adjustment Aqua | 0 |
Luminance Adjustment Blue | 0 |
Luminance Adjustment Green | 0 |
Luminance Adjustment Magenta | 0 |
Luminance Adjustment Orange | -20 |
Luminance Adjustment Purple | 0 |
Luminance Adjustment Red | 0 |
Luminance Adjustment Yellow | 0 |
Luminance Noise Reduction Contrast | 50 |
Luminance Noise Reduction Detail | 75 |
Luminance Smoothing | 25 |
Marked | True |
Metering Mode | Multi-segment |
Parametric Darks | -35 |
Parametric Highlight Split | 81 |
Parametric Highlights | -60 |
Parametric Lights | -30 |
Parametric Midtone Split | 70 |
Parametric Shadow Split | 25 |
Parametric Shadows | 0 |
Perspective Horizontal | 0 |
Perspective Rotate | 0.0 |
Perspective Scale | 100 |
Perspective Vertical | 0 |
Post Crop Vignette Amount | 0 |
Process Version | 5.7 |
Rating | 3 |
Red Hue | 0 |
Red Saturation | 0 |
Rights | (C)2011 Jakob Bärfuss CH-8625 Gossau ZH, all rights reserved |
Saturation | Normal |
Saturation Adjustment Aqua | 0 |
Saturation Adjustment Blue | 0 |
Saturation Adjustment Green | -15 |
Saturation Adjustment Magenta | 0 |
Saturation Adjustment Orange | -3 |
Saturation Adjustment Purple | 0 |
Saturation Adjustment Red | 0 |
Saturation Adjustment Yellow | 0 |
Scale Factor To 35 mm Equivalent | 1.5 |
Scene Capture Type | Standard |
Scene Type | Directly photographed |
Sensing Method | One-chip color area |
Shadow Tint | 0 |
Shadows | 0 |
Sharpen Detail | 45 |
Sharpen Edge Masking | 12 |
Sharpen Radius | +0.9 |
Sharpness | Normal |
Split Toning Balance | 0 |
Split Toning Highlight Hue | 0 |
Split Toning Highlight Saturation | 0 |
Split Toning Shadow Hue | 0 |
Split Toning Shadow Saturation | 0 |
Subject | 01 Jakob |
Subject Distance | 0.32 m |
Subject Distance Range | Unknown |
Tint | +4 |
Tone Curve | 0, 0, 32, 22, 64, 56, 128, 128, 192, 196, 255, 255 |
Tone Curve Name | Medium Contrast |
Usage Terms | Nur zur Ansicht, keine Vervielfältigung ohne vorherige Genehmigung |
Version | 6.4.1 |
Vibrance | +2 |
Vignette Amount | 0 |
White Balance | Auto |