Shooting information for this photo
Camera: | NIKON CORPORATION NIKON D300 |
Exposure: | 0.0025 sec. (1/400) |
Aperture: | f/11.0 |
Focal Length: | 105.0 mm (35 mm equivalent: 157.0 mm) |
Flash: | No Flash |
Exposure mode: | Aperture-priority AE |
Max Aperture: | 2.8 |
Resolution: | 240 x 240 dpi |
Original Date: | 2011:08:31 11:21:43.41 |
Created on: | 2011:08:31 11:21:43.41 |
Modified on: | 2011:09:02 22:53:41 |
Software: | Adobe Photoshop Lightroom 3.4.1 |
Copyright: | (C)2011 Jakob Bärfuss CH-8625 Gossau ZH, all rights reserved |
Already Applied | True |
Approximate Focus Distance | 2.99 |
Artist | Jakob Bärfuss |
Authors Position | Dipl. Naturwissenschafter (Botaniker) |
Blue Hue | 0 |
Blue Saturation | 0 |
Brightness | +50 |
CFA Pattern | [Red,Green][Green,Blue] |
Camera Profile | Adobe Standard |
Chromatic Aberration B | 0 |
Chromatic Aberration R | 0 |
Circle Of Confusion | 0.020 mm |
Clarity | +30 |
Color Noise Reduction | 35 |
Color Noise Reduction Detail | 50 |
Color Temperature | 4200 |
Contrast | Normal |
Convert To Grayscale | False |
Creator | Jakob Bärfuss |
Crop Angle | 0 |
Crop Bottom | 1 |
Crop Constrain To Warp | 0 |
Crop Height | 2552 |
Crop Left | 0.024624 |
Crop Right | 0.920657 |
Crop Top | 0.103967 |
Crop Unit | pixels |
Crop Width | 3842 |
Custom Rendered | Normal |
Date Created | 2011:08:31 11:21:43.41 |
Defringe | 0 |
Depth Of Field | 0.35 m (2.83 - 3.17) |
Digital Zoom Ratio | 1 |
Exposure | +0.60 |
Exposure Compensation | -2/3 |
Exposure Mode | Auto |
Field Of View | 13.1 deg |
Fill Light | 0 |
Focal Length In 35mm Format | 157 mm |
Gain Control | Low gain up |
Grain Amount | 0 |
Green Hue | 0 |
Green Saturation | 0 |
Has Crop | True |
Has Settings | True |
Highlight Recovery | 4 |
Hue Adjustment Aqua | 0 |
Hue Adjustment Blue | 0 |
Hue Adjustment Green | 0 |
Hue Adjustment Magenta | 0 |
Hue Adjustment Orange | 0 |
Hue Adjustment Purple | 0 |
Hue Adjustment Red | 0 |
Hue Adjustment Yellow | 0 |
Hyperfocal Distance | 49.88 m |
ISO | 400 |
Image Number | 22570 |
Image Size | 3842x2552 |
Lens | 105.0 mm f/2.8 |
Lens ID | AF-S VR Micro-Nikkor 105mm f/2.8G IF-ED |
Lens Info | 105mm f/2.8 |
Lens Manual Distortion Amount | 0 |
Lens Model | 105.0 mm f/2.8 |
Lens Profile Enable | 0 |
Lens Profile Setup | LensDefaults |
Light Source | Unknown |
Light Value | 13.6 |
Luminance Adjustment Aqua | 0 |
Luminance Adjustment Blue | 0 |
Luminance Adjustment Green | 0 |
Luminance Adjustment Magenta | 0 |
Luminance Adjustment Orange | 0 |
Luminance Adjustment Purple | 0 |
Luminance Adjustment Red | +21 |
Luminance Adjustment Yellow | +21 |
Luminance Noise Reduction Contrast | 0 |
Luminance Noise Reduction Detail | 50 |
Luminance Smoothing | 16 |
Marked | True |
Metering Mode | Multi-segment |
Parametric Darks | -10 |
Parametric Highlight Split | 90 |
Parametric Highlights | +30 |
Parametric Lights | -5 |
Parametric Midtone Split | 50 |
Parametric Shadow Split | 25 |
Parametric Shadows | 0 |
Perspective Horizontal | 0 |
Perspective Rotate | 0.0 |
Perspective Scale | 100 |
Perspective Vertical | 0 |
Post Crop Vignette Amount | 0 |
Process Version | 5.7 |
Rating | 3 |
Red Hue | 0 |
Red Saturation | 0 |
Rights | (C)2011 Jakob Bärfuss CH-8625 Gossau ZH, all rights reserved |
Saturation | Normal |
Saturation Adjustment Aqua | 0 |
Saturation Adjustment Blue | 0 |
Saturation Adjustment Green | -5 |
Saturation Adjustment Magenta | 0 |
Saturation Adjustment Orange | 0 |
Saturation Adjustment Purple | 0 |
Saturation Adjustment Red | 0 |
Saturation Adjustment Yellow | 0 |
Scale Factor To 35 mm Equivalent | 1.5 |
Scene Capture Type | Standard |
Scene Type | Directly photographed |
Sensing Method | One-chip color area |
Shadow Tint | 0 |
Shadows | 0 |
Sharpen Detail | 35 |
Sharpen Edge Masking | 30 |
Sharpen Radius | +1.0 |
Sharpness | Normal |
Split Toning Balance | 0 |
Split Toning Highlight Hue | 0 |
Split Toning Highlight Saturation | 0 |
Split Toning Shadow Hue | 0 |
Split Toning Shadow Saturation | 0 |
Subject | 01 Jakob |
Subject Distance | 2.99 m |
Subject Distance Range | Unknown |
Tint | +8 |
Tone Curve | 0, 0, 32, 22, 64, 56, 128, 128, 192, 196, 255, 255 |
Tone Curve Name | Medium Contrast |
Usage Terms | Nur zur Ansicht, keine Vervielfältigung ohne vorherige Genehmigung |
Version | 6.4.1 |
Vibrance | +4 |
Vignette Amount | 0 |
White Balance | Auto |