Shooting information for this photo
Camera: | NIKON CORPORATION NIKON D300 |
Exposure: | 0.004 sec. (1/250) |
Aperture: | f/16.0 |
Focal Length: | 50.0 mm (35 mm equivalent: 75.0 mm) |
Flash: | No Flash |
Exposure mode: | Shutter speed priority AE |
Max Aperture: | 4.4 |
Resolution: | 240 x 240 dpi |
Dimension: | 2848 x 2848 pixels |
Original Date: | 2009:06:18 14:39:23.06 |
Digitized Date: | 2009:06:18 14:39:23.06+02:00 |
Created on: | 2009:06:18 14:39:23.06 |
Modified on: | 2010:08:24 19:29:45 |
Software: | Nikon Transfer 1.0 W |
Copyright: | (C)2009 Jakob Barfuss CH-8625 Gossau ZH, all rights reserved |
Already Applied | True |
Authors Position | Dipl. Naturwissenschafter (Botaniker) |
Blue Hue | 0 |
Blue Saturation | 0 |
Brightness | +60 |
CFA Pattern | [Red,Green][Green,Blue] |
Camera Profile | Adobe Standard |
Chromatic Aberration B | 0 |
Chromatic Aberration R | 0 |
Circle Of Confusion | 0.020 mm |
Clarity | +30 |
Color Noise Reduction | 25 |
Color Temperature | 4500 |
Contrast | Normal |
Convert To Grayscale | False |
Creator | Jakob Bärfuss |
Crop Angle | 0 |
Crop Bottom | 1 |
Crop Height | 2848 |
Crop Left | 0.155598 |
Crop Right | 0.819778 |
Crop Top | 0 |
Crop Unit | pixels |
Crop Width | 2848 |
Custom Rendered | Normal |
Defringe | 0 |
Depth Of Field | 0.05 m (0.43 - 0.47) |
Digital Zoom Ratio | 1 |
Exposure | 0.00 |
Exposure Compensation | 0 |
Exposure Mode | Auto |
Field Of View | 27.0 deg |
Fill Light | 34 |
Flash Fired | False |
Flash Function | False |
Flash Mode | Unknown |
Flash Red Eye Mode | False |
Flash Return | No return detection |
Focal Length In 35mm Format | 75 mm |
Gain Control | None |
Green Hue | 0 |
Green Saturation | 0 |
Has Crop | True |
Has Settings | True |
Highlight Recovery | 0 |
Hue Adjustment Aqua | 0 |
Hue Adjustment Blue | 0 |
Hue Adjustment Green | 0 |
Hue Adjustment Magenta | 0 |
Hue Adjustment Orange | 0 |
Hue Adjustment Purple | 0 |
Hue Adjustment Red | 0 |
Hue Adjustment Yellow | 0 |
Hyperfocal Distance | 7.80 m |
ISO | 200 |
Image Number | 5671 |
Image Size | 2848x2848 |
Lens | 18.0-70.0 mm f/3.5-4.5 |
Lens Info | 18-70mm f/3.5-4.5 |
Light Source | Unknown |
Light Value | 15.0 |
Luminance Adjustment Aqua | 0 |
Luminance Adjustment Blue | 0 |
Luminance Adjustment Green | 0 |
Luminance Adjustment Magenta | 0 |
Luminance Adjustment Orange | 0 |
Luminance Adjustment Purple | 0 |
Luminance Adjustment Red | 0 |
Luminance Adjustment Yellow | +16 |
Luminance Smoothing | 0 |
Marked | True |
Metering Mode | Multi-segment |
Parametric Darks | -15 |
Parametric Highlight Split | 75 |
Parametric Highlights | +20 |
Parametric Lights | +5 |
Parametric Midtone Split | 50 |
Parametric Shadow Split | 25 |
Parametric Shadows | +32 |
Post Crop Vignette Amount | 0 |
Red Hue | 0 |
Red Saturation | 0 |
Rights | (C)2009 Jakob Bärfuss CH-8625 Gossau ZH, all rights reserved |
Saturation | Normal |
Saturation Adjustment Aqua | 0 |
Saturation Adjustment Blue | 0 |
Saturation Adjustment Green | 0 |
Saturation Adjustment Magenta | 0 |
Saturation Adjustment Orange | 0 |
Saturation Adjustment Purple | 0 |
Saturation Adjustment Red | 0 |
Saturation Adjustment Yellow | 0 |
Saved Settings Name | Importieren |
Saved Settings Parameters Blue Hue | 0 |
Saved Settings Parameters Blue Saturation | 0 |
Saved Settings Parameters Brightness | 0 |
Saved Settings Parameters Camera Profile | Embedded |
Saved Settings Parameters Chromatic Aberration B | 0 |
Saved Settings Parameters Chromatic Aberration R | 0 |
Saved Settings Parameters Clarity | 0 |
Saved Settings Parameters Color Noise Reduction | 0 |
Saved Settings Parameters Contrast | 0 |
Saved Settings Parameters Convert To Grayscale | False |
Saved Settings Parameters Defringe | 0 |
Saved Settings Parameters Exposure | 0.00 |
Saved Settings Parameters Fill Light | 0 |
Saved Settings Parameters Green Hue | 0 |
Saved Settings Parameters Green Saturation | 0 |
Saved Settings Parameters Highlight Recovery | 0 |
Saved Settings Parameters Hue Adjustment Aqua | 0 |
Saved Settings Parameters Hue Adjustment Blue | 0 |
Saved Settings Parameters Hue Adjustment Green | 0 |
Saved Settings Parameters Hue Adjustment Magenta | 0 |
Saved Settings Parameters Hue Adjustment Orange | 0 |
Saved Settings Parameters Hue Adjustment Purple | 0 |
Saved Settings Parameters Hue Adjustment Red | 0 |
Saved Settings Parameters Hue Adjustment Yellow | 0 |
Saved Settings Parameters Incremental Temperature | 0 |
Saved Settings Parameters Incremental Tint | 0 |
Saved Settings Parameters Luminance Adjustment Aqua | 0 |
Saved Settings Parameters Luminance Adjustment Blue | 0 |
Saved Settings Parameters Luminance Adjustment Green | 0 |
Saved Settings Parameters Luminance Adjustment Magenta | 0 |
Saved Settings Parameters Luminance Adjustment Orange | 0 |
Saved Settings Parameters Luminance Adjustment Purple | 0 |
Saved Settings Parameters Luminance Adjustment Red | 0 |
Saved Settings Parameters Luminance Adjustment Yellow | 0 |
Saved Settings Parameters Luminance Smoothing | 0 |
Saved Settings Parameters Parametric Darks | 0 |
Saved Settings Parameters Parametric Highlight Split | 75 |
Saved Settings Parameters Parametric Highlights | 0 |
Saved Settings Parameters Parametric Lights | 0 |
Saved Settings Parameters Parametric Midtone Split | 50 |
Saved Settings Parameters Parametric Shadow Split | 25 |
Saved Settings Parameters Parametric Shadows | 0 |
Saved Settings Parameters Post Crop Vignette Amount | 0 |
Saved Settings Parameters Red Hue | 0 |
Saved Settings Parameters Red Saturation | 0 |
Saved Settings Parameters Saturation | 0 |
Saved Settings Parameters Saturation Adjustment Aqua | 0 |
Saved Settings Parameters Saturation Adjustment Blue | 0 |
Saved Settings Parameters Saturation Adjustment Green | 0 |
Saved Settings Parameters Saturation Adjustment Magenta | 0 |
Saved Settings Parameters Saturation Adjustment Orange | 0 |
Saved Settings Parameters Saturation Adjustment Purple | 0 |
Saved Settings Parameters Saturation Adjustment Red | 0 |
Saved Settings Parameters Saturation Adjustment Yellow | 0 |
Saved Settings Parameters Shadow Tint | 0 |
Saved Settings Parameters Shadows | 0 |
Saved Settings Parameters Sharpen Detail | 25 |
Saved Settings Parameters Sharpen Edge Masking | 0 |
Saved Settings Parameters Sharpen Radius | +1.0 |
Saved Settings Parameters Sharpness | 0 |
Saved Settings Parameters Split Toning Balance | 0 |
Saved Settings Parameters Split Toning Highlight Hue | 0 |
Saved Settings Parameters Split Toning Highlight Saturation | 0 |
Saved Settings Parameters Split Toning Shadow Hue | 0 |
Saved Settings Parameters Split Toning Shadow Saturation | 0 |
Saved Settings Parameters Tone Curve | 0, 0, 255, 255 |
Saved Settings Parameters Tone Curve Name | Linear |
Saved Settings Parameters Version | 5.7 |
Saved Settings Parameters Vibrance | 0 |
Saved Settings Parameters Vignette Amount | 0 |
Saved Settings Parameters White Balance | As Shot |
Saved Settings Type | Snapshot |
Scale Factor To 35 mm Equivalent | 1.5 |
Scene Capture Type | Standard |
Scene Type | Directly photographed |
Sensing Method | One-chip color area |
Shadow Tint | 0 |
Shadows | 5 |
Sharpen Detail | 40 |
Sharpen Edge Masking | 16 |
Sharpen Radius | +1.0 |
Sharpness | Normal |
Split Toning Balance | 0 |
Split Toning Highlight Hue | 0 |
Split Toning Highlight Saturation | 0 |
Split Toning Shadow Hue | 0 |
Split Toning Shadow Saturation | 0 |
Subject | 01 Jakob |
Subject Distance | 0.45 m |
Subject Distance Range | Unknown |
Tint | 0 |
Title | E-3 1x1 V-1 -> Flickr 2010-08-24 |
Tone Curve | 0, 0, 32, 22, 64, 56, 128, 128, 192, 196, 255, 255 |
Tone Curve Name | Medium Contrast |
Usage Terms | Nur zur Ansicht, keine Vervielfältigung ohne vorherige Genehmigung |
Version | 5.7 |
Vibrance | +3 |
Vignette Amount | 0 |
White Balance | Auto |