Shooting information for this photo
Camera: | SONY DSLR-A900 |
Exposure: | 0.00125 sec. (1/800) |
Aperture: | f/7.1 |
Focal Length: | 400.0 mm (35 mm equivalent: 400.0 mm) |
Flash: | Off, Did not fire |
Exposure mode: | Aperture-priority AE |
Max Aperture: | 5.6 |
Resolution: | 240 x 240 dpi |
Original Date: | 2014:07:01 09:30:18 |
Created on: | 2014:07:01 09:30:18 |
Modified on: | 2014:07:01 19:16:15 |
Software: | Adobe Photoshop Lightroom 5.5 (Windows) |
Already Applied | True |
Auto Lateral CA | 1 |
Auto White Version | 134348800 |
Blacks 2012 | -33 |
Blue Hue | 0 |
Blue Saturation | 0 |
Brightness Value | 8.87 |
Camera Profile | Adobe Standard |
Circle Of Confusion | 0.030 mm |
Clarity 2012 | +62 |
Color Noise Reduction | 25 |
Color Noise Reduction Detail | 50 |
Color Noise Reduction Smoothness | 50 |
Color Space | sRGB |
Color Temperature | 7043 |
Contrast | Normal |
Contrast 2012 | +33 |
Convert To Grayscale | True |
Crop Angle | 1.83914 |
Crop Bottom | 1 |
Crop Constrain To Warp | 0 |
Crop Left | 0.033187 |
Crop Right | 0.966813 |
Crop Top | 0 |
Custom Rendered | Normal |
Date Created | 2014:07:01 09:30:18 |
Description | SONY DSC |
Exposure 2012 | +0.25 |
Exposure Compensation | +0.7 |
Exposure Mode | Auto |
Field Of View | 5.2 deg |
Focal Length In 35mm Format | 400 mm |
Format | image/jpeg |
Grain Amount | 0 |
Gray Mixer Aqua | -19 |
Gray Mixer Blue | +8 |
Gray Mixer Green | +37 |
Gray Mixer Magenta | +3 |
Gray Mixer Orange | -18 |
Gray Mixer Purple | +14 |
Gray Mixer Red | -9 |
Gray Mixer Yellow | -2 |
Green Hue | 0 |
Green Saturation | 0 |
Has Crop | True |
Has Settings | True |
Highlights 2012 | +8 |
Hyperfocal Distance | 750.02 m |
ISO | 400 |
Image Description | SONY DSC |
Image Size | 5773x3849 |
Lens | 70-400mm F4.0-5.6 G SSM |
Lens ID | Sony 70-400mm F4-5.6 G SSM (SAL70400G) |
Lens Info | 70-400mm f/4-5.6 |
Lens Manual Distortion Amount | 0 |
Lens Model | 70-400mm F4.0-5.6 G SSM |
Lens Profile Chromatic Aberration Scale | 100 |
Lens Profile Distortion Scale | 100 |
Lens Profile Enable | 0 |
Lens Profile Filename | SONY (Sony 135mm F1.8 ZA) - RAW.lcp |
Lens Profile Name | Adobe (Sony 135mm F1.8 ZA) |
Lens Profile Setup | Custom |
Lens Profile Vignetting Scale | 100 |
Light Source | Flash |
Light Value | 13.3 |
Luminance Noise Reduction Contrast | 0 |
Luminance Noise Reduction Detail | 50 |
Luminance Smoothing | 34 |
Metering Mode | Multi-segment |
Parametric Darks | 0 |
Parametric Highlight Split | 75 |
Parametric Highlights | 0 |
Parametric Lights | 0 |
Parametric Midtone Split | 50 |
Parametric Shadow Split | 25 |
Parametric Shadows | 0 |
Perspective Aspect | 0 |
Perspective Horizontal | 0 |
Perspective Rotate | 0.0 |
Perspective Scale | 100 |
Perspective Upright | 0 |
Perspective Vertical | 0 |
Post Crop Vignette Amount | -13 |
Post Crop Vignette Feather | 58 |
Post Crop Vignette Highlight Contrast | 31 |
Post Crop Vignette Midpoint | 43 |
Post Crop Vignette Roundness | -25 |
Post Crop Vignette Style | 1 |
Process Version | 6.7 |
Red Hue | 0 |
Red Saturation | 0 |
Saturation | Normal |
Scale Factor To 35 mm Equivalent | 1.0 |
Scene Capture Type | Standard |
Scene Type | Directly photographed |
Shadow Tint | 0 |
Shadows 2012 | +40 |
Sharpen Detail | 72 |
Sharpen Edge Masking | 53 |
Sharpen Radius | +2.6 |
Sharpness | Normal |
Split Toning Balance | 0 |
Split Toning Highlight Hue | 0 |
Split Toning Highlight Saturation | 0 |
Split Toning Shadow Hue | 0 |
Split Toning Shadow Saturation | 0 |
Tint | -1 |
Tone Curve | 0, 0, 255, 255 |
Tone Curve Blue | 0, 0, 255, 255 |
Tone Curve Green | 0, 0, 255, 255 |
Tone Curve Name | Linear |
Tone Curve Name 2012 | Linear |
Tone Curve PV2012 | 0, 0, 255, 255 |
Tone Curve PV2012 Blue | 0, 0, 255, 255 |
Tone Curve PV2012 Green | 0, 0, 255, 255 |
Tone Curve PV2012 Red | 0, 0, 255, 255 |
Tone Curve Red | 0, 0, 255, 255 |
Version | 8.5 |
Vignette Amount | 0 |
White Balance | Manual |
Whites 2012 | +52 |