Shooting information for this photo
Camera: | NIKON CORPORATION NIKON D810 |
Exposure: | 0.004 sec. (1/250) |
Aperture: | f/4.0 |
Focal Length: | 50.0 mm (35 mm equivalent: 50.0 mm) |
Flash: | Off, Did not fire |
Exposure mode: | Aperture-priority AE |
Max Aperture: | 1.7 |
Resolution: | 240 x 240 dpi |
Original Date: | 2019:01:07 16:03:05.35 |
Created on: | 2019:01:07 16:03:05.35 |
Modified on: | 2020:01:12 10:57:50 |
Software: | Adobe Lightroom 3.1 (Macintosh) |
Already Applied | True |
Approximate Focus Distance | 0.47 |
Auto Lateral CA | 0 |
Blacks 2012 | -30 |
Blue Hue | 0 |
Blue Saturation | 0 |
CFA Pattern | [Red,Green][Green,Blue] |
Camera Profile | Adobe Standard |
Circle Of Confusion | 0.030 mm |
Clarity 2012 | +20 |
Color Noise Reduction | 25 |
Color Noise Reduction Detail | 50 |
Color Noise Reduction Smoothness | 50 |
Color Space | sRGB |
Color Temperature | 4950 |
Contrast | Normal |
Contrast 2012 | +50 |
Convert To Grayscale | True |
Crop Angle | 0 |
Crop Bottom | 1 |
Crop Constrain To Warp | 0 |
Crop Left | 0.09009 |
Crop Right | 1 |
Crop Top | 0.09009 |
Custom Rendered | Normal |
Date Created | 2019:01:07 16:03:05.35 |
Dehaze | 0 |
Digital Zoom Ratio | 1 |
Exposure 2012 | -1.28 |
Exposure Compensation | 0 |
Exposure Mode | Auto |
Field Of View | 39.6 deg |
Focal Length In 35mm Format | 50 mm |
Format | image/jpeg |
Gain Control | None |
Grain Amount | 0 |
Gray Mixer Aqua | -16 |
Gray Mixer Blue | +15 |
Gray Mixer Green | -28 |
Gray Mixer Magenta | +4 |
Gray Mixer Orange | -21 |
Gray Mixer Purple | +19 |
Gray Mixer Red | -12 |
Gray Mixer Yellow | -25 |
Green Hue | 0 |
Green Saturation | 0 |
Has Crop | True |
Has Settings | True |
Highlights 2012 | +20 |
Hyperfocal Distance | 20.80 m |
ISO | 250 |
Image Number | 4447 |
Image Size | 6697x4470 |
Lens | 50.0 mm f/1.8 |
Lens ID | AF-S Nikkor 50mm f/1.8G |
Lens Info | 50mm f/1.8 |
Lens Manual Distortion Amount | 0 |
Lens Model | 50.0 mm f/1.8 |
Lens Profile Enable | 0 |
Lens Profile Setup | LensDefaults |
Light Source | Fine Weather |
Light Value | 10.6 |
Look Amount | 1.200000 |
Look Cluster | Adobe |
Look Group | B&W |
Look Name | B&W 11 |
Look Parameters Clarity 2012 | +18 |
Look Parameters Contrast 2012 | +8 |
Look Parameters Convert To Grayscale | True |
Look Parameters Highlights 2012 | -50 |
Look Parameters Look Table | 62CE423BDCA099FE0B786CA01EB606 B0 |
Look Parameters Process Version | 11.0 |
Look Parameters Shadows 2012 | +20 |
Look Parameters Tone Curve PV2012 | 0, 24, 17, 26, 34, 31, 51, 40, 68, 57, 85, 79, 102, 104, 119, 129, 136, 151, 153, 168, 170, 182, 187, 194, 204, 205, 221, 214, 238, 223, 255, 232 |
Look Parameters Tone Curve PV2012 Blue | 0, 0, 255, 255 |
Look Parameters Tone Curve PV2012 Green | 0, 0, 255, 255 |
Look Parameters Tone Curve PV2012 Red | 0, 0, 255, 255 |
Look Parameters Version | 12.1 |
Look Sort Name | B&W 11 |
Look Supports Monochrome | false |
Luminance Smoothing | 0 |
Metering Mode | Multi-segment |
Override Look Vignette | False |
Parametric Darks | 0 |
Parametric Highlight Split | 75 |
Parametric Highlights | 0 |
Parametric Lights | 0 |
Parametric Midtone Split | 50 |
Parametric Shadow Split | 25 |
Parametric Shadows | 0 |
Perspective Aspect | 0 |
Perspective Horizontal | 0 |
Perspective Rotate | 0.0 |
Perspective Scale | 100 |
Perspective Upright | 0 |
Perspective Vertical | 0 |
Perspective X | 0.00 |
Perspective Y | 0.00 |
Post Crop Vignette Amount | 0 |
Process Version | 11.0 |
Raw File Name | DSC_4416.NEF |
Red Hue | 0 |
Red Saturation | 0 |
Saturation | Normal |
Scale Factor To 35 mm Equivalent | 1.0 |
Scene Capture Type | Standard |
Scene Type | Directly photographed |
Sensing Method | One-chip color area |
Sensitivity Type | Recommended Exposure Index |
Shadow Tint | 0 |
Shadows 2012 | 0 |
Sharpen Detail | 25 |
Sharpen Edge Masking | 0 |
Sharpen Radius | +1.0 |
Sharpness | Normal |
Split Toning Balance | 0 |
Split Toning Highlight Hue | 0 |
Split Toning Highlight Saturation | 0 |
Split Toning Shadow Hue | 0 |
Split Toning Shadow Saturation | 0 |
Subject Distance Range | Unknown |
Texture | 0 |
Tint | -19 |
Tone Curve | 0, 0, 255, 255 |
Tone Curve Blue | 0, 0, 255, 255 |
Tone Curve Green | 0, 0, 255, 255 |
Tone Curve Name | Linear |
Tone Curve Name 2012 | Linear |
Tone Curve PV2012 | 0, 0, 255, 255 |
Tone Curve PV2012 Blue | 0, 0, 255, 255 |
Tone Curve PV2012 Green | 0, 0, 255, 255 |
Tone Curve PV2012 Red | 0, 0, 255, 255 |
Tone Curve Red | 0, 0, 255, 255 |
Tone Map Strength | 0 |
Version | 12.1 |
Vignette Amount | 0 |
White Balance | Manual |
Whites 2012 | +25 |