Shooting information for this photo
Camera: | NIKON CORPORATION NIKON D810 |
Exposure: | 0.025 sec. (1/40) |
Aperture: | f/2.2 |
Focal Length: | 50.0 mm (35 mm equivalent: 50.0 mm) |
Flash: | Off, Did not fire |
Exposure mode: | Shutter speed priority AE |
Max Aperture: | 1.7 |
Resolution: | 240 x 240 dpi |
Original Date: | 2016:05:02 09:28:28.61 |
Created on: | 2016:05:02 09:28:28.61 |
Modified on: | 2016:05:02 11:44:52 |
Software: | Adobe Photoshop Lightroom 6.0 (Macintosh) |
Already Applied | True |
Approximate Focus Distance | 0.63 |
Auto Lateral CA | 0 |
Auto White Version | 134348800 |
Blacks 2012 | 0 |
Blue Hue | 0 |
Blue Saturation | 0 |
CFA Pattern | [Red,Green][Green,Blue] |
Camera Profile | Adobe Standard |
Circle Of Confusion | 0.030 mm |
Clarity 2012 | +22 |
Color Noise Reduction | 25 |
Color Noise Reduction Detail | 50 |
Color Noise Reduction Smoothness | 50 |
Color Temperature | 2889 |
Contrast | Normal |
Contrast 2012 | +19 |
Convert To Grayscale | True |
Crop Angle | 0 |
Crop Bottom | 0.997977 |
Crop Constrain To Warp | 0 |
Crop Left | 0.039587 |
Crop Right | 0.92823 |
Crop Top | 0.109334 |
Custom Rendered | Normal |
Digital Zoom Ratio | 1 |
Exposure 2012 | 0.00 |
Exposure Compensation | 0 |
Exposure Mode | Auto |
Field Of View | 39.6 deg |
Focal Length In 35mm Format | 50 mm |
Format | image/jpeg |
Gain Control | Low gain up |
Grain Amount | 0 |
Gray Mixer Aqua | -21 |
Gray Mixer Blue | +3 |
Gray Mixer Green | -22 |
Gray Mixer Magenta | +7 |
Gray Mixer Orange | -11 |
Gray Mixer Purple | +13 |
Gray Mixer Red | -1 |
Gray Mixer Yellow | -15 |
Green Hue | 0 |
Green Saturation | 0 |
Has Crop | True |
Has Settings | True |
Highlights 2012 | -30 |
Hyperfocal Distance | 37.82 m |
ISO | 640 |
Image Number | 1768 |
Image Size | 6540x4365 |
Lens | 50.0 mm f/1.8 |
Lens ID | AF-S Nikkor 50mm f/1.8G |
Lens Info | 50mm f/1.8 |
Lens Manual Distortion Amount | 0 |
Lens Model | 50.0 mm f/1.8 |
Lens Profile Enable | 0 |
Lens Profile Setup | LensDefaults |
Light Source | Fine Weather |
Light Value | 4.9 |
Luminance Smoothing | 0 |
Metering Mode | Multi-segment |
Parametric Darks | 0 |
Parametric Highlight Split | 75 |
Parametric Highlights | 0 |
Parametric Lights | 0 |
Parametric Midtone Split | 50 |
Parametric Shadow Split | 25 |
Parametric Shadows | 0 |
Perspective Aspect | 0 |
Perspective Horizontal | 0 |
Perspective Rotate | 0.0 |
Perspective Scale | 100 |
Perspective Upright | 0 |
Perspective Vertical | 0 |
Post Crop Vignette Amount | 0 |
Process Version | 6.7 |
Raw File Name | DSC_1759.jpg |
Red Hue | 0 |
Red Saturation | 0 |
Saturation | Normal |
Scale Factor To 35 mm Equivalent | 1.0 |
Scene Capture Type | Standard |
Scene Type | Directly photographed |
Sensing Method | One-chip color area |
Sensitivity Type | Recommended Exposure Index |
Shadow Tint | 0 |
Shadows 2012 | 0 |
Sharpen Detail | 25 |
Sharpen Edge Masking | 0 |
Sharpen Radius | +1.0 |
Sharpness | Normal |
Split Toning Balance | 0 |
Split Toning Highlight Hue | 0 |
Split Toning Highlight Saturation | 0 |
Split Toning Shadow Hue | 0 |
Split Toning Shadow Saturation | 0 |
Subject Distance Range | Unknown |
Tint | -9 |
Tone Curve | 0, 0, 255, 255 |
Tone Curve Blue | 0, 0, 255, 255 |
Tone Curve Green | 0, 0, 255, 255 |
Tone Curve Name | Linear |
Tone Curve Name 2012 | Linear |
Tone Curve PV2012 | 0, 0, 255, 255 |
Tone Curve PV2012 Blue | 0, 0, 255, 255 |
Tone Curve PV2012 Green | 0, 0, 255, 255 |
Tone Curve PV2012 Red | 0, 0, 255, 255 |
Tone Curve Red | 0, 0, 255, 255 |
Version | 9.0 |
Vignette Amount | 0 |
White Balance | Manual |
Whites 2012 | 0 |