Shooting information for this photo
Camera: | SONY NEX-5 |
Exposure: | 0.01667 sec. (1/60) |
Aperture: | f/2.8 |
Focal Length: | 16.0 mm |
Flash: | Off, Did not fire |
Exposure mode: | Shutter speed priority AE |
Max Aperture: | 2.8 |
Resolution: | 300 x 300 dpi |
Original Date: | 2013:03:27 21:52:36 |
Created on: | 2013:03:27 21:52:36 |
Modified on: | 2013:04:09 18:36:18 |
Software: | Adobe Photoshop Lightroom 4.3 (Macintosh) |
Already Applied | True |
Auto Lateral CA | 1 |
Blacks 2012 | +50 |
Blue Hue | +3 |
Blue Saturation | -21 |
Brightness Value | -3.25 |
Camera Profile | X100 Weide Portrait |
Clarity 2012 | +36 |
Color Noise Reduction | 25 |
Color Noise Reduction Detail | 53 |
Contrast 2012 | -45 |
Convert To Grayscale | True |
Date Created | 2013:03:27 21:52:36 |
Exposure 2012 | +1.05 |
Exposure Compensation | 0 |
Format | image/jpeg |
Grain Amount | 0 |
Gray Mixer Aqua | 0 |
Gray Mixer Blue | 0 |
Gray Mixer Green | 0 |
Gray Mixer Magenta | 0 |
Gray Mixer Orange | +6 |
Gray Mixer Purple | 0 |
Gray Mixer Red | +30 |
Gray Mixer Yellow | 0 |
Green Hue | +3 |
Green Saturation | +10 |
Has Crop | False |
Has Settings | True |
Highlights 2012 | +26 |
ISO | 1600 |
Image Size | 3543x2358 |
Incremental Temperature | +26 |
Incremental Tint | -22 |
Lens Manual Distortion Amount | 0 |
Lens Profile Chromatic Aberration Scale | 100 |
Lens Profile Distortion Scale | 100 |
Lens Profile Enable | 1 |
Lens Profile Filename | DSLR-A700 (Sony DT 18-200mm f3.5-6.3).lcp |
Lens Profile Name | Adobe (Sony DT 18-200mm f/3.5-6.3) |
Lens Profile Setup | Custom |
Lens Profile Vignetting Scale | 100 |
Light Source | Unknown |
Light Value | 4.9 |
Luminance Noise Reduction Contrast | 26 |
Luminance Noise Reduction Detail | 0 |
Luminance Smoothing | 77 |
Metering Mode | Center-weighted average |
Parametric Darks | 0 |
Parametric Highlight Split | 75 |
Parametric Highlights | 0 |
Parametric Lights | +45 |
Parametric Midtone Split | 50 |
Parametric Shadow Split | 25 |
Parametric Shadows | -22 |
Perspective Horizontal | 0 |
Perspective Rotate | 0.0 |
Perspective Scale | 100 |
Perspective Vertical | 0 |
Post Crop Vignette Amount | -21 |
Post Crop Vignette Feather | 50 |
Post Crop Vignette Highlight Contrast | 0 |
Post Crop Vignette Midpoint | 50 |
Post Crop Vignette Roundness | 0 |
Post Crop Vignette Style | 1 |
Process Version | 6.7 |
Red Hue | +3 |
Red Saturation | -10 |
Shadow Tint | 0 |
Shadows 2012 | +38 |
Sharpen Detail | 34 |
Sharpen Edge Masking | 59 |
Sharpen Radius | +1.6 |
Sharpness | 58 |
Split Toning Balance | 0 |
Split Toning Highlight Hue | 55 |
Split Toning Highlight Saturation | 3 |
Split Toning Shadow Hue | 79 |
Split Toning Shadow Saturation | 4 |
Tone Curve Name 2012 | Custom |
Tone Curve PV2012 | 0, 0, 17, 17, 34, 34, 51, 51, 68, 68, 85, 85, 102, 102, 119, 119, 136, 136, 153, 153, 170, 171, 187, 187, 204, 203, 221, 218, 238, 233, 255, 247 |
Tone Curve PV2012 Blue | 0, 0, 255, 255 |
Tone Curve PV2012 Green | 0, 0, 255, 255 |
Tone Curve PV2012 Red | 0, 0, 255, 255 |
Version | 7.3 |
Vignette Amount | -29 |
Vignette Midpoint | 17 |
White Balance | Custom |
Whites 2012 | -31 |