Shooting information for this photo
Camera: | NIKON CORPORATION NIKON D5100 |
Exposure: | 0.00556 sec. (1/180) |
Aperture: | f/11.0 |
Focal Length: | 55.0 mm (35 mm equivalent: 82.0 mm) |
Flash: | No Flash |
Exposure mode: | Manual |
Max Aperture: | 5.7 |
Resolution: | 120 x 120 dpi |
Dimension: | 1632 x 1632 pixels |
Original Date: | 2017:03:24 15:33:46.40 |
Created on: | 2017:03:24 15:33:46.40 |
Modified on: | 2017:04:23 00:31:28.40 |
Software: | Adobe Photoshop CS6 (Windows) |
Copyright: | (C)2011 {su nombre}, reservados todos los derechos |
Already Applied | True |
Approximate Focus Distance | 4294967295 |
Artist | Gerardo Antonel |
Authors Position | Usuario de cámara digital Nikon |
Auto Lateral CA | 0 |
Blacks 2012 | +56 |
Blue Hue | 0 |
Blue Saturation | 0 |
Brightness | +50 |
Camera Profile | Adobe Standard |
Circle Of Confusion | 0.020 mm |
Clarity | 0 |
Clarity 2012 | +60 |
Color Mode | RGB |
Color Noise Reduction | 25 |
Color Noise Reduction Detail | 50 |
Color Space | Uncalibrated |
Color Temperature | 5550 |
Contrast | Normal |
Contrast 2012 | +34 |
Convert To Grayscale | False |
Creator | Gerardo Antonel |
Custom Rendered | Normal |
Date Created | 2017:03:24 15:33:46.004 |
Defringe | 0 |
Digital Zoom Ratio | 1 |
Exposure | 0.00 |
Exposure 2012 | -0.20 |
Exposure Compensation | 0 |
Exposure Mode | Manual |
Field Of View | 24.8 deg |
Fill Light | 0 |
Focal Length In 35mm Format | 82 mm |
Format | image/jpeg |
Gain Control | None |
Grain Amount | 0 |
Green Hue | 0 |
Green Saturation | 0 |
Has Crop | False |
Has Settings | True |
Highlight Recovery | 0 |
Highlights 2012 | 0 |
Hue Adjustment Aqua | 0 |
Hue Adjustment Blue | 0 |
Hue Adjustment Green | 0 |
Hue Adjustment Magenta | 0 |
Hue Adjustment Orange | 0 |
Hue Adjustment Purple | 0 |
Hue Adjustment Red | 0 |
Hue Adjustment Yellow | 0 |
Hyperfocal Distance | 13.65 m |
ICC Profile Name | Adobe RGB (1998) |
ISO | 100 |
Image Number | 8612 |
Image Size | 1632x1632 |
Lens | 18.0-55.0 mm f/3.5-5.6 |
Lens ID | AF-S DX VR Zoom-Nikkor 18-55mm f/3.5-5.6G |
Lens Info | 18-55mm f/3.5-5.6 |
Lens Manual Distortion Amount | 0 |
Lens Model | 18.0-55.0 mm f/3.5-5.6 |
Lens Profile Enable | 0 |
Lens Profile Setup | LensDefaults |
Light Source | Unknown |
Light Value | 14.4 |
Luminance Adjustment Aqua | 0 |
Luminance Adjustment Blue | 0 |
Luminance Adjustment Green | 0 |
Luminance Adjustment Magenta | 0 |
Luminance Adjustment Orange | 0 |
Luminance Adjustment Purple | 0 |
Luminance Adjustment Red | 0 |
Luminance Adjustment Yellow | 0 |
Luminance Smoothing | 0 |
Metering Mode | Spot |
Parametric Darks | 0 |
Parametric Highlight Split | 75 |
Parametric Highlights | 0 |
Parametric Lights | 0 |
Parametric Midtone Split | 50 |
Parametric Shadow Split | 25 |
Parametric Shadows | 0 |
Perspective Horizontal | 0 |
Perspective Rotate | 0.0 |
Perspective Scale | 100 |
Perspective Vertical | 0 |
Photometric Interpretation | RGB |
Post Crop Vignette Amount | 0 |
Process Version | 6.7 |
Rating | 0 |
Rating Percent | 0 |
Raw File Name | _DSC6715.NEF |
Red Hue | 0 |
Red Saturation | 0 |
Rights | (C)2011 {su nombre}, reservados todos los derechos |
Samples Per Pixel | 3 |
Saturation | Normal |
Saturation Adjustment Aqua | 0 |
Saturation Adjustment Blue | 0 |
Saturation Adjustment Green | 0 |
Saturation Adjustment Magenta | 0 |
Saturation Adjustment Orange | 0 |
Saturation Adjustment Purple | 0 |
Saturation Adjustment Red | 0 |
Saturation Adjustment Yellow | 0 |
Scale Factor To 35 mm Equivalent | 1.5 |
Scene Capture Type | Standard |
Scene Type | Directly photographed |
Sensing Method | One-chip color area |
Shadow Tint | 0 |
Shadows | 5 |
Shadows 2012 | +98 |
Sharpen Detail | 0 |
Sharpen Edge Masking | 0 |
Sharpen Radius | +2.3 |
Sharpness | Hard |
Split Toning Balance | 0 |
Split Toning Highlight Hue | 0 |
Split Toning Highlight Saturation | 0 |
Split Toning Shadow Hue | 0 |
Split Toning Shadow Saturation | 0 |
Subject Distance Range | Unknown |
Tint | +4 |
Tone Curve | 0, 0, 32, 22, 64, 56, 128, 128, 192, 196, 255, 255 |
Tone Curve Blue | 0, 0, 255, 255 |
Tone Curve Green | 0, 0, 255, 255 |
Tone Curve Name | Medium Contrast |
Tone Curve Name 2012 | Linear |
Tone Curve PV2012 | 0, 0, 255, 255 |
Tone Curve PV2012 Blue | 0, 0, 255, 255 |
Tone Curve PV2012 Green | 0, 0, 255, 255 |
Tone Curve PV2012 Red | 0, 0, 255, 255 |
Tone Curve Red | 0, 0, 255, 255 |
Usage Terms | Sólo para valoración, no reproducir sin permiso previo |
Version | 7.0 |
Vibrance | +16 |
Vignette Amount | 0 |
White Balance | Auto |
Whites 2012 | 0 |