Shooting information for this photo
Camera: | NIKON CORPORATION NIKON D500 |
Exposure: | 0.002 sec. (1/500) |
Aperture: | f/5.6 |
Focal Length: | 300.0 mm (35 mm equivalent: 450.0 mm) |
Flash: | No Flash |
Exposure mode: | Aperture-priority AE |
Max Aperture: | 5.7 |
Resolution: | 300 x 300 dpi |
Dimension: | 1600 x 1160 pixels |
Original Date: | 2017:10:16 23:06:51.90 |
Created on: | 2017:10:16 23:06:51.90 |
Modified on: | 2019:11:21 16:42:00.90 |
Software: | Adobe Photoshop 21.0 (Windows) |
Already Applied | True |
Approximate Focus Distance | 4294967295 |
Auto Lateral CA | 0 |
Blacks 2012 | -18 |
Blue Hue | 0 |
Blue Saturation | 0 |
CFA Pattern | [Red,Green][Green,Blue] |
Camera Profile | Adobe Standard |
Circle Of Confusion | 0.020 mm |
Clarity 2012 | +12 |
Color Mode | RGB |
Color Noise Reduction | 25 |
Color Noise Reduction Detail | 50 |
Color Noise Reduction Smoothness | 50 |
Color Space | sRGB |
Color Temperature | 4150 |
Contrast | Normal |
Contrast 2012 | +16 |
Convert To Grayscale | False |
Crop Angle | 0 |
Crop Bottom | 0.968366 |
Crop Constrain To Warp | 1 |
Crop Left | 0.184056 |
Crop Right | 0.794842 |
Crop Top | 0.304042 |
Custom Rendered | Normal |
Date Created | 2017:10:16 23:06:51.009 |
Defringe Green Amount | 0 |
Defringe Green Hue Hi | 60 |
Defringe Green Hue Lo | 40 |
Defringe Purple Amount | 0 |
Defringe Purple Hue Hi | 70 |
Defringe Purple Hue Lo | 30 |
Dehaze | 0 |
Exposure 2012 | 0.00 |
Exposure Compensation | -2/3 |
Exposure Mode | Auto |
Field Of View | 4.6 deg |
Focal Length In 35mm Format | 450 mm |
Format | image/jpeg |
Gain Control | None |
Grain Amount | 0 |
Green Hue | 0 |
Green Saturation | 0 |
Has Crop | True |
Has Settings | True |
Highlights 2012 | -74 |
Hue Adjustment Aqua | 0 |
Hue Adjustment Blue | 0 |
Hue Adjustment Green | 0 |
Hue Adjustment Magenta | 0 |
Hue Adjustment Orange | 0 |
Hue Adjustment Purple | 0 |
Hue Adjustment Red | 0 |
Hue Adjustment Yellow | 0 |
Hyperfocal Distance | 802.33 m |
ICC Profile Name | sRGB IEC61966-2.1 |
ISO | 720 |
Image Number | 19611 |
Image Size | 1600x1160 |
Lens | 70.0-300.0 mm f/4.5-5.6 |
Lens ID | AF-S VR Zoom-Nikkor 70-300mm f/4.5-5.6G IF-ED |
Lens Info | 70-300mm f/4.5-5.6 |
Lens Manual Distortion Amount | 0 |
Lens Model | 70.0-300.0 mm f/4.5-5.6 |
Lens Profile Enable | 0 |
Lens Profile Setup | LensDefaults |
Light Source | Unknown |
Light Value | 11.1 |
Luminance Adjustment Aqua | 0 |
Luminance Adjustment Blue | 0 |
Luminance Adjustment Green | 0 |
Luminance Adjustment Magenta | 0 |
Luminance Adjustment Orange | 0 |
Luminance Adjustment Purple | 0 |
Luminance Adjustment Red | 0 |
Luminance Adjustment Yellow | 0 |
Luminance Smoothing | 0 |
Metering Mode | Center-weighted average |
Parametric Darks | 0 |
Parametric Highlight Split | 75 |
Parametric Highlights | 0 |
Parametric Lights | 0 |
Parametric Midtone Split | 50 |
Parametric Shadow Split | 25 |
Parametric Shadows | 0 |
Perspective Aspect | 0 |
Perspective Horizontal | 0 |
Perspective Rotate | 0.0 |
Perspective Scale | 100 |
Perspective Upright | 0 |
Perspective Vertical | 0 |
Perspective X | 0.00 |
Perspective Y | 0.00 |
Photometric Interpretation | RGB |
Post Crop Vignette Amount | 0 |
Process Version | 10.0 |
Rating | 0 |
Raw File Name | DSC_8218.NEF |
Red Hue | 0 |
Red Saturation | 0 |
Samples Per Pixel | 3 |
Saturation | Normal |
Saturation Adjustment Aqua | 0 |
Saturation Adjustment Blue | 0 |
Saturation Adjustment Green | 0 |
Saturation Adjustment Magenta | 0 |
Saturation Adjustment Orange | 0 |
Saturation Adjustment Purple | 0 |
Saturation Adjustment Red | 0 |
Saturation Adjustment Yellow | 0 |
Scale Factor To 35 mm Equivalent | 1.5 |
Scene Capture Type | Standard |
Scene Type | Directly photographed |
Sensing Method | One-chip color area |
Sensitivity Type | Recommended Exposure Index |
Shadow Tint | 0 |
Shadows 2012 | +79 |
Sharpen Detail | 25 |
Sharpen Edge Masking | 0 |
Sharpen Radius | +1.0 |
Sharpness | Normal |
Split Toning Balance | 0 |
Split Toning Highlight Hue | 0 |
Split Toning Highlight Saturation | 0 |
Split Toning Shadow Hue | 0 |
Split Toning Shadow Saturation | 0 |
Subject Distance Range | Unknown |
Tint | +3 |
Tone Curve | 0, 0, 32, 22, 64, 56, 128, 128, 192, 196, 255, 255 |
Tone Curve Blue | 0, 0, 255, 255 |
Tone Curve Green | 0, 0, 255, 255 |
Tone Curve Name | Medium Contrast |
Tone Curve Name 2012 | Linear |
Tone Curve PV2012 | 0, 0, 255, 255 |
Tone Curve PV2012 Blue | 0, 0, 255, 255 |
Tone Curve PV2012 Green | 0, 0, 255, 255 |
Tone Curve PV2012 Red | 0, 0, 255, 255 |
Tone Curve Red | 0, 0, 255, 255 |
Version | 10.0 |
Vibrance | +9 |
Vignette Amount | 0 |
White Balance | Auto |
Whites 2012 | +54 |