Shooting information for this photo
Camera: | FUJIFILM X-T3 |
Exposure: | 0.025 sec. (1/40) |
Aperture: | f/8.0 |
Focal Length: | 18.0 mm (35 mm equivalent: 27.0 mm) |
Flash: | No Flash |
Exposure mode: | Manual |
Max Aperture: | 2.8 |
Resolution: | 240 x 240 dpi |
Original Date: | 2020:01:18 15:03:49 |
Digitized Date: | 2020:01:18 15:03:49+01:00 |
Created on: | 2020:01:18 15:03:49 |
Software: | Adobe Photoshop Lightroom Classic 9.1 (Windows) |
Copyright: | Alle rechten voorbehouden - All rights reserved |
Already Applied | True |
Artist | Diederik Santema |
Auto Lateral CA | 1 |
Blacks 2012 | -18 |
Blue Hue | 0 |
Blue Saturation | 0 |
Brightness Value | 6.27 |
Camera Profile | Adobe Standard v2 |
Circle Of Confusion | 0.020 mm |
Clarity 2012 | +34 |
Color Noise Reduction | 25 |
Color Noise Reduction Detail | 50 |
Color Noise Reduction Smoothness | 50 |
Color Space | sRGB |
Color Temperature | 5400 |
Contrast 2012 | +7 |
Convert To Grayscale | True |
Country | Nederland |
Country Code | NLD |
Creator | Diederik Santema |
Custom Rendered | Normal |
Dehaze | 0 |
Description | <i>Dank voor het bekijken, commentaren, favorieten en kritiek..Geen verder gebruik zonder mijn uitdrukkelijke toestemming. · .Thanks for watching, comments, favourites and critique..No further use without my explicit consent.</i> |
Distortion Correction Already Applied | True |
Exposure 2012 | +0.57 |
Exposure Compensation | 0 |
Exposure Mode | Manual |
Field Of View | 67.4 deg |
Focal Length In 35mm Format | 27 mm |
Format | image/jpeg |
Grain Amount | 0 |
Gray Mixer Aqua | 0 |
Gray Mixer Blue | -52 |
Gray Mixer Green | -22 |
Gray Mixer Magenta | 0 |
Gray Mixer Orange | 0 |
Gray Mixer Purple | 0 |
Gray Mixer Red | 0 |
Gray Mixer Yellow | 0 |
Green Hue | 0 |
Green Saturation | 0 |
Has Crop | False |
Has Settings | True |
Highlights 2012 | -82 |
Hyperfocal Distance | 2.02 m |
ISO | 200 |
Image Description | <i>Dank voor het bekijken, commentaren, favorieten en kritiek..Geen verder gebruik zonder mijn uitdrukkelijke toestemming. · .Thanks for watching, comments, favourites and critique..No further use without my explicit consent.</i> |
Image Size | 4050x5400 |
Instructions | Geen verder gebruik zonder mijn uitdrukkelijke toestemming. · .No further use without my explicit consent. |
Lateral Chromatic Aberration Correction Already Applied | True |
Lens | XF18-55mmF2.8-4 R LM OIS |
Lens Info | 18-55mm f/2.8-4 |
Lens Make | FUJIFILM |
Lens Manual Distortion Amount | 0 |
Lens Model | XF18-55mmF2.8-4 R LM OIS |
Lens Profile Enable | 0 |
Lens Profile Setup | LensDefaults |
Light Source | Unknown |
Light Value | 10.3 |
Location | Watergraafsmeer |
Look Amount | 1.000000 |
Look Group | Profiles |
Look Name | Adobe Monochrome |
Look Parameters Camera Profile | Adobe Standard |
Look Parameters Clarity 2012 | +8 |
Look Parameters Convert To Grayscale | True |
Look Parameters Look Table | 73ED6C18DDE909DD7EA2D771F5AC28 2D |
Look Parameters Process Version | 11.0 |
Look Parameters Tone Curve PV2012 | 0, 0, 64, 56, 128, 128, 192, 197, 255, 255 |
Look Parameters Tone Curve PV2012 Blue | 0, 0, 255, 255 |
Look Parameters Tone Curve PV2012 Green | 0, 0, 255, 255 |
Look Parameters Tone Curve PV2012 Red | 0, 0, 255, 255 |
Look Parameters Version | 12.1 |
Look Supports Amount | false |
Look Supports Monochrome | false |
Look Supports Output Referred | false |
Luminance Smoothing | 0 |
Metering Mode | Average |
Override Look Vignette | False |
Parametric Darks | +11 |
Parametric Highlight Split | 75 |
Parametric Highlights | +38 |
Parametric Lights | -13 |
Parametric Midtone Split | 50 |
Parametric Shadow Split | 25 |
Parametric Shadows | +6 |
Perspective Aspect | 0 |
Perspective Horizontal | 0 |
Perspective Rotate | 0.0 |
Perspective Scale | 100 |
Perspective Upright | 0 |
Perspective Vertical | 0 |
Perspective X | 0.00 |
Perspective Y | 0.00 |
Post Crop Vignette Amount | 0 |
Preserved File Name | DSCF1630.RAF |
Process Version | 11.0 |
Raw File Name | DSCF1630.RAF |
Red Hue | 0 |
Red Saturation | 0 |
Rights | Alle rechten voorbehouden - All rights reserved |
Scale Factor To 35 mm Equivalent | 1.5 |
Scene Capture Type | Standard |
Scene Type | Directly photographed |
Sensing Method | One-chip color area |
Sensitivity Type | Standard Output Sensitivity |
Shadow Tint | 0 |
Shadows 2012 | +50 |
Sharpen Detail | 25 |
Sharpen Edge Masking | 0 |
Sharpen Radius | +1.0 |
Sharpness | Normal |
Split Toning Balance | 0 |
Split Toning Highlight Hue | 0 |
Split Toning Highlight Saturation | 0 |
Split Toning Shadow Hue | 0 |
Split Toning Shadow Saturation | 0 |
State | Noord-Holland |
Subject | 2020, amsterdam, begraafplaats, black and white, blackandwhite, blackwhite, bw, de nieuwe ooster, geo:lat=52.34276551, geo:lon=4.94010911, geotagged, holland, januari, january, nederland, netherlands, nieuwe ooster, statue, winter, zw, zwartwit, zwart-wit |
Subject Distance Range | Unknown |
Texture | +22 |
Tint | +28 |
Tone Curve | 0, 0, 255, 255 |
Tone Curve Blue | 0, 0, 255, 255 |
Tone Curve Green | 0, 0, 255, 255 |
Tone Curve Name | Linear |
Tone Curve Name 2012 | Linear |
Tone Curve PV2012 | 0, 0, 255, 255 |
Tone Curve PV2012 Blue | 0, 0, 255, 255 |
Tone Curve PV2012 Green | 0, 0, 255, 255 |
Tone Curve PV2012 Red | 0, 0, 255, 255 |
Tone Curve Red | 0, 0, 255, 255 |
Tone Map Strength | 0 |
Version | 12.1 |
Vignette Amount | 0 |
Vignette Correction Already Applied | True |
White Balance | Auto |
Whites 2012 | +18 |
GPS Information |
GPS Altitude | 0 m Above Sea Level |
GPS Altitude Ref | Above Sea Level |
GPS Date Stamp | 2020:01:18 |
GPS Date/Time | 2020:01:18 14:03:49Z |
GPS Latitude | 52 deg 20' 33.96" N |
GPS Latitude Ref | North |
GPS Longitude | 4 deg 56' 24.39" E |
GPS Longitude Ref | East |
GPS Map Datum | WGS-84 |
GPS Position | 52 deg 20' 33.96" N, 4 deg 56' 24.39" E |
GPS Time Stamp | 14:03:49 |
GPS Version ID | 2.2.0.0 |