Shooting information for this photo
Exposure: | 0.002 sec. (1/500) |
Aperture: | f/4.0 |
Focal Length: | 38.6 mm (35 mm equivalent: 39.0 mm) |
Resolution: | 240 x 240 dpi |
Original Date: | 2018:04:10 19:17:34 |
Created on: | 2018:04:10 19:17:34 |
Modified on: | 2018:04:15 16:03:41 |
Software: | Adobe Photoshop Lightroom 6.7 (Windows) |
Already Applied | True |
Auto Lateral CA | 0 |
Auto White Version | 134348800 |
Blacks 2012 | 0 |
Blue Hue | 0 |
Blue Saturation | 0 |
Camera Profile | Embedded |
Circle Of Confusion | 0.030 mm |
Clarity 2012 | +5 |
Color Noise Reduction | 0 |
Color Space | sRGB |
Contrast 2012 | 0 |
Convert To Grayscale | False |
Crop Angle | 0 |
Crop Bottom | 0.973726 |
Crop Constrain To Warp | 1 |
Crop Left | 0.026274 |
Crop Right | 0.973726 |
Crop Top | 0.026274 |
Date Created | 2018:04:10 19:17:34 |
Defringe Green Amount | 0 |
Defringe Green Hue Hi | 60 |
Defringe Green Hue Lo | 40 |
Defringe Purple Amount | 0 |
Defringe Purple Hue Hi | 70 |
Defringe Purple Hue Lo | 30 |
Dehaze | 0 |
Exposure 2012 | 0.00 |
Field Of View | 49.6 deg |
Focal Length In 35mm Format | 39 mm |
Format | image/jpeg |
Grain Amount | 0 |
Green Hue | 0 |
Green Saturation | 0 |
Has Crop | True |
Has Settings | True |
Highlights 2012 | 0 |
Hue Adjustment Aqua | 0 |
Hue Adjustment Blue | 0 |
Hue Adjustment Green | 0 |
Hue Adjustment Magenta | 0 |
Hue Adjustment Orange | 0 |
Hue Adjustment Purple | 0 |
Hue Adjustment Red | 0 |
Hue Adjustment Yellow | 0 |
Hyperfocal Distance | 12.53 m |
ISO | 400 |
Image Size | 8530x3924 |
Incremental Temperature | 0 |
Incremental Tint | 0 |
Lens Manual Distortion Amount | 0 |
Lens Profile Enable | 0 |
Lens Profile Setup | LensDefaults |
Light Value | 11.0 |
Luminance Adjustment Aqua | 0 |
Luminance Adjustment Blue | 0 |
Luminance Adjustment Green | 0 |
Luminance Adjustment Magenta | 0 |
Luminance Adjustment Orange | 0 |
Luminance Adjustment Purple | 0 |
Luminance Adjustment Red | 0 |
Luminance Adjustment Yellow | 0 |
Luminance Smoothing | 0 |
Parametric Darks | 0 |
Parametric Highlight Split | 75 |
Parametric Highlights | 0 |
Parametric Lights | 0 |
Parametric Midtone Split | 50 |
Parametric Shadow Split | 25 |
Parametric Shadows | 0 |
Perspective Aspect | +57 |
Perspective Horizontal | 0 |
Perspective Rotate | 0.0 |
Perspective Scale | 100 |
Perspective Upright | 0 |
Perspective Vertical | 0 |
Perspective X | 0.00 |
Perspective Y | 0.00 |
Photographic Sensitivity | 400 |
Post Crop Vignette Amount | 0 |
Process Version | 6.7 |
Red Hue | 0 |
Red Saturation | 0 |
Saturation | 0 |
Saturation Adjustment Aqua | 0 |
Saturation Adjustment Blue | 0 |
Saturation Adjustment Green | 0 |
Saturation Adjustment Magenta | 0 |
Saturation Adjustment Orange | 0 |
Saturation Adjustment Purple | 0 |
Saturation Adjustment Red | 0 |
Saturation Adjustment Yellow | 0 |
Scale Factor To 35 mm Equivalent | 1.0 |
Shadow Tint | 0 |
Shadows 2012 | -36 |
Sharpen Detail | 25 |
Sharpen Edge Masking | 0 |
Sharpen Radius | +1.0 |
Sharpness | 0 |
Split Toning Balance | 0 |
Split Toning Highlight Hue | 0 |
Split Toning Highlight Saturation | 0 |
Split Toning Shadow Hue | 0 |
Split Toning Shadow Saturation | 0 |
Tone Curve | 0, 0, 255, 255 |
Tone Curve Blue | 0, 0, 255, 255 |
Tone Curve Green | 0, 0, 255, 255 |
Tone Curve Name | Linear |
Tone Curve Name 2012 | Linear |
Tone Curve PV2012 | 0, 0, 255, 255 |
Tone Curve PV2012 Blue | 0, 0, 255, 255 |
Tone Curve PV2012 Green | 0, 0, 255, 255 |
Tone Curve PV2012 Red | 0, 0, 255, 255 |
Tone Curve Red | 0, 0, 255, 255 |
Tone Map Strength | 0 |
Version | 9.7 |
Vibrance | 0 |
Vignette Amount | 0 |
White Balance | As Shot |
Whites 2012 | 0 |