Shooting information for this photo
Camera: | FUJIFILM X100T |
Exposure: | 0.00313 sec. (1/320) |
Aperture: | f/8.0 |
Focal Length: | 23.0 mm |
Flash: | Off, Did not fire |
Exposure mode: | Aperture-priority AE |
Max Aperture: | 2.0 |
Resolution: | 300 x 300 dpi |
Original Date: | 2024:04:08 14:57:29 |
Created on: | 2024:04:08 14:57:29 |
Modified on: | 2024:04:11 14:47:26 |
Software: | Adobe Photoshop Lightroom Classic 13.2 (Windows) |
Copyright: | Manfred Hofmann |
Already Applied | True |
Artist | Lumaho |
Auto Lateral CA | 1 |
Blacks 2012 | 0 |
Blue Hue | 0 |
Blue Saturation | 0 |
Brightness Value | 8.3 |
Camera Profile | Adobe Standard |
Clarity 2012 | +30 |
Color Grade Blending | 50 |
Color Grade Global Hue | 43 |
Color Grade Global Lum | 0 |
Color Grade Global Sat | 14 |
Color Grade Highlight Lum | 0 |
Color Grade Midtone Hue | 0 |
Color Grade Midtone Lum | 0 |
Color Grade Midtone Sat | 0 |
Color Grade Shadow Lum | 0 |
Color Noise Reduction | 25 |
Color Noise Reduction Detail | 50 |
Color Noise Reduction Smoothness | 50 |
Color Space | Uncalibrated |
Color Temperature | 2100 |
Compatible Version | 234881024 |
Contrast 2012 | +12 |
Country | BRD |
Creator | Lumaho |
Crop Angle | 0 |
Crop Bottom | 0.819365 |
Crop Constrain To Warp | 1 |
Crop Left | 0.00625 |
Crop Right | 1 |
Crop Top | 0.074053 |
Custom Rendered | Normal |
Date Created | 2024:04:08 14:57:29 |
Dehaze | +15 |
Description | von Walldorf nach Leopoldshafen |
Distortion Correction Already Applied | True |
Exposure 2012 | +0.30 |
Exposure Compensation | 0 |
Exposure Mode | Auto |
Format | image/jpeg |
Fuji Rating Already Applied | True |
Grain Amount | 0 |
Gray Mixer Aqua | 0 |
Gray Mixer Blue | 0 |
Gray Mixer Green | 0 |
Gray Mixer Magenta | 0 |
Gray Mixer Orange | 0 |
Gray Mixer Purple | 0 |
Gray Mixer Red | 0 |
Gray Mixer Yellow | 0 |
Green Hue | 0 |
Green Saturation | 0 |
HDR Edit Mode | 0 |
Has Crop | True |
Has Settings | True |
Highlights 2012 | 0 |
ISO | 320 |
Image Description | von Walldorf nach Leopoldshafen |
Image Size | 4865x2432 |
Label | Grün |
Lateral Chromatic Aberration Correction Already Applied | True |
Lens Manual Distortion Amount | 0 |
Lens Profile Distortion Scale | 100 |
Lens Profile Enable | 1 |
Lens Profile Filename | Fujifilm X100T.lcp |
Lens Profile Is Embedded | False |
Lens Profile Name | Adobe (Fujifilm X100T) |
Lens Profile Setup | LensDefaults |
Lens Profile Vignetting Scale | 100 |
Light Source | Unknown |
Light Value | 12.6 |
Look Amount | 1 |
Look Group | Profiles |
Look Name | Adobe Monochrome |
Look Parameters Camera Profile | Adobe Standard |
Look Parameters Clarity 2012 | +8 |
Look Parameters Convert To Grayscale | True |
Look Parameters Look Table | 73ED6C18DDE909DD7EA2D771F5AC28 2D |
Look Parameters Process Version | 15.4 |
Look Parameters Tone Curve PV2012 | 0, 0, 64, 56, 128, 128, 192, 197, 255, 255 |
Look Parameters Tone Curve PV2012 Blue | 0, 0, 255, 255 |
Look Parameters Tone Curve PV2012 Green | 0, 0, 255, 255 |
Look Parameters Tone Curve PV2012 Red | 0, 0, 255, 255 |
Look Parameters Version | 16.2 |
Look Supports Amount | false |
Look Supports Monochrome | false |
Look Supports Output Referred | false |
Luminance Smoothing | 0 |
Metering Mode | Multi-segment |
Override Look Vignette | False |
Parametric Darks | -16 |
Parametric Highlight Split | 75 |
Parametric Highlights | +32 |
Parametric Lights | +15 |
Parametric Midtone Split | 50 |
Parametric Shadow Split | 25 |
Parametric Shadows | -32 |
Perspective Aspect | 0 |
Perspective Horizontal | 0 |
Perspective Rotate | 0.0 |
Perspective Scale | 100 |
Perspective Upright | 1 |
Perspective Vertical | 0 |
Perspective X | 0.00 |
Perspective Y | 0.00 |
Pick | 0 |
Point Colors | -1.000000, -1.000000, -1.000000, -1.000000, -1.000000, -1.000000, -1.000000, -1.000000, -1.000000, -1.000000, -1.000000, -1.000000, -1.000000, -1.000000, -1.000000, -1.000000, -1.000000, -1.000000, -1.000000 |
Post Crop Vignette Amount | -5 |
Post Crop Vignette Feather | 50 |
Post Crop Vignette Highlight Contrast | 0 |
Post Crop Vignette Midpoint | 50 |
Post Crop Vignette Roundness | 0 |
Post Crop Vignette Style | 1 |
Preserved File Name | _IRO2816.RAF |
Process Version | 15.4 |
Range Mask Map Info Range Mask Map Info Lab Max | 0.995560 0.581567 0.602045 |
Range Mask Map Info Range Mask Map Info Lab Min | 0.004700 0.409461 0.412924 |
Range Mask Map Info Range Mask Map Info RGB Max | 0.245029 0.101610 0.084260 |
Range Mask Map Info Range Mask Map Info RGB Min | 0.031937 0.012131 0.009796 |
Raw File Name | _IRO2816.RAF |
Red Hue | 0 |
Red Saturation | 0 |
Rights | Manfred Hofmann |
Scene Capture Type | Standard |
Scene Type | Directly photographed |
Sensing Method | One-chip color area |
Sensitivity Type | Standard Output Sensitivity |
Shadow Tint | 0 |
Shadows 2012 | 0 |
Sharpen Detail | 25 |
Sharpen Edge Masking | 0 |
Sharpen Radius | +0.8 |
Sharpness | Normal |
Split Toning Balance | 0 |
Split Toning Highlight Hue | 0 |
Split Toning Highlight Saturation | 0 |
Split Toning Shadow Hue | 0 |
Split Toning Shadow Saturation | 0 |
State | Baden |
Subject | 03 Infrarot, 500px, BRD, Bild, Infrarot, Ipernity, Kurpfalz, ORTE, PROJEKTE, Schwarzweiß, flickr, Öffentlich |
Subject Distance Range | Unknown |
Texture | +6 |
Tint | -57 |
Title | Rheinaufwärts - rechtsrheinisch |
Tone Curve Name 2012 | Linear |
Tone Curve PV2012 | 0, 0, 255, 255 |
Tone Curve PV2012 Blue | 0, 0, 255, 255 |
Tone Curve PV2012 Green | 0, 0, 255, 255 |
Tone Curve PV2012 Red | 0, 0, 255, 255 |
Version | 16.2 |
Vignette Amount | 0 |
Vignette Correction Already Applied | True |
Weighted Flat Subject | Infrarot, Bild, Schwarzweiß, 500px, Öffentlich, flickr, Ipernity, Kurpfalz, BRD, ORTE, 03 Infrarot, PROJEKTE |
White Balance | Manual |
Whites 2012 | 0 |