Shooting information for this photo
Camera: | Canon EOS 80D |
Exposure: | 0.002 sec. (1/500) |
Aperture: | f/9.0 |
Focal Length: | 73.0 mm |
Flash: | Off, Did not fire |
Exposure mode: | Aperture-priority AE |
Max Aperture: | 5.4 |
Resolution: | 72 x 72 dpi |
Original Date: | 2022:01:08 12:31:08.91 |
Created on: | 2022:01:08 12:31:08.91 |
Modified on: | 2022:11:22 10:44:13.91 |
Software: | Adobe Photoshop Lightroom Classic 11.5 (Windows) |
Already Applied | True |
Approximate Focus Distance | 1.92 |
Auto Lateral CA | 0 |
Blacks 2012 | 0 |
Blue Hue | 0 |
Blue Saturation | 0 |
Camera Profile | Embedded |
City | Santa Cruz de Tenerife |
Clarity 2012 | 0 |
Color Grade Blending | 50 |
Color Grade Global Hue | 0 |
Color Grade Global Lum | 0 |
Color Grade Global Sat | 0 |
Color Grade Highlight Lum | 0 |
Color Grade Midtone Hue | 0 |
Color Grade Midtone Lum | 0 |
Color Grade Midtone Sat | 0 |
Color Grade Shadow Lum | 0 |
Color Noise Reduction | 0 |
Color Space | sRGB |
Contrast 2012 | 0 |
Convert To Grayscale | False |
Country | Spain |
Country Code | ES |
Crop Angle | 0 |
Crop Bottom | 0.888393 |
Crop Constrain To Warp | 0 |
Crop Left | 0 |
Crop Right | 1 |
Crop Top | 0.138393 |
Custom Rendered | Normal |
Date Created | 2022:01:08 12:31:08.091 |
Defringe Green Amount | 0 |
Defringe Green Hue Hi | 60 |
Defringe Green Hue Lo | 40 |
Defringe Purple Amount | 0 |
Defringe Purple Hue Hi | 70 |
Defringe Purple Hue Lo | 30 |
Dehaze | 0 |
Distortion Correction Already Applied | True |
Exposure 2012 | 0.00 |
Exposure Compensation | -2/3 |
Exposure Mode | Auto bracket |
Firmware | 1.0.1 |
Flash Compensation | 0 |
Format | image/jpeg |
Grain Amount | 0 |
Green Hue | 0 |
Green Saturation | 0 |
Has Crop | True |
Has Settings | True |
Highlights 2012 | -12 |
Hue Adjustment Aqua | 0 |
Hue Adjustment Blue | 0 |
Hue Adjustment Green | 0 |
Hue Adjustment Magenta | 0 |
Hue Adjustment Orange | 0 |
Hue Adjustment Purple | 0 |
Hue Adjustment Red | 0 |
Hue Adjustment Yellow | 0 |
ISO | 4000 |
Image Number | 0 |
Image Size | 6000x3000 |
Incremental Temperature | 0 |
Incremental Tint | 0 |
Lateral Chromatic Aberration Correction Already Applied | True |
Lens | 18-250mm |
Lens ID | Sigma 18-250mm f/3.5-6.3 DC OS HSM |
Lens Info | 18-250mm f/? |
Lens Manual Distortion Amount | 0 |
Lens Model | 18-250mm |
Lens Profile Enable | 0 |
Light Value | 10.0 |
Location | Centro - Ifara |
Luminance Adjustment Aqua | 0 |
Luminance Adjustment Blue | 0 |
Luminance Adjustment Green | 0 |
Luminance Adjustment Magenta | 0 |
Luminance Adjustment Orange | 0 |
Luminance Adjustment Purple | 0 |
Luminance Adjustment Red | 0 |
Luminance Adjustment Yellow | 0 |
Luminance Smoothing | 0 |
Metering Mode | Multi-segment |
Override Look Vignette | False |
Parametric Darks | 0 |
Parametric Highlight Split | 75 |
Parametric Highlights | 0 |
Parametric Lights | 0 |
Parametric Midtone Split | 50 |
Parametric Shadow Split | 25 |
Parametric Shadows | 0 |
Perspective Aspect | 0 |
Perspective Horizontal | 0 |
Perspective Rotate | 0.0 |
Perspective Scale | 100 |
Perspective Upright | 0 |
Perspective Vertical | 0 |
Perspective X | 0.00 |
Perspective Y | 0.00 |
Post Crop Vignette Amount | 0 |
Preserved File Name | IMG_8519.CR2 |
Process Version | 11.0 |
Rating | 3 |
Raw File Name | Turtles at Iberostar Heritage Grand Mencey-3.tif |
Recommended Exposure Index | 4000 |
Red Hue | 0 |
Red Saturation | 0 |
Saturation | 0 |
Saturation Adjustment Aqua | 0 |
Saturation Adjustment Blue | 0 |
Saturation Adjustment Green | 0 |
Saturation Adjustment Magenta | 0 |
Saturation Adjustment Orange | 0 |
Saturation Adjustment Purple | 0 |
Saturation Adjustment Red | 0 |
Saturation Adjustment Yellow | 0 |
Scene Capture Type | Standard |
Sensitivity Type | Recommended Exposure Index |
Shadow Tint | 0 |
Shadows 2012 | 0 |
Sharpness | 0 |
Split Toning Balance | 0 |
Split Toning Highlight Hue | 0 |
Split Toning Highlight Saturation | 0 |
Split Toning Shadow Hue | 0 |
Split Toning Shadow Saturation | 0 |
State | Santa Cruz de Tenerife |
Subject | Animals & Birds, Canon, EOS80D, Europe, Iberostar Heritage Grand Mencey, Reptile, Santa Cruz, Spain, Tenerife, Turtle |
Texture | 0 |
Tone Curve Name 2012 | Linear |
Tone Curve PV2012 | 0, 0, 255, 255 |
Tone Curve PV2012 Blue | 0, 0, 255, 255 |
Tone Curve PV2012 Green | 0, 0, 255, 255 |
Tone Curve PV2012 Red | 0, 0, 255, 255 |
Version | 14.5 |
Vibrance | 0 |
Vignette Amount | 0 |
Vignette Correction Already Applied | True |
Weighted Flat Subject | Canon, EOS80D, Europe, Tenerife, Spain, Santa Cruz, Animals & Birds, Reptile, Turtle, Iberostar Heritage Grand Mencey |
White Balance | Auto |
Whites 2012 | 0 |
GPS Information |
GPS Latitude | 28 deg 28' 30.83" N |
GPS Latitude Ref | North |
GPS Longitude | 16 deg 15' 12.72" W |
GPS Longitude Ref | West |
GPS Position | 28 deg 28' 30.83" N, 16 deg 15' 12.72" W |
GPS Version ID | 2.2.0.0 |