Shooting information for this photo
Camera: | Google Pixel 5 |
Exposure: | 0.00067 sec. (1/1500) |
Aperture: | f/2.2 |
Focal Length: | 2.2 mm (35 mm equivalent: 16.0 mm) |
Flash: | Off, Did not fire |
Exposure mode: | Program AE |
Max Aperture: | 2.2 |
Resolution: | 240 x 240 dpi |
Original Date: | 2023:07:30 12:19:14.971 |
Created on: | 2023:07:30 12:19:14.971 |
Modified on: | 2023:08:02 21:43:29 |
Software: | Adobe Lightroom 6.4 (Windows) |
Already Applied | True |
Approximate Focus Distance | 0.098 |
Auto Lateral CA | 1 |
Blacks 2012 | -15 |
Blue Hue | 0 |
Blue Saturation | 0 |
Brightness | +50 |
Brightness Value | 8.95 |
Camera Profile | Embedded |
Circle Of Confusion | 0.004 mm |
Clarity 2012 | +6 |
Color Grade Blending | 50 |
Color Grade Global Hue | 0 |
Color Grade Global Lum | 0 |
Color Grade Global Sat | 0 |
Color Grade Highlight Lum | +20 |
Color Grade Midtone Hue | 0 |
Color Grade Midtone Lum | -43 |
Color Grade Midtone Sat | 0 |
Color Grade Shadow Lum | -20 |
Color Noise Reduction | 0 |
Color Space | sRGB |
Contrast | Normal |
Contrast 2012 | +29 |
Convert To Grayscale | True |
Crop Angle | 0 |
Crop Bottom | 1 |
Crop Constrain To Warp | 0 |
Crop Left | 0 |
Crop Right | 1 |
Crop Top | 0 |
Custom Rendered | Custom |
Date Created | 2023:07:30 12:19:14.971+01:00 |
Dehaze | +8 |
Depth Of Field | 0.04 m (0.08 - 0.12) |
Digital Zoom Ratio | 0 |
Exposure 2012 | +0.63 |
Exposure Compensation | 0 |
Exposure Mode | Auto |
Field Of View | 96.7 deg |
Focal Length In 35mm Format | 16 mm |
Format | image/jpeg |
Grain Amount | 0 |
Gray Mixer Aqua | +13 |
Gray Mixer Blue | -39 |
Gray Mixer Green | 0 |
Gray Mixer Magenta | 0 |
Gray Mixer Orange | -3 |
Gray Mixer Purple | -74 |
Gray Mixer Red | +25 |
Gray Mixer Yellow | +12 |
Green Hue | 0 |
Green Saturation | 0 |
Has Crop | False |
Has Extended XMP | 43DC5153610349F5E2CE9B904FC0D4 F0 |
Has Settings | True |
Highlights 2012 | -28 |
Hyperfocal Distance | 0.54 m |
ISO | 46 |
Image Size | 2048x1536 |
Incremental Temperature | +1 |
Incremental Tint | 0 |
Lateral Chromatic Aberration Correction Already Applied | True |
Lens | Pixel 5 back camera 2.22mm f/2.2 |
Lens Make | |
Lens Manual Distortion Amount | 0 |
Lens Model | Pixel 5 back camera 2.22mm f/2.2 |
Lens Profile Enable | 1 |
Lens Profile Setup | LensDefaults |
Light Value | 13.9 |
Luminance Smoothing | 0 |
Metering Mode | Center-weighted average |
Override Look Vignette | False |
Parametric Darks | 0 |
Parametric Highlight Split | 75 |
Parametric Highlights | 0 |
Parametric Lights | 0 |
Parametric Midtone Split | 50 |
Parametric Shadow Split | 25 |
Parametric Shadows | 0 |
Perspective Aspect | 0 |
Perspective Horizontal | 0 |
Perspective Rotate | 0.0 |
Perspective Scale | 100 |
Perspective Upright | 0 |
Perspective Vertical | 0 |
Perspective X | 0.00 |
Perspective Y | 0.00 |
Post Crop Vignette Amount | -15 |
Post Crop Vignette Feather | 50 |
Post Crop Vignette Highlight Contrast | 0 |
Post Crop Vignette Midpoint | 50 |
Post Crop Vignette Roundness | 0 |
Post Crop Vignette Style | 1 |
Process Version | 15.4 |
Raw File Name | PXL_20230730_111914971.jpg |
Red Hue | 0 |
Red Saturation | 0 |
Saturation | Normal |
Scale Factor To 35 mm Equivalent | 7.2 |
Scene Capture Type | Standard |
Scene Type | Directly photographed |
Sensing Method | One-chip color area |
Shadow Tint | 0 |
Shadows | 5 |
Shadows 2012 | +41 |
Sharpness | Normal |
Split Toning Balance | 0 |
Split Toning Highlight Hue | 0 |
Split Toning Highlight Saturation | 0 |
Split Toning Shadow Hue | 0 |
Split Toning Shadow Saturation | 0 |
Subject Distance | 0.098 m |
Subject Distance Range | Macro |
Texture | 0 |
Tone Curve Name 2012 | Linear |
Tone Curve PV2012 | 0, 0, 255, 255 |
Tone Curve PV2012 Blue | 0, 0, 255, 255 |
Tone Curve PV2012 Green | 0, 0, 255, 255 |
Tone Curve PV2012 Red | 0, 0, 255, 255 |
Version | 15.4 |
Vibrance | +15 |
Vignette Amount | 0 |
White Balance | Auto |
Whites 2012 | +4 |
GPS Information |
GPS Altitude | 78.7 m |
GPS Date Stamp | 2023:07:30 |
GPS Date/Time | 2023:07:30 11:18:47Z |
GPS Img Direction | 223 |
GPS Latitude | 53 deg 28' 41.20" N |
GPS Latitude Ref | North |
GPS Longitude | 2 deg 15' 33.28" W |
GPS Longitude Ref | West |
GPS Position | 53 deg 28' 41.20" N, 2 deg 15' 33.28" W |
GPS Time Stamp | 11:18:47 |
GPS Version ID | 2.2.0.0 |