Shooting information for this photo
Camera: | Canon EOS 60D |
Exposure: | 0.01667 sec. (1/60) |
Aperture: | f/2.8 |
Focal Length: | 100.0 mm (35 mm equivalent: 157.3 mm) |
Flash: | Off, Did not fire |
Exposure mode: | Aperture-priority AE |
Max Aperture: | 2.8 |
Resolution: | 240 x 240 dpi |
Original Date: | 2016:02:21 15:52:01.67 |
Created on: | 2016:02:21 15:52:01.67 |
Modified on: | 2016:02:21 20:30:41 |
Software: | Adobe Photoshop Lightroom 5.7 (Windows) |
Already Applied | True |
Approximate Focus Distance | 0.34 |
Artist | Mathias Besso |
Auto Lateral CA | 0 |
Auto White Version | 134348800 |
Blacks 2012 | +35 |
Blue Hue | 0 |
Blue Saturation | 0 |
Camera Angle | Eye Level |
Camera Profile | Adobe Standard |
Circle Of Confusion | 0.019 mm |
Clarity 2012 | -5 |
Color Noise Reduction | 0 |
Color Space | sRGB |
Color Temperature | 5000 |
Contrast 2012 | 0 |
Convert To Grayscale | False |
Creator | Mathias Besso |
Crop Angle | 0 |
Crop Bottom | 0.961712 |
Crop Constrain To Warp | 0 |
Crop Left | 0.082583 |
Crop Right | 0.897898 |
Crop Top | 0.146397 |
Custom Rendered | Normal |
Date Created | 2016:02:21 15:52:01.67 |
Defringe Green Amount | 0 |
Defringe Green Hue Hi | 60 |
Defringe Green Hue Lo | 40 |
Defringe Purple Amount | 0 |
Defringe Purple Hue Hi | 70 |
Defringe Purple Hue Lo | 30 |
Exposure 2012 | 0.00 |
Exposure Compensation | 0 |
Exposure Mode | Auto |
Field Of View | 13.1 deg |
Firmware | 1.1.0 |
Flash Compensation | 0 |
Format | image/jpeg |
Grain Amount | 0 |
Green Hue | +5 |
Green Saturation | -2 |
Has Crop | True |
Has Settings | True |
Highlights 2012 | -30 |
Hue Adjustment Aqua | +7 |
Hue Adjustment Blue | -18 |
Hue Adjustment Green | +26 |
Hue Adjustment Magenta | 0 |
Hue Adjustment Orange | -13 |
Hue Adjustment Purple | -2 |
Hue Adjustment Red | +9 |
Hue Adjustment Yellow | +4 |
Hyperfocal Distance | 186.94 m |
ISO | 100 |
Image Number | 0 |
Image Size | 4227x2818 |
Lens | EF100mm f/2.8L Macro IS USM |
Lens ID | Canon EF 100mm f/2.8L Macro IS USM |
Lens Info | 100mm f/? |
Lens Manual Distortion Amount | 0 |
Lens Model | EF100mm f/2.8L Macro IS USM |
Lens Profile Enable | 0 |
Lens Profile Setup | LensDefaults |
Light Value | 8.9 |
Luminance Adjustment Aqua | -10 |
Luminance Adjustment Blue | -10 |
Luminance Adjustment Green | -20 |
Luminance Adjustment Magenta | 0 |
Luminance Adjustment Orange | 0 |
Luminance Adjustment Purple | 0 |
Luminance Adjustment Red | -15 |
Luminance Adjustment Yellow | -15 |
Luminance Noise Reduction Contrast | 0 |
Luminance Noise Reduction Detail | 50 |
Luminance Smoothing | 30 |
Marked | True |
Metering Mode | Multi-segment |
Parametric Darks | 0 |
Parametric Highlight Split | 75 |
Parametric Highlights | +10 |
Parametric Lights | +10 |
Parametric Midtone Split | 60 |
Parametric Shadow Split | 30 |
Parametric Shadows | 0 |
Perspective Aspect | 0 |
Perspective Horizontal | 0 |
Perspective Rotate | 0.0 |
Perspective Scale | 100 |
Perspective Upright | 0 |
Perspective Vertical | 0 |
Post Crop Vignette Amount | -25 |
Post Crop Vignette Feather | 100 |
Post Crop Vignette Highlight Contrast | 0 |
Post Crop Vignette Midpoint | 0 |
Post Crop Vignette Roundness | -54 |
Post Crop Vignette Style | 1 |
Process Version | 6.7 |
Recommended Exposure Index | 100 |
Red Hue | +10 |
Red Saturation | +2 |
Saturation | -5 |
Saturation Adjustment Aqua | 0 |
Saturation Adjustment Blue | 0 |
Saturation Adjustment Green | -51 |
Saturation Adjustment Magenta | -5 |
Saturation Adjustment Orange | 0 |
Saturation Adjustment Purple | -9 |
Saturation Adjustment Red | +10 |
Saturation Adjustment Yellow | -12 |
Scale Factor To 35 mm Equivalent | 1.6 |
Scene Capture Type | Standard |
Sensitivity Type | Recommended Exposure Index |
Shadow Tint | 0 |
Shadows 2012 | +15 |
Sharpen Detail | 50 |
Sharpen Edge Masking | 0 |
Sharpen Radius | +1.0 |
Sharpness | 0 |
Split Toning Balance | 0 |
Split Toning Highlight Hue | 0 |
Split Toning Highlight Saturation | 0 |
Split Toning Shadow Hue | 0 |
Split Toning Shadow Saturation | 0 |
Tint | +60 |
Tone Curve | 0, 0, 255, 255 |
Tone Curve Blue | 0, 0, 255, 255 |
Tone Curve Green | 0, 0, 255, 255 |
Tone Curve Name | Linear |
Tone Curve Name 2012 | Custom |
Tone Curve PV2012 | 0, 27, 67, 67, 135, 141, 185, 200, 255, 255 |
Tone Curve PV2012 Blue | 0, 0, 63, 41, 99, 98, 203, 214, 255, 255 |
Tone Curve PV2012 Green | 0, 5, 59, 39, 114, 122, 176, 198, 255, 255 |
Tone Curve PV2012 Red | 0, 8, 58, 45, 117, 123, 170, 190, 255, 255 |
Tone Curve Red | 0, 0, 255, 255 |
Version | 8.7 |
Vibrance | -15 |
Vignette Amount | 0 |
White Balance | Auto |
Whites 2012 | -5 |