Shooting information for this photo
Camera: | SONY SLT-A77V |
Exposure: | 0.002 sec. (1/500) |
Aperture: | f/8.0 |
Focal Length: | 17.0 mm (35 mm equivalent: 25.0 mm) |
Flash: | Off, Did not fire |
Exposure mode: | Program AE |
Max Aperture: | 2.8 |
Resolution: | 240 x 240 dpi |
Original Date: | 2013:08:17 14:38:43 |
Created on: | 2013:08:17 14:38:43 |
Modified on: | 2013:08:22 22:41:06 |
Software: | Adobe Photoshop Lightroom 5.0 (Macintosh) |
Copyright: | Werner Kratz |
Already Applied | True |
Artist | Werner Kratz |
Auto Lateral CA | 0 |
Blacks 2012 | -3 |
Blue Hue | 0 |
Blue Saturation | 0 |
Brightness Value | 10.634375 |
Camera Profile | Adobe Standard |
Circle Of Confusion | 0.020 mm |
City | Zermatt |
Clarity 2012 | +30 |
Color Noise Reduction | 25 |
Color Noise Reduction Detail | 50 |
Color Temperature | 5200 |
Contrast | Normal |
Contrast 2012 | +10 |
Convert To Grayscale | False |
Country | Schweiz |
Creator | Werner Kratz |
Crop Angle | 0 |
Crop Bottom | 0.88301 |
Crop Constrain To Warp | 0 |
Crop Left | 0.11699 |
Crop Right | 1 |
Crop Top | 0 |
Custom Rendered | Normal |
Date Created | 2013:08:17 14:38:43 |
Defringe Green Amount | 0 |
Defringe Green Hue Hi | 60 |
Defringe Green Hue Lo | 40 |
Defringe Purple Amount | 0 |
Defringe Purple Hue Hi | 70 |
Defringe Purple Hue Lo | 30 |
Exposure 2012 | +0.45 |
Exposure Compensation | 0 |
Exposure Mode | Auto |
Field Of View | 71.5 deg |
Focal Length In 35mm Format | 25 mm |
Format | image/jpeg |
Grain Amount | 0 |
Green Hue | 0 |
Green Saturation | 0 |
Has Crop | True |
Has Settings | True |
Highlights 2012 | 0 |
Hue Adjustment Aqua | 0 |
Hue Adjustment Blue | 0 |
Hue Adjustment Green | 0 |
Hue Adjustment Magenta | 0 |
Hue Adjustment Orange | 0 |
Hue Adjustment Purple | 0 |
Hue Adjustment Red | 0 |
Hue Adjustment Yellow | 0 |
Hyperfocal Distance | 1.77 m |
ISO | 100 |
Image Size | 2048x1365 |
Lens | DT 16-50mm F2.8 SSM |
Lens ID | Sony DT 16-50mm F2.8 SSM (SAL1650) |
Lens Info | 16-50mm f/2.8 |
Lens Manual Distortion Amount | 0 |
Lens Model | DT 16-50mm F2.8 SSM |
Lens Profile Chromatic Aberration Scale | 100 |
Lens Profile Distortion Scale | 100 |
Lens Profile Enable | 1 |
Lens Profile Filename | c780c0d2e8d34fbf89bd593201b608 90.lcp |
Lens Profile Name | SLT-A77V - DT 16-50mm F2.8 SSM |
Lens Profile Setup | Custom |
Lens Profile Vignetting Scale | 100 |
Light Source | Unknown |
Light Value | 15.0 |
Location | Hotel Gornergrat Kulm |
Luminance Adjustment Aqua | 0 |
Luminance Adjustment Blue | 0 |
Luminance Adjustment Green | 0 |
Luminance Adjustment Magenta | 0 |
Luminance Adjustment Orange | 0 |
Luminance Adjustment Purple | 0 |
Luminance Adjustment Red | 0 |
Luminance Adjustment Yellow | 0 |
Luminance Smoothing | 0 |
Marked | True |
Metering Mode | Multi-segment |
Parametric Darks | 0 |
Parametric Highlight Split | 75 |
Parametric Highlights | 0 |
Parametric Lights | 0 |
Parametric Midtone Split | 50 |
Parametric Shadow Split | 25 |
Parametric Shadows | 0 |
Perspective Aspect | 0 |
Perspective Horizontal | 0 |
Perspective Rotate | 0.0 |
Perspective Scale | 100 |
Perspective Upright | 1 |
Perspective Vertical | 0 |
Post Crop Vignette Amount | 0 |
Process Version | 6.7 |
Rating | 5 |
Recommended Exposure Index | 100 |
Red Hue | 0 |
Red Saturation | 0 |
Rights | Werner Kratz |
Saturation | Normal |
Saturation Adjustment Aqua | 0 |
Saturation Adjustment Blue | 0 |
Saturation Adjustment Green | 0 |
Saturation Adjustment Magenta | 0 |
Saturation Adjustment Orange | 0 |
Saturation Adjustment Purple | 0 |
Saturation Adjustment Red | 0 |
Saturation Adjustment Yellow | 0 |
Scale Factor To 35 mm Equivalent | 1.5 |
Scene Capture Type | Standard |
Scene Type | Directly photographed |
Sensitivity Type | Recommended Exposure Index |
Shadow Tint | 0 |
Shadows 2012 | 0 |
Sharpen Detail | 25 |
Sharpen Edge Masking | 0 |
Sharpen Radius | +1.0 |
Sharpness | Normal |
Split Toning Balance | 0 |
Split Toning Highlight Hue | 0 |
Split Toning Highlight Saturation | 0 |
Split Toning Shadow Hue | 0 |
Split Toning Shadow Saturation | 0 |
State | Wallis |
Subject | 2013, 77, Alpen, Alpha, Gornergrat, Kapelle, SAL-1650F28, SLT-A77V, Schweiz, Sony, Switzerland, Valais, Valais Alps, Wallis, Walliser Alpen, Zermatt, alps, chapel |
Tint | +1 |
Title | Chapel on the Gornergrat |
Tone Curve Name 2012 | Linear |
Tone Curve PV2012 | 0, 0, 255, 255 |
Tone Curve PV2012 Blue | 0, 0, 255, 255 |
Tone Curve PV2012 Green | 0, 0, 255, 255 |
Tone Curve PV2012 Red | 0, 0, 255, 255 |
Version | 8.1 |
Vibrance | +25 |
Vignette Amount | 0 |
White Balance | Auto |
Whites 2012 | +30 |
GPS Information |
GPS Altitude | 3126.2 m Above Sea Level |
GPS Altitude Ref | Above Sea Level |
GPS Date Stamp | 2013:08:17 |
GPS Date/Time | 2013:08:17 12:38:44Z |
GPS Differential | No Correction |
GPS Dilution Of Precision | 1.5636 |
GPS Latitude | 45 deg 59' 0.59" N |
GPS Latitude Ref | North |
GPS Longitude | 7 deg 46' 59.95" E |
GPS Longitude Ref | East |
GPS Map Datum | WGS-84 |
GPS Measure Mode | 3-Dimensional Measurement |
GPS Position | 45 deg 59' 0.59" N, 7 deg 46' 59.95" E |
GPS Speed | 0.503 |
GPS Speed Ref | km/h |
GPS Status | Measurement Active |
GPS Time Stamp | 12:38:44 |
GPS Track | 341.16 |
GPS Track Ref | True North |
GPS Version ID | 2.3.0.0 |