Shooting information for this photo
Camera: | OLYMPUS CORPORATION TG-5 |
Exposure: | 0.004 sec. (1/250) |
Aperture: | f/2.8 |
Focal Length: | 4.5 mm (35 mm equivalent: 25.0 mm) |
Flash: | Off, Did not fire |
Exposure mode: | Program AE |
Max Aperture: | 2.8 |
Resolution: | 240 x 240 dpi |
Dimension: | 4000 x 3000 pixels |
Original Date: | 2018:03:13 01:35:32 |
Created on: | 2018:03:13 01:35:32 |
Modified on: | 2018:03:13 20:14:41 |
Software: | Adobe Photoshop Lightroom 6.12 (Macintosh) |
Already Applied | True |
Auto Lateral CA | 0 |
Auto White Version | 134348800 |
Blacks 2012 | +25 |
Blue Hue | -12 |
Blue Saturation | +5 |
Camera Profile | Adobe Standard |
Circle Of Confusion | 0.005 mm |
Clarity 2012 | +15 |
Color Noise Reduction | 25 |
Color Noise Reduction Detail | 50 |
Color Noise Reduction Smoothness | 50 |
Color Space | sRGB |
Color Temperature | 6100 |
Contrast | Normal |
Contrast 2012 | -15 |
Convert To Grayscale | False |
Custom Rendered | Normal |
Defringe Green Amount | 0 |
Defringe Green Hue Hi | 60 |
Defringe Green Hue Lo | 40 |
Defringe Purple Amount | 0 |
Defringe Purple Hue Hi | 70 |
Defringe Purple Hue Lo | 30 |
Dehaze | 0 |
Description | OLYMPUS DIGITAL CAMERA |
Digital Zoom Ratio | 1 |
Distortion Correction Already Applied | True |
Exposure 2012 | 0.00 |
Exposure Compensation | 0 |
Exposure Mode | Auto |
Field Of View | 71.5 deg |
Flash Compensation | 0 |
Focal Length In 35mm Format | 25 mm |
Format | image/jpeg |
Gain Control | None |
Gradient Based Corr Active | true |
Gradient Based Corr Amount | 1.000000 |
Gradient Based Corr Brightness | 0.000000 |
Gradient Based Corr Clarity 2012 | 0.000000 |
Gradient Based Corr Contrast 2012 | 0.000000 |
Gradient Based Corr Exposure 2012 | -0.500000 |
Gradient Based Corr Highlights 2012 | 0.000000 |
Gradient Based Corr Hue | 0.000000 |
Gradient Based Corr Luminance Noise | 0.000000 |
Gradient Based Corr Mask Full X | 0.505643 |
Gradient Based Corr Mask Full Y | -0.001500 |
Gradient Based Corr Mask Value | 1.000000 |
Gradient Based Corr Mask What | Mask/Gradient |
Gradient Based Corr Mask Zero X | 0.501129 |
Gradient Based Corr Mask Zero Y | 0.640602 |
Gradient Based Corr Moire | 0.000000 |
Gradient Based Corr Saturation | 0.000000 |
Gradient Based Corr Shadows 2012 | 0.000000 |
Gradient Based Corr Sharpness | 0.000000 |
Gradient Based Corr Temperature | 0.000000 |
Gradient Based Corr Tint | 0.000000 |
Gradient Based Corr What | Correction |
Grain Amount | 15 |
Grain Frequency | 100 |
Grain Size | 25 |
Green Hue | +55 |
Green Saturation | -25 |
Has Crop | False |
Has Settings | True |
Highlights 2012 | -20 |
Hue Adjustment Aqua | +5 |
Hue Adjustment Blue | 0 |
Hue Adjustment Green | +20 |
Hue Adjustment Magenta | 0 |
Hue Adjustment Orange | +12 |
Hue Adjustment Purple | +5 |
Hue Adjustment Red | +5 |
Hue Adjustment Yellow | +15 |
Hyperfocal Distance | 1.34 m |
ISO | 100 |
Image Description | OLYMPUS DIGITAL CAMERA |
Image Size | 4000x3000 |
Lens Manual Distortion Amount | 0 |
Lens Profile Enable | 0 |
Lens Profile Setup | LensDefaults |
Light Source | Unknown |
Light Value | 10.9 |
Luminance Adjustment Aqua | -10 |
Luminance Adjustment Blue | -5 |
Luminance Adjustment Green | -15 |
Luminance Adjustment Magenta | -5 |
Luminance Adjustment Orange | -10 |
Luminance Adjustment Purple | +10 |
Luminance Adjustment Red | -20 |
Luminance Adjustment Yellow | -14 |
Luminance Smoothing | 0 |
Metering Mode | Multi-segment |
Parametric Darks | 0 |
Parametric Highlight Split | 75 |
Parametric Highlights | 0 |
Parametric Lights | 0 |
Parametric Midtone Split | 50 |
Parametric Shadow Split | 25 |
Parametric Shadows | 0 |
Perspective Aspect | 0 |
Perspective Horizontal | 0 |
Perspective Rotate | 0.0 |
Perspective Scale | 100 |
Perspective Upright | 0 |
Perspective Vertical | 0 |
Perspective X | 0.00 |
Perspective Y | 0.00 |
Post Crop Vignette Amount | 0 |
Process Version | 6.7 |
Red Hue | +35 |
Red Saturation | +10 |
Saturation | High |
Saturation Adjustment Aqua | -20 |
Saturation Adjustment Blue | -5 |
Saturation Adjustment Green | -25 |
Saturation Adjustment Magenta | -25 |
Saturation Adjustment Orange | -10 |
Saturation Adjustment Purple | -10 |
Saturation Adjustment Red | -25 |
Saturation Adjustment Yellow | -10 |
Scale Factor To 35 mm Equivalent | 5.6 |
Scene Capture Type | Standard |
Sensitivity Type | Standard Output Sensitivity |
Shadow Tint | 0 |
Shadows 2012 | +35 |
Sharpen Detail | 25 |
Sharpen Edge Masking | 50 |
Sharpen Radius | +1.0 |
Sharpness | Normal |
Split Toning Balance | 0 |
Split Toning Highlight Hue | 0 |
Split Toning Highlight Saturation | 0 |
Split Toning Shadow Hue | 0 |
Split Toning Shadow Saturation | 0 |
Tint | +17 |
Tone Curve | 0, 0, 255, 255 |
Tone Curve Blue | 0, 0, 255, 255 |
Tone Curve Green | 0, 0, 255, 255 |
Tone Curve Name | Linear |
Tone Curve Name 2012 | Portra 800+1 - |
Tone Curve PV2012 | 0, 12, 122, 124, 255, 255 |
Tone Curve PV2012 Blue | 0, 0, 36, 11, 74, 44, 120, 119, 168, 189, 255, 255 |
Tone Curve PV2012 Green | 0, 0, 36, 9, 76, 47, 119, 119, 169, 190, 255, 255 |
Tone Curve PV2012 Red | 0, 0, 41, 9, 78, 46, 118, 119, 167, 189, 255, 255 |
Tone Curve Red | 0, 0, 255, 255 |
Tone Map Strength | 0 |
Version | 9.12 |
Vibrance | 0 |
Vignette Amount | 0 |
White Balance | Auto |
Whites 2012 | -20 |