Shooting information for this photo
Camera: | OLYMPUS CORPORATION TG-5 |
Exposure: | 0.004 sec. (1/250) |
Aperture: | f/9.0 |
Focal Length: | 5.5 mm (35 mm equivalent: 30.0 mm) |
Flash: | Off, Did not fire |
Exposure mode: | Creative (Slow speed) |
Max Aperture: | 2.8 |
Resolution: | 240 x 240 dpi |
Dimension: | 3000 x 4000 pixels |
Original Date: | 2018:03:01 01:29:29 |
Created on: | 2018:03:01 01:29:29 |
Modified on: | 2018:03:01 16:31:36 |
Software: | Adobe Photoshop Lightroom 6.12 (Macintosh) |
Already Applied | True |
Auto Lateral CA | 0 |
Auto White Version | 134348800 |
Blacks 2012 | +25 |
Blue Hue | -12 |
Blue Saturation | -15 |
Camera Profile | Portra 160⁺¹ |
Circle Of Confusion | 0.006 mm |
Clarity 2012 | +5 |
Color Noise Reduction | 0 |
Color Space | sRGB |
Contrast | High |
Contrast 2012 | +15 |
Convert To Grayscale | False |
Custom Rendered | Custom |
Defringe Green Amount | 0 |
Defringe Green Hue Hi | 60 |
Defringe Green Hue Lo | 40 |
Defringe Purple Amount | 0 |
Defringe Purple Hue Hi | 70 |
Defringe Purple Hue Lo | 30 |
Dehaze | 0 |
Description | OLYMPUS DIGITAL CAMERA |
Digital Zoom Ratio | 1 |
Exposure 2012 | -0.30 |
Exposure Compensation | 0 |
Exposure Mode | Auto |
Field Of View | 61.9 deg |
Flash Compensation | 0 |
Focal Length In 35mm Format | 30 mm |
Format | image/jpeg |
Gain Control | High gain up |
Grain Amount | 5 |
Grain Frequency | 50 |
Grain Size | 20 |
Green Hue | +50 |
Green Saturation | -10 |
Has Crop | False |
Has Settings | True |
Highlights 2012 | -30 |
Hue Adjustment Aqua | +5 |
Hue Adjustment Blue | -4 |
Hue Adjustment Green | +15 |
Hue Adjustment Magenta | +25 |
Hue Adjustment Orange | +12 |
Hue Adjustment Purple | +10 |
Hue Adjustment Red | +8 |
Hue Adjustment Yellow | +10 |
Hyperfocal Distance | 0.61 m |
ISO | 640 |
Image Description | OLYMPUS DIGITAL CAMERA |
Image Size | 3000x4000 |
Incremental Temperature | 0 |
Incremental Tint | 0 |
Lens Manual Distortion Amount | 0 |
Lens Profile Enable | 0 |
Lens Profile Setup | LensDefaults |
Light Source | Other |
Light Value | 11.6 |
Luminance Adjustment Aqua | 0 |
Luminance Adjustment Blue | -10 |
Luminance Adjustment Green | 0 |
Luminance Adjustment Magenta | 0 |
Luminance Adjustment Orange | -2 |
Luminance Adjustment Purple | 0 |
Luminance Adjustment Red | -20 |
Luminance Adjustment Yellow | 0 |
Luminance Smoothing | 0 |
Metering Mode | Multi-segment |
Parametric Darks | +4 |
Parametric Highlight Split | 75 |
Parametric Highlights | -5 |
Parametric Lights | +10 |
Parametric Midtone Split | 48 |
Parametric Shadow Split | 20 |
Parametric Shadows | -15 |
Perspective Aspect | 0 |
Perspective Horizontal | 0 |
Perspective Rotate | 0.0 |
Perspective Scale | 100 |
Perspective Upright | 0 |
Perspective Vertical | 0 |
Perspective X | 0.00 |
Perspective Y | 0.00 |
Post Crop Vignette Amount | 0 |
Process Version | 6.7 |
Red Hue | +30 |
Red Saturation | -10 |
Saturation | High |
Saturation Adjustment Aqua | -10 |
Saturation Adjustment Blue | -10 |
Saturation Adjustment Green | -20 |
Saturation Adjustment Magenta | -20 |
Saturation Adjustment Orange | -2 |
Saturation Adjustment Purple | 0 |
Saturation Adjustment Red | -20 |
Saturation Adjustment Yellow | -5 |
Scale Factor To 35 mm Equivalent | 5.5 |
Scene Capture Type | Standard |
Sensitivity Type | Standard Output Sensitivity |
Shadow Tint | 0 |
Shadows 2012 | +30 |
Sharpen Detail | 30 |
Sharpen Edge Masking | 39 |
Sharpen Radius | +1.2 |
Sharpness | Normal |
Split Toning Balance | 0 |
Split Toning Highlight Hue | 0 |
Split Toning Highlight Saturation | 0 |
Split Toning Shadow Hue | 0 |
Split Toning Shadow Saturation | 0 |
Tone Curve | 0, 0, 255, 255 |
Tone Curve Blue | 0, 0, 255, 255 |
Tone Curve Green | 0, 0, 255, 255 |
Tone Curve Name | Linear |
Tone Curve Name 2012 | Portra 160+1 - |
Tone Curve PV2012 | 0, 0, 21, 29, 51, 61, 91, 97, 168, 170, 255, 255 |
Tone Curve PV2012 Blue | 0, 0, 44, 18, 80, 63, 117, 122, 179, 200, 255, 255 |
Tone Curve PV2012 Green | 0, 0, 46, 20, 117, 122, 179, 200, 255, 255 |
Tone Curve PV2012 Red | 0, 0, 47, 18, 80, 62, 117, 122, 179, 200, 255, 255 |
Tone Curve Red | 0, 0, 255, 255 |
Tone Map Strength | 0 |
Version | 9.12 |
Vibrance | 0 |
Vignette Amount | 0 |
White Balance | Auto |
Whites 2012 | -25 |