Shooting information for this photo
Camera: | Panasonic DMC-GM5 |
Exposure: | 0.00625 sec. (1/160) |
Aperture: | f/8.0 |
Focal Length: | 25.0 mm (35 mm equivalent: 50.0 mm) |
Flash: | Off, Did not fire |
Exposure mode: | Aperture-priority AE |
Max Aperture: | 5.1 |
Resolution: | 240 x 240 dpi |
Dimension: | 4592 x 3448 pixels |
Original Date: | 2017:08:13 10:12:34.652 |
Created on: | 2017:08:13 10:12:34.652 |
Modified on: | 2017:08:14 22:55:19 |
Software: | Adobe Photoshop Lightroom 5.7.1 (Macintosh) |
Already Applied | True |
Auto Lateral CA | 0 |
Auto White Version | 134348800 |
Blacks 2012 | +15 |
Blue Hue | 0 |
Blue Saturation | +30 |
Camera Profile | Adobe Standard |
Circle Of Confusion | 0.015 mm |
Clarity 2012 | 0 |
Color Noise Reduction | 25 |
Color Noise Reduction Detail | 50 |
Color Noise Reduction Smoothness | 50 |
Color Space | sRGB |
Color Temperature | 5300 |
Contrast | High |
Contrast 2012 | +25 |
Convert To Grayscale | True |
Custom Rendered | Custom |
Digital Zoom Ratio | 0 |
Exposure 2012 | 0.00 |
Exposure Compensation | 0 |
Exposure Mode | Auto |
Field Of View | 39.6 deg |
Focal Length In 35mm Format | 50 mm |
Format | image/jpeg |
Gain Control | Low gain up |
Grain Amount | 15 |
Grain Frequency | 100 |
Grain Size | 15 |
Gray Mixer Aqua | -15 |
Gray Mixer Blue | -5 |
Gray Mixer Green | -20 |
Gray Mixer Magenta | +4 |
Gray Mixer Orange | 0 |
Gray Mixer Purple | 0 |
Gray Mixer Red | -5 |
Gray Mixer Yellow | -15 |
Green Hue | 0 |
Green Saturation | -50 |
Has Crop | False |
Has Settings | True |
Highlights 2012 | -30 |
Hyperfocal Distance | 5.20 m |
ISO | 200 |
Image Size | 4592x3448 |
Lens | LUMIX G VARIO 12-32/F3.5-5.6 |
Lens Manual Distortion Amount | 0 |
Lens Model | LUMIX G VARIO 12-32/F3.5-5.6 |
Lens Profile Enable | 0 |
Lens Profile Setup | LensDefaults |
Light Source | Unknown |
Light Value | 12.3 |
Luminance Smoothing | 0 |
Metering Mode | Multi-segment |
Parametric Darks | -36 |
Parametric Highlight Split | 84 |
Parametric Highlights | -45 |
Parametric Lights | +45 |
Parametric Midtone Split | 44 |
Parametric Shadow Split | 30 |
Parametric Shadows | -22 |
Perspective Aspect | 0 |
Perspective Horizontal | 0 |
Perspective Rotate | 0.0 |
Perspective Scale | 100 |
Perspective Upright | 0 |
Perspective Vertical | 0 |
Post Crop Vignette Amount | 0 |
Process Version | 6.7 |
Red Hue | 0 |
Red Saturation | 0 |
Saturation | Normal |
Scale Factor To 35 mm Equivalent | 2.0 |
Scene Capture Type | Standard |
Scene Type | Directly photographed |
Sensing Method | One-chip color area |
Shadow Tint | 0 |
Shadows 2012 | +20 |
Sharpen Detail | 32 |
Sharpen Edge Masking | 42 |
Sharpen Radius | +1.5 |
Sharpness | Hard |
Split Toning Balance | 0 |
Split Toning Highlight Hue | 0 |
Split Toning Highlight Saturation | 0 |
Split Toning Shadow Hue | 0 |
Split Toning Shadow Saturation | 0 |
Tint | +11 |
Tone Curve | 0, 0, 255, 255 |
Tone Curve Blue | 0, 0, 255, 255 |
Tone Curve Green | 0, 0, 255, 255 |
Tone Curve Name | Linear |
Tone Curve Name 2012 | HP5+3 - |
Tone Curve PV2012 | 0, 4, 21, 23, 119, 126, 170, 182, 255, 255 |
Tone Curve PV2012 Blue | 0, 0, 255, 255 |
Tone Curve PV2012 Green | 0, 0, 255, 255 |
Tone Curve PV2012 Red | 0, 0, 255, 255 |
Tone Curve Red | 0, 0, 255, 255 |
Version | 8.7.1 |
Vignette Amount | 0 |
White Balance | Auto |
Whites 2012 | +30 |