Shooting information for this photo
Camera: | Panasonic DMC-GX1 |
Exposure: | 0.1 sec. (1/10) |
Aperture: | f/3.5 |
Focal Length: | 12.0 mm (35 mm equivalent: 24.0 mm) |
Flash: | Off, Did not fire |
Exposure mode: | Aperture-priority AE |
Max Aperture: | 3.5 |
Resolution: | 240 x 240 dpi |
Dimension: | 4592 x 3448 pixels |
Original Date: | 2017:08:05 21:16:30 |
Created on: | 2017:08:05 21:16:30 |
Modified on: | 2017:08:07 08:55:22 |
Software: | Adobe Photoshop Lightroom 5.7.1 (Macintosh) |
Already Applied | True |
Auto Lateral CA | 0 |
Auto White Version | 134348800 |
Blacks 2012 | +5 |
Blue Hue | 0 |
Blue Saturation | +12 |
Camera Profile | Adobe Standard |
Circle Of Confusion | 0.015 mm |
Clarity 2012 | +55 |
Color Noise Reduction | 25 |
Color Noise Reduction Detail | 50 |
Color Noise Reduction Smoothness | 50 |
Color Space | sRGB |
Color Temperature | 2500 |
Contrast | Normal |
Contrast 2012 | +20 |
Convert To Grayscale | True |
Custom Rendered | Normal |
Digital Zoom Ratio | 0 |
Exposure 2012 | 0.00 |
Exposure Compensation | -0.66 |
Exposure Mode | Auto |
Field Of View | 73.7 deg |
Focal Length In 35mm Format | 24 mm |
Format | image/jpeg |
Gain Control | High gain up |
Grain Amount | 0 |
Gray Mixer Aqua | -20 |
Gray Mixer Blue | +22 |
Gray Mixer Green | -26 |
Gray Mixer Magenta | +33 |
Gray Mixer Orange | -15 |
Gray Mixer Purple | +41 |
Gray Mixer Red | -4 |
Gray Mixer Yellow | -20 |
Green Hue | -5 |
Green Saturation | 0 |
Has Crop | False |
Has Settings | True |
Highlights 2012 | -10 |
Hyperfocal Distance | 2.74 m |
ISO | 1600 |
Image Size | 4592x3448 |
Lens | LUMIX G VARIO 12-32/F3.5-5.6 |
Lens Manual Distortion Amount | 0 |
Lens Model | LUMIX G VARIO 12-32/F3.5-5.6 |
Lens Profile Enable | 0 |
Lens Profile Setup | LensDefaults |
Light Source | Unknown |
Light Value | 2.9 |
Luminance Smoothing | 0 |
Metering Mode | Multi-segment |
Parametric Darks | -22 |
Parametric Highlight Split | 80 |
Parametric Highlights | -18 |
Parametric Lights | +65 |
Parametric Midtone Split | 50 |
Parametric Shadow Split | 18 |
Parametric Shadows | +88 |
Perspective Aspect | 0 |
Perspective Horizontal | 0 |
Perspective Rotate | 0.0 |
Perspective Scale | 100 |
Perspective Upright | 0 |
Perspective Vertical | 0 |
Post Crop Vignette Amount | 0 |
Process Version | 6.7 |
Red Hue | +10 |
Red Saturation | -15 |
Saturation | Normal |
Scale Factor To 35 mm Equivalent | 2.0 |
Scene Capture Type | Standard |
Scene Type | Directly photographed |
Sensing Method | One-chip color area |
Shadow Tint | 0 |
Shadows 2012 | +25 |
Sharpen Detail | 43 |
Sharpen Edge Masking | 43 |
Sharpen Radius | +1.7 |
Sharpness | Normal |
Split Toning Balance | +40 |
Split Toning Highlight Hue | 245 |
Split Toning Highlight Saturation | 7 |
Split Toning Shadow Hue | 53 |
Split Toning Shadow Saturation | 17 |
Tint | -107 |
Tone Curve | 0, 0, 255, 255 |
Tone Curve Blue | 0, 0, 255, 255 |
Tone Curve Green | 0, 0, 255, 255 |
Tone Curve Name | Linear |
Tone Curve Name 2012 | Custom |
Tone Curve PV2012 | 0, 0, 17, 30, 57, 78, 135, 151, 201, 206, 255, 255 |
Tone Curve PV2012 Blue | 0, 0, 34, 19, 123, 130, 221, 233, 255, 255 |
Tone Curve PV2012 Green | 0, 0, 39, 21, 122, 129, 220, 234, 255, 255 |
Tone Curve PV2012 Red | 0, 0, 36, 18, 88, 78, 118, 126, 160, 182, 255, 255 |
Tone Curve Red | 0, 0, 255, 255 |
Version | 8.7.1 |
Vignette Amount | 0 |
White Balance | Manual |
Whites 2012 | +65 |