Shooting information for this photo
Camera: | FUJIFILM X70 |
Exposure: | 0.04 sec. (1/25) |
Aperture: | f/2.8 |
Focal Length: | 18.5 mm (35 mm equivalent: 28.5 mm) |
Flash: | Off, Did not fire |
Exposure mode: | Aperture-priority AE |
Max Aperture: | 2.8 |
Resolution: | 240 x 240 dpi |
Dimension: | 4896 x 3264 pixels |
Original Date: | 2017:07:28 22:43:12 |
Created on: | 2017:07:28 22:43:12 |
Modified on: | 2017:07:31 00:12:10 |
Software: | Adobe Photoshop Lightroom 5.7.1 (Macintosh) |
Already Applied | True |
Auto Lateral CA | 0 |
Auto White Version | 134348800 |
Blacks 2012 | +25 |
Blue Hue | -15 |
Blue Saturation | 0 |
Brightness Value | -1.81 |
Camera Profile | Adobe Standard |
Circle Of Confusion | 0.020 mm |
Clarity 2012 | 0 |
Color Noise Reduction | 0 |
Color Space | sRGB |
Contrast 2012 | 0 |
Convert To Grayscale | False |
Custom Rendered | Normal |
Defringe Green Amount | 0 |
Defringe Green Hue Hi | 60 |
Defringe Green Hue Lo | 40 |
Defringe Purple Amount | 0 |
Defringe Purple Hue Hi | 70 |
Defringe Purple Hue Lo | 30 |
Exposure 2012 | 0.00 |
Exposure Compensation | 0 |
Exposure Mode | Auto |
Field Of View | 64.6 deg |
Format | image/jpeg |
Grain Amount | 0 |
Green Hue | 0 |
Green Saturation | 0 |
Has Crop | False |
Has Settings | True |
Highlights 2012 | -25 |
Hue Adjustment Aqua | -15 |
Hue Adjustment Blue | -30 |
Hue Adjustment Green | -5 |
Hue Adjustment Magenta | +15 |
Hue Adjustment Orange | 0 |
Hue Adjustment Purple | 0 |
Hue Adjustment Red | +10 |
Hue Adjustment Yellow | -10 |
Hyperfocal Distance | 6.26 m |
ISO | 3200 |
Image Size | 4896x3264 |
Incremental Temperature | 0 |
Incremental Tint | 0 |
Lens Manual Distortion Amount | 0 |
Lens Profile Enable | 0 |
Lens Profile Setup | LensDefaults |
Light Source | Unknown |
Light Value | 2.6 |
Luminance Adjustment Aqua | -5 |
Luminance Adjustment Blue | -15 |
Luminance Adjustment Green | -40 |
Luminance Adjustment Magenta | +10 |
Luminance Adjustment Orange | -10 |
Luminance Adjustment Purple | +20 |
Luminance Adjustment Red | -20 |
Luminance Adjustment Yellow | -35 |
Luminance Smoothing | 0 |
Metering Mode | Multi-segment |
Parametric Darks | -15 |
Parametric Highlight Split | 75 |
Parametric Highlights | +2 |
Parametric Lights | +8 |
Parametric Midtone Split | 37 |
Parametric Shadow Split | 14 |
Parametric Shadows | -5 |
Perspective Aspect | 0 |
Perspective Horizontal | 0 |
Perspective Rotate | 0.0 |
Perspective Scale | 100 |
Perspective Upright | 0 |
Perspective Vertical | 0 |
Post Crop Vignette Amount | 0 |
Process Version | 6.7 |
Red Hue | +10 |
Red Saturation | -5 |
Saturation | -10 |
Saturation Adjustment Aqua | -10 |
Saturation Adjustment Blue | -30 |
Saturation Adjustment Green | -20 |
Saturation Adjustment Magenta | -40 |
Saturation Adjustment Orange | -15 |
Saturation Adjustment Purple | -45 |
Saturation Adjustment Red | -15 |
Saturation Adjustment Yellow | 0 |
Scale Factor To 35 mm Equivalent | 1.5 |
Scene Capture Type | Standard |
Scene Type | Directly photographed |
Sensing Method | One-chip color area |
Sensitivity Type | Standard Output Sensitivity |
Shadow Tint | 0 |
Shadows 2012 | +25 |
Sharpen Detail | 25 |
Sharpen Edge Masking | 30 |
Sharpen Radius | +1.4 |
Sharpness | Hard |
Split Toning Balance | 0 |
Split Toning Highlight Hue | 0 |
Split Toning Highlight Saturation | 0 |
Split Toning Shadow Hue | 0 |
Split Toning Shadow Saturation | 0 |
Subject Distance Range | Unknown |
Tone Curve | 0, 0, 255, 255 |
Tone Curve Blue | 0, 0, 255, 255 |
Tone Curve Green | 0, 0, 255, 255 |
Tone Curve Name | Linear |
Tone Curve Name 2012 | Custom |
Tone Curve PV2012 | 0, 1, 29, 34, 93, 95, 161, 165, 255, 255 |
Tone Curve PV2012 Blue | 0, 0, 40, 29, 113, 119, 217, 230, 255, 255 |
Tone Curve PV2012 Green | 0, 0, 45, 35, 116, 122, 213, 228, 255, 255 |
Tone Curve PV2012 Red | 0, 0, 41, 24, 115, 120, 177, 190, 232, 234, 255, 246 |
Tone Curve Red | 0, 0, 255, 255 |
Version | 8.7.1 |
Vibrance | 0 |
Vignette Amount | 0 |
White Balance | Auto |
Whites 2012 | -10 |