Shooting information for this photo
Camera: | FUJIFILM X70 |
Exposure: | 0.00125 sec. (1/800) |
Aperture: | f/4.0 |
Focal Length: | 18.5 mm (35 mm equivalent: 28.5 mm) |
Flash: | Off, Did not fire |
Exposure mode: | Aperture-priority AE |
Max Aperture: | 2.8 |
Resolution: | 240 x 240 dpi |
Dimension: | 4896 x 3264 pixels |
Original Date: | 2017:07:25 16:20:51 |
Created on: | 2017:07:25 16:20:51 |
Modified on: | 2017:07:30 14:07:28 |
Software: | Adobe Photoshop Lightroom 5.7.1 (Macintosh) |
Already Applied | True |
Auto Lateral CA | 0 |
Auto White Version | 134348800 |
Blacks 2012 | -10 |
Blue Hue | -15 |
Blue Saturation | 0 |
Brightness Value | 8.26 |
Camera Profile | Adobe Standard |
Circle Of Confusion | 0.020 mm |
Clarity 2012 | 0 |
Color Noise Reduction | 0 |
Color Space | sRGB |
Contrast 2012 | 0 |
Convert To Grayscale | False |
Custom Rendered | Normal |
Defringe Green Amount | 0 |
Defringe Green Hue Hi | 60 |
Defringe Green Hue Lo | 40 |
Defringe Purple Amount | 0 |
Defringe Purple Hue Hi | 70 |
Defringe Purple Hue Lo | 30 |
Exposure 2012 | 0.00 |
Exposure Compensation | 0 |
Exposure Mode | Auto |
Field Of View | 64.6 deg |
Format | image/jpeg |
Grain Amount | 10 |
Grain Frequency | 100 |
Grain Size | 65 |
Green Hue | 0 |
Green Saturation | 0 |
Has Crop | False |
Has Settings | True |
Highlights 2012 | -10 |
Hue Adjustment Aqua | +30 |
Hue Adjustment Blue | 0 |
Hue Adjustment Green | +20 |
Hue Adjustment Magenta | +46 |
Hue Adjustment Orange | 0 |
Hue Adjustment Purple | +60 |
Hue Adjustment Red | +20 |
Hue Adjustment Yellow | 0 |
Hyperfocal Distance | 4.38 m |
ISO | 200 |
Image Size | 4896x3264 |
Incremental Temperature | 0 |
Incremental Tint | 0 |
Lens Manual Distortion Amount | 0 |
Lens Profile Enable | 0 |
Lens Profile Setup | LensDefaults |
Light Source | Unknown |
Light Value | 12.6 |
Luminance Adjustment Aqua | -40 |
Luminance Adjustment Blue | -40 |
Luminance Adjustment Green | -15 |
Luminance Adjustment Magenta | +30 |
Luminance Adjustment Orange | -5 |
Luminance Adjustment Purple | +25 |
Luminance Adjustment Red | 0 |
Luminance Adjustment Yellow | 0 |
Luminance Smoothing | 0 |
Metering Mode | Multi-segment |
Parametric Darks | -55 |
Parametric Highlight Split | 70 |
Parametric Highlights | -25 |
Parametric Lights | +35 |
Parametric Midtone Split | 40 |
Parametric Shadow Split | 20 |
Parametric Shadows | 0 |
Perspective Aspect | 0 |
Perspective Horizontal | 0 |
Perspective Rotate | 0.0 |
Perspective Scale | 100 |
Perspective Upright | 0 |
Perspective Vertical | 0 |
Post Crop Vignette Amount | 0 |
Process Version | 6.7 |
Red Hue | +25 |
Red Saturation | -15 |
Saturation | -15 |
Saturation Adjustment Aqua | -36 |
Saturation Adjustment Blue | 0 |
Saturation Adjustment Green | -60 |
Saturation Adjustment Magenta | -30 |
Saturation Adjustment Orange | -10 |
Saturation Adjustment Purple | -60 |
Saturation Adjustment Red | -20 |
Saturation Adjustment Yellow | -10 |
Scale Factor To 35 mm Equivalent | 1.5 |
Scene Capture Type | Standard |
Scene Type | Directly photographed |
Sensing Method | One-chip color area |
Sensitivity Type | Standard Output Sensitivity |
Shadow Tint | 0 |
Shadows 2012 | +10 |
Sharpen Detail | 25 |
Sharpen Edge Masking | 0 |
Sharpen Radius | +1.0 |
Sharpness | Hard |
Split Toning Balance | 0 |
Split Toning Highlight Hue | 0 |
Split Toning Highlight Saturation | 0 |
Split Toning Shadow Hue | 0 |
Split Toning Shadow Saturation | 0 |
Subject Distance Range | Unknown |
Tone Curve | 0, 0, 255, 255 |
Tone Curve Blue | 0, 0, 255, 255 |
Tone Curve Green | 0, 0, 255, 255 |
Tone Curve Name | Linear |
Tone Curve Name 2012 | Custom |
Tone Curve PV2012 | 0, 52, 49, 70, 158, 149, 227, 225, 255, 253 |
Tone Curve PV2012 Blue | 0, 18, 30, 37, 74, 78, 101, 113, 146, 153, 208, 192, 255, 222 |
Tone Curve PV2012 Green | 0, 4, 29, 18, 57, 47, 100, 119, 134, 163, 172, 194, 217, 220, 255, 242 |
Tone Curve PV2012 Red | 0, 20, 38, 27, 67, 56, 98, 121, 170, 199, 255, 255 |
Tone Curve Red | 0, 0, 255, 255 |
Version | 8.7.1 |
Vibrance | 0 |
Vignette Amount | 0 |
White Balance | Auto |
Whites 2012 | -10 |