Shooting information for this photo
Camera: | Panasonic DMC-GX8 |
Exposure: | 0.0005 sec. (1/2000) |
Aperture: | f/1.6 |
Focal Length: | 30.0 mm (35 mm equivalent: 60.0 mm) |
Flash: | Off, Did not fire |
Exposure mode: | Aperture-priority AE |
Max Aperture: | 1.4 |
Resolution: | 240 x 240 dpi |
Dimension: | 5184 x 3888 pixels |
Original Date: | 2017:06:26 14:42:10.712 |
Created on: | 2017:06:26 14:42:10.712 |
Modified on: | 2017:06:27 22:51:22 |
Software: | Adobe Photoshop Lightroom 5.7.1 (Macintosh) |
Already Applied | True |
Auto Lateral CA | 0 |
Auto White Version | 134348800 |
Blacks 2012 | +15 |
Blue Hue | -12 |
Blue Saturation | -12 |
Camera Profile | Portra 160⁺¹ |
Circle Of Confusion | 0.015 mm |
Clarity 2012 | 0 |
Color Noise Reduction | 25 |
Color Noise Reduction Detail | 50 |
Color Noise Reduction Smoothness | 50 |
Color Space | sRGB |
Color Temperature | 5550 |
Contrast | Normal |
Contrast 2012 | 0 |
Convert To Grayscale | False |
Custom Rendered | Normal |
Defringe Green Amount | 0 |
Defringe Green Hue Hi | 60 |
Defringe Green Hue Lo | 40 |
Defringe Purple Amount | 0 |
Defringe Purple Hue Hi | 70 |
Defringe Purple Hue Lo | 30 |
Digital Zoom Ratio | 0 |
Exposure 2012 | 0.00 |
Exposure Compensation | 0 |
Exposure Mode | Auto |
Field Of View | 33.4 deg |
Focal Length In 35mm Format | 60 mm |
Format | image/jpeg |
Gain Control | Low gain up |
Grain Amount | 20 |
Grain Frequency | 50 |
Grain Size | 20 |
Green Hue | +50 |
Green Saturation | -8 |
Has Crop | False |
Has Settings | True |
Highlights 2012 | -25 |
Hue Adjustment Aqua | +5 |
Hue Adjustment Blue | -4 |
Hue Adjustment Green | +15 |
Hue Adjustment Magenta | +25 |
Hue Adjustment Orange | +12 |
Hue Adjustment Purple | +10 |
Hue Adjustment Red | +8 |
Hue Adjustment Yellow | +10 |
Hyperfocal Distance | 37.44 m |
ISO | 200 |
Image Size | 5184x3888 |
Lens | SIGMA 30mm F1.4 DC DN | C 016 |
Lens Manual Distortion Amount | 0 |
Lens Model | SIGMA 30mm F1.4 DC DN | C 016 |
Lens Profile Enable | 0 |
Lens Profile Setup | LensDefaults |
Light Source | Unknown |
Light Value | 11.3 |
Luminance Adjustment Aqua | 0 |
Luminance Adjustment Blue | -10 |
Luminance Adjustment Green | 0 |
Luminance Adjustment Magenta | 0 |
Luminance Adjustment Orange | 0 |
Luminance Adjustment Purple | 0 |
Luminance Adjustment Red | -20 |
Luminance Adjustment Yellow | 0 |
Luminance Smoothing | 0 |
Metering Mode | Multi-segment |
Parametric Darks | +4 |
Parametric Highlight Split | 75 |
Parametric Highlights | -5 |
Parametric Lights | 0 |
Parametric Midtone Split | 48 |
Parametric Shadow Split | 20 |
Parametric Shadows | -15 |
Perspective Aspect | 0 |
Perspective Horizontal | 0 |
Perspective Rotate | 0.0 |
Perspective Scale | 100 |
Perspective Upright | 0 |
Perspective Vertical | 0 |
Post Crop Vignette Amount | 0 |
Process Version | 6.7 |
Red Hue | +30 |
Red Saturation | -8 |
Saturation | Normal |
Saturation Adjustment Aqua | -10 |
Saturation Adjustment Blue | -10 |
Saturation Adjustment Green | -20 |
Saturation Adjustment Magenta | -20 |
Saturation Adjustment Orange | -5 |
Saturation Adjustment Purple | 0 |
Saturation Adjustment Red | -20 |
Saturation Adjustment Yellow | -5 |
Scale Factor To 35 mm Equivalent | 2.0 |
Scene Capture Type | Standard |
Scene Type | Directly photographed |
Sensing Method | One-chip color area |
Shadow Tint | 0 |
Shadows 2012 | +25 |
Sharpen Detail | 25 |
Sharpen Edge Masking | 0 |
Sharpen Radius | +1.0 |
Sharpness | Normal |
Split Toning Balance | 0 |
Split Toning Highlight Hue | 0 |
Split Toning Highlight Saturation | 0 |
Split Toning Shadow Hue | 0 |
Split Toning Shadow Saturation | 0 |
Tint | +16 |
Tone Curve | 0, 0, 255, 255 |
Tone Curve Blue | 0, 0, 255, 255 |
Tone Curve Green | 0, 0, 255, 255 |
Tone Curve Name | Linear |
Tone Curve Name 2012 | Portra 160+1 Over |
Tone Curve PV2012 | 0, 7, 92, 96, 165, 171, 255, 248 |
Tone Curve PV2012 Blue | 0, 0, 45, 17, 80, 63, 117, 122, 179, 200, 217, 228, 255, 251 |
Tone Curve PV2012 Green | 0, 0, 45, 22, 117, 122, 179, 200, 222, 230, 255, 251 |
Tone Curve PV2012 Red | 0, 0, 47, 19, 80, 62, 117, 122, 179, 200, 255, 255 |
Tone Curve Red | 0, 0, 255, 255 |
Version | 8.7.1 |
Vibrance | 0 |
Vignette Amount | 0 |
White Balance | Auto |
Whites 2012 | -25 |