Shooting information for this photo
Camera: | Panasonic DMC-GX8 |
Exposure: | 0.01667 sec. (1/60) |
Aperture: | f/1.4 |
Focal Length: | 30.0 mm (35 mm equivalent: 60.0 mm) |
Flash: | Off, Did not fire |
Exposure mode: | Program AE |
Max Aperture: | 1.4 |
Resolution: | 240 x 240 dpi |
Dimension: | 5184 x 3888 pixels |
Original Date: | 2017:06:27 21:24:02.868 |
Created on: | 2017:06:27 21:24:02.868 |
Modified on: | 2017:06:27 22:44:40 |
Software: | Adobe Photoshop Lightroom 5.7.1 (Macintosh) |
Already Applied | True |
Auto Lateral CA | 0 |
Auto White Version | 134348800 |
Blacks 2012 | +20 |
Blue Hue | -12 |
Blue Saturation | -5 |
Camera Profile | Adobe Standard |
Circle Of Confusion | 0.015 mm |
Clarity 2012 | +20 |
Color Noise Reduction | 25 |
Color Noise Reduction Detail | 50 |
Color Noise Reduction Smoothness | 50 |
Color Space | sRGB |
Color Temperature | 3400 |
Contrast | Normal |
Contrast 2012 | 0 |
Convert To Grayscale | False |
Custom Rendered | Normal |
Defringe Green Amount | 0 |
Defringe Green Hue Hi | 60 |
Defringe Green Hue Lo | 40 |
Defringe Purple Amount | 0 |
Defringe Purple Hue Hi | 70 |
Defringe Purple Hue Lo | 30 |
Digital Zoom Ratio | 0 |
Exposure 2012 | 0.00 |
Exposure Compensation | 0 |
Exposure Mode | Auto |
Field Of View | 33.4 deg |
Focal Length In 35mm Format | 60 mm |
Format | image/jpeg |
Gain Control | High gain up |
Grain Amount | 20 |
Grain Frequency | 100 |
Grain Size | 25 |
Green Hue | +55 |
Green Saturation | -25 |
Has Crop | False |
Has Settings | True |
Highlights 2012 | -20 |
Hue Adjustment Aqua | +5 |
Hue Adjustment Blue | 0 |
Hue Adjustment Green | +20 |
Hue Adjustment Magenta | 0 |
Hue Adjustment Orange | +12 |
Hue Adjustment Purple | +5 |
Hue Adjustment Red | +5 |
Hue Adjustment Yellow | +15 |
Hyperfocal Distance | 42.79 m |
ISO | 2000 |
Image Size | 5184x3888 |
Lens | SIGMA 30mm F1.4 DC DN | C 016 |
Lens Manual Distortion Amount | 0 |
Lens Model | SIGMA 30mm F1.4 DC DN | C 016 |
Lens Profile Enable | 0 |
Lens Profile Setup | LensDefaults |
Light Source | Unknown |
Light Value | 2.6 |
Luminance Adjustment Aqua | -10 |
Luminance Adjustment Blue | -5 |
Luminance Adjustment Green | -15 |
Luminance Adjustment Magenta | -5 |
Luminance Adjustment Orange | -10 |
Luminance Adjustment Purple | +10 |
Luminance Adjustment Red | -20 |
Luminance Adjustment Yellow | -14 |
Luminance Smoothing | 0 |
Metering Mode | Multi-segment |
Parametric Darks | 0 |
Parametric Highlight Split | 75 |
Parametric Highlights | 0 |
Parametric Lights | 0 |
Parametric Midtone Split | 50 |
Parametric Shadow Split | 25 |
Parametric Shadows | 0 |
Perspective Aspect | 0 |
Perspective Horizontal | 0 |
Perspective Rotate | 0.0 |
Perspective Scale | 100 |
Perspective Upright | 0 |
Perspective Vertical | 0 |
Post Crop Vignette Amount | 0 |
Process Version | 6.7 |
Red Hue | +35 |
Red Saturation | 0 |
Saturation | Normal |
Saturation Adjustment Aqua | -20 |
Saturation Adjustment Blue | 0 |
Saturation Adjustment Green | -25 |
Saturation Adjustment Magenta | -25 |
Saturation Adjustment Orange | -8 |
Saturation Adjustment Purple | -10 |
Saturation Adjustment Red | -25 |
Saturation Adjustment Yellow | -10 |
Scale Factor To 35 mm Equivalent | 2.0 |
Scene Capture Type | Standard |
Scene Type | Directly photographed |
Sensing Method | One-chip color area |
Shadow Tint | 0 |
Shadows 2012 | +25 |
Sharpen Detail | 25 |
Sharpen Edge Masking | 0 |
Sharpen Radius | +1.0 |
Sharpness | Normal |
Split Toning Balance | 0 |
Split Toning Highlight Hue | 0 |
Split Toning Highlight Saturation | 0 |
Split Toning Shadow Hue | 0 |
Split Toning Shadow Saturation | 0 |
Tint | +13 |
Tone Curve | 0, 0, 255, 255 |
Tone Curve Blue | 0, 0, 255, 255 |
Tone Curve Green | 0, 0, 255, 255 |
Tone Curve Name | Linear |
Tone Curve Name 2012 | Portra 800+1 ++ Green |
Tone Curve PV2012 | 0, 14, 44, 51, 122, 126, 255, 250 |
Tone Curve PV2012 Blue | 0, 0, 36, 12, 73, 45, 116, 120, 161, 196, 216, 242, 255, 255 |
Tone Curve PV2012 Green | 0, 6, 73, 50, 119, 119, 169, 193, 221, 242, 255, 255 |
Tone Curve PV2012 Red | 0, 0, 41, 11, 79, 47, 120, 119, 170, 190, 255, 255 |
Tone Curve Red | 0, 0, 255, 255 |
Version | 8.7.1 |
Vibrance | 0 |
Vignette Amount | 0 |
White Balance | Auto |
Whites 2012 | -15 |