Shooting information for this photo
Camera: | Canon EOS 7D |
Exposure: | 0.004 sec. (1/250) |
Aperture: | f/5.6 |
Focal Length: | 300.0 mm (35 mm equivalent: 471.1 mm) |
Flash: | Off, Did not fire |
Exposure mode: | Shutter speed priority AE |
Max Aperture: | 5.7 |
Resolution: | 72 x 72 dpi |
Dimension: | 685 x 1024 pixels |
Original Date: | 2013:03:24 16:26:13.00 |
Digitized Date: | 2013:03:24 16:26:13+01:00 |
Created on: | 2013:03:24 16:26:13.00 |
Modified on: | 2013:03:26 14:55:56 |
Software: | Adobe Photoshop CS Macintosh |
Already Applied | True |
Approximate Focus Distance | 15.4 |
Artist | Didier LAMY |
Blue Hue | 0 |
Blue Saturation | 0 |
Brightness | +72 |
Camera Profile | Adobe Standard |
Chromatic Aberration B | 0 |
Chromatic Aberration R | 0 |
Circle Of Confusion | 0.019 mm |
Clarity | 0 |
Color Noise Reduction | 25 |
Color Noise Reduction Detail | 50 |
Color Space | sRGB |
Color Temperature | 3950 |
Contrast | +19 |
Convert To Grayscale | True |
Creator | Didier LAMY |
Crop Angle | 0 |
Crop Bottom | 0.960089 |
Crop Constrain To Warp | 0 |
Crop Height | 3318 |
Crop Left | 0.017676 |
Crop Right | 0.977765 |
Crop Top | 0 |
Crop Unit | pixels |
Crop Width | 4977 |
Custom Rendered | Normal |
Date Created | 2013:03:24 |
Defringe | 0 |
Depth Of Field | 0.55 m (15.13 - 15.68) |
Exposure | -0.35 |
Exposure Compensation | 0 |
Exposure Mode | Auto |
Field Of View | 4.4 deg |
Fill Light | 10 |
Firmware | 2.0.3 |
Flash Compensation | 0 |
Flash Fired | False |
Flash Function | False |
Flash Mode | Off |
Flash Red Eye Mode | False |
Flash Return | No return detection |
Format | image/jpeg |
Grain Amount | 34 |
Grain Frequency | 34 |
Grain Size | 6 |
Gray Mixer Aqua | -22 |
Gray Mixer Blue | +3 |
Gray Mixer Green | -23 |
Gray Mixer Magenta | +12 |
Gray Mixer Orange | -9 |
Gray Mixer Purple | +15 |
Gray Mixer Red | +4 |
Gray Mixer Yellow | -14 |
Green Hue | 0 |
Green Saturation | 0 |
Has Crop | True |
Has Settings | True |
Hierarchical Subject | "Mondial du tatouage 2013", 104 |
Highlight Recovery | 38 |
Hyperfocal Distance | 839.95 m |
ISO | 2500 |
Image Number | 0 |
Image Size | 685x1024 |
Lens | EF70-300mm f/4-5.6 IS USM |
Lens ID | Canon EF 70-300mm f/4-5.6 IS USM |
Lens Info | 70-300mm f/? |
Lens Manual Distortion Amount | 0 |
Lens Model | EF70-300mm f/4-5.6 IS USM |
Lens Profile Chromatic Aberration Scale | 100 |
Lens Profile Distortion Scale | 100 |
Lens Profile Enable | 1 |
Lens Profile Filename | Canon EOS-1Ds Mark III (Canon EF 70-300mm f4-5.6 IS USM) - RAW.lcp |
Lens Profile Name | Adobe (Canon EF 70-300mm f/4-5.6 IS USM) |
Lens Profile Setup | LensDefaults |
Lens Profile Vignetting Scale | 100 |
Light Value | 8.3 |
Luminance Noise Reduction Contrast | 0 |
Luminance Noise Reduction Detail | 50 |
Luminance Smoothing | 30 |
Metering Mode | Center-weighted average |
Parametric Darks | 0 |
Parametric Highlight Split | 75 |
Parametric Highlights | 0 |
Parametric Lights | 0 |
Parametric Midtone Split | 50 |
Parametric Shadow Split | 25 |
Parametric Shadows | 0 |
Perspective Horizontal | 0 |
Perspective Rotate | 0.0 |
Perspective Scale | 100 |
Perspective Vertical | 0 |
Post Crop Vignette Amount | -66 |
Post Crop Vignette Feather | 100 |
Post Crop Vignette Highlight Contrast | 100 |
Post Crop Vignette Midpoint | 70 |
Post Crop Vignette Roundness | +92 |
Post Crop Vignette Style | 1 |
Process Version | 5.7 |
Recommended Exposure Index | 2500 |
Red Hue | 0 |
Red Saturation | 0 |
Scale Factor To 35 mm Equivalent | 1.6 |
Scene Capture Type | Standard |
Sensitivity Type | Recommended Exposure Index |
Shadow Tint | 0 |
Shadows | 17 |
Sharpen Detail | 37 |
Sharpen Edge Masking | 40 |
Sharpen Radius | +1.7 |
Sharpness | 103 |
Split Toning Balance | 0 |
Split Toning Highlight Hue | 0 |
Split Toning Highlight Saturation | 0 |
Split Toning Shadow Hue | 0 |
Split Toning Shadow Saturation | 0 |
Subject | "Mondial du tatouage 2013", 104 |
Subject Distance | 15.4 m |
Tint | +2 |
Tone Curve | 0, 0, 32, 22, 64, 56, 128, 128, 192, 196, 255, 255 |
Tone Curve Name | Medium Contrast |
Version | 6.6 |
Vignette Amount | 0 |
White Balance | Auto |