Shooting information for this photo
Camera: | NIKON COOLPIX L4 |
Exposure: | 0.00556 sec. (1/180) |
Aperture: | f/4.6 |
Focal Length: | 17.5 mm (35 mm equivalent: 102.0 mm) |
Flash: | Off, Did not fire |
Exposure mode: | Program AE |
Max Aperture: | 2.8 |
Resolution: | 240 x 240 dpi |
Dimension: | 2272 x 1704 pixels |
Original Date: | 2006:04:23 20:05:00 |
Created on: | 2006:04:23 20:05:00 |
Modified on: | 2018:01:18 16:55:47.969 |
Software: | Adobe Photoshop Lightroom 4.4 (Windows) |
Copyright: | Copyright 2006 |
Already Applied | True |
Auto Lateral CA | 0 |
Auto White Version | 134348800 |
Bits Per Sample | 16 16 16 |
Blacks 2012 | +1 |
Blue Hue | 0 |
Blue Saturation | 0 |
Camera Profile | Embedded |
Circle Of Confusion | 0.005 mm |
Clarity 2012 | 0 |
Color Noise Reduction | 8 |
Color Noise Reduction Detail | 50 |
Color Noise Reduction Smoothness | 50 |
Color Space | Uncalibrated |
Contrast | Normal |
Contrast 2012 | -25 |
Convert To Grayscale | True |
Crop Angle | 0 |
Crop Bottom | 1 |
Crop Constrain To Warp | 0 |
Crop Left | 0 |
Crop Right | 1 |
Crop Top | 0 |
Date Acquired | 2012:08:22 17:33:49 |
Dehaze | 0 |
Digital Zoom Ratio | 0 |
Exposure 2012 | +0.90 |
Exposure Compensation | 0 |
Exposure Mode | Auto |
Field Of View | 20.0 deg |
Focal Length In 35mm Format | 102 mm |
Format | image/tiff |
Gain Control | None |
Grain Amount | 0 |
Gray Mixer Aqua | 0 |
Gray Mixer Blue | -56 |
Gray Mixer Green | +4 |
Gray Mixer Magenta | +4 |
Gray Mixer Orange | +89 |
Gray Mixer Purple | +69 |
Gray Mixer Red | 0 |
Gray Mixer Yellow | -49 |
Green Hue | 0 |
Green Saturation | 0 |
Has Crop | True |
Has Settings | True |
Highlights 2012 | -50 |
Hyperfocal Distance | 12.91 m |
ISO | 50 |
Image Height | 1704 |
Image Size | 2272x1704 |
Image Width | 2272 |
Incremental Temperature | 0 |
Incremental Tint | 0 |
Lens Manual Distortion Amount | 0 |
Lens Profile Chromatic Aberration Scale | 100 |
Lens Profile Distortion Scale | 100 |
Lens Profile Enable | 0 |
Lens Profile Filename | Canon EOS-1Ds Mark III (Tamron Di 28-75mm f2.8 SP XR LD IF).lcp |
Lens Profile Name | Adobe (Tamron Di 28-75mm f/2.8 SP XR LD IF) |
Lens Profile Setup | Custom |
Lens Profile Vignetting Scale | 100 |
Light Source | Unknown |
Light Value | 12.9 |
Luminance Noise Reduction Contrast | 0 |
Luminance Noise Reduction Detail | 50 |
Luminance Smoothing | 31 |
Metering Mode | Multi-segment |
Parametric Darks | 0 |
Parametric Highlight Split | 75 |
Parametric Highlights | 0 |
Parametric Lights | 0 |
Parametric Midtone Split | 50 |
Parametric Shadow Split | 25 |
Parametric Shadows | 0 |
Perspective Aspect | 0 |
Perspective Horizontal | 0 |
Perspective Rotate | 0.0 |
Perspective Scale | 100 |
Perspective Upright | 0 |
Perspective Vertical | 0 |
Photographic Sensitivity | 50 |
Photometric Interpretation | RGB |
Planar Configuration | Chunky |
Post Crop Vignette Amount | 0 |
Process Version | 6.7 |
Raw File Name | DSCN3525 b-w-1.tif |
Red Hue | 0 |
Red Saturation | 0 |
Rights | Copyright 2006 |
Rows Per Strip | 1704 |
Samples Per Pixel | 3 |
Scale Factor To 35 mm Equivalent | 5.8 |
Scene Capture Type | Standard |
Scene Type | Directly photographed |
Sensing Method | One-chip color area |
Shadow Tint | 0 |
Shadows 2012 | +50 |
Sharpen Detail | 25 |
Sharpen Edge Masking | 0 |
Sharpen Radius | +1.3 |
Sharpness | Normal |
Split Toning Balance | 0 |
Split Toning Highlight Hue | 0 |
Split Toning Highlight Saturation | 0 |
Split Toning Shadow Hue | 0 |
Split Toning Shadow Saturation | 0 |
Strip Byte Counts | 23228928 |
Strip Offsets | 30008 |
Subfile Type | Full-resolution Image |
Subject Distance Range | Unknown |
Tone Curve | 0, 0, 255, 255 |
Tone Curve Blue | 0, 0, 255, 255 |
Tone Curve Green | 0, 0, 255, 255 |
Tone Curve Name | Linear |
Tone Curve Name 2012 | Linear |
Tone Curve PV2012 | 0, 0, 255, 255 |
Tone Curve PV2012 Blue | 0, 0, 255, 255 |
Tone Curve PV2012 Green | 0, 0, 255, 255 |
Tone Curve PV2012 Red | 0, 0, 255, 255 |
Tone Curve Red | 0, 0, 255, 255 |
Tone Map Strength | 0 |
Version | 9.1.1 |
Vignette Amount | 0 |
White Balance | As Shot |
Whites 2012 | +31 |