Shooting information for this photo
Camera: | NIKON CORPORATION NIKON D5000 |
Exposure: | 0.00313 sec. (1/320) |
Aperture: | f/8.0 |
Focal Length: | 35.0 mm (35 mm equivalent: 52.0 mm) |
Flash: | No Flash |
Exposure mode: | Shutter speed priority AE |
Max Aperture: | 4.4 |
Resolution: | 240 x 240 dpi |
Dimension: | 2848 x 2848 pixels |
Original Date: | 2013:03:24 19:10:30.50 |
Created on: | 2013:03:24 19:10:30.50 |
Modified on: | 2013:08:03 08:30:23.50 |
Software: | Adobe Photoshop CS6 (Windows) |
Already Applied | True |
Approximate Focus Distance | 4294967295 |
Auto Lateral CA | 0 |
Blacks 2012 | +1 |
Blue Hue | 0 |
Blue Saturation | 0 |
Brightness | 0.000000 |
CFA Pattern | [Green,Blue][Red,Green] |
Camera Profile | Embedded |
Circle Of Confusion | 0.020 mm |
Clarity | 0 |
Clarity 2012 | +38 |
Color Mode | RGB |
Color Noise Reduction | 0 |
Color Space | sRGB |
Contrast | -8.000000 |
Contrast 2012 | +13 |
Convert To Grayscale | False |
Custom Rendered | Normal |
Date Created | 2013:03:24 19:10:30.005 |
Defringe | 0 |
Digital Zoom Ratio | 1 |
Exposure | 0.00 |
Exposure 2012 | -0.40 |
Exposure Compensation | -0.400000 |
Exposure Mode | Auto |
Field Of View | 38.2 deg |
Fill Light | 0 |
Focal Length In 35mm Format | 52 mm |
Format | image/jpeg |
Gain Control | Low gain up |
Grain Amount | 0 |
Green Hue | 0 |
Green Saturation | 0 |
Has Crop | False |
Has Settings | True |
Highlight Recovery | 0 |
Highlights 2012 | 0 |
Hue Adjustment Aqua | 0 |
Hue Adjustment Blue | 0 |
Hue Adjustment Green | 0 |
Hue Adjustment Magenta | 0 |
Hue Adjustment Orange | 0 |
Hue Adjustment Purple | 0 |
Hue Adjustment Red | 0 |
Hue Adjustment Yellow | 0 |
Hyperfocal Distance | 7.57 m |
ICC Profile Name | sRGB IEC61966-2.1 |
ISO | 800 |
Image Number | 17804 |
Image Size | 2848x2848 |
Incremental Temperature | 0 |
Incremental Tint | 0 |
Last Keyword XMP | Tortilla Flat |
Lens | 18.0-105.0 mm f/3.5-5.6 |
Lens ID | AF-S DX VR Zoom-Nikkor 18-105mm f/3.5-5.6G ED |
Lens Info | 18-105mm f/3.5-5.6 |
Lens Manual Distortion Amount | 0 |
Lens Model | 18.0-105.0 mm f/3.5-5.6 |
Lens Profile Enable | 0 |
Lens Profile Setup | LensDefaults |
Light Source | Unknown |
Light Value | 11.3 |
Location Created City | Apache |
Location Created Country Name | Vereinigte Staaten von Amerika |
Location Created Province State | OK |
Luminance Adjustment Aqua | 0 |
Luminance Adjustment Blue | 0 |
Luminance Adjustment Green | 0 |
Luminance Adjustment Magenta | 0 |
Luminance Adjustment Orange | 0 |
Luminance Adjustment Purple | 0 |
Luminance Adjustment Red | 0 |
Luminance Adjustment Yellow | 0 |
Luminance Smoothing | 0 |
Metering Mode | Multi-segment |
Parametric Darks | 0 |
Parametric Highlight Split | 75 |
Parametric Highlights | 0 |
Parametric Lights | 0 |
Parametric Midtone Split | 50 |
Parametric Shadow Split | 25 |
Parametric Shadows | 0 |
Perspective Horizontal | 0 |
Perspective Rotate | 0.0 |
Perspective Scale | 100 |
Perspective Vertical | 0 |
Pipeline Version | 01.00 |
Post Crop Vignette Amount | 0 |
Process Version | 6.7 |
Rating | 0 |
Raw File Name | DSC_0348 (2).JPG |
Red Hue | 0 |
Red Saturation | 0 |
Saturation | Normal |
Saturation Adjustment Aqua | 0 |
Saturation Adjustment Blue | 0 |
Saturation Adjustment Green | 0 |
Saturation Adjustment Magenta | 0 |
Saturation Adjustment Orange | 0 |
Saturation Adjustment Purple | 0 |
Saturation Adjustment Red | 0 |
Saturation Adjustment Yellow | 0 |
Scale Factor To 35 mm Equivalent | 1.5 |
Scene Capture Type | Standard |
Scene Type | Directly photographed |
Sensing Method | One-chip color area |
Shadow Tint | 0 |
Shadows | 0 |
Shadows 2012 | +49 |
Sharpen Detail | 25 |
Sharpen Edge Masking | 0 |
Sharpen Radius | +1.0 |
Sharpness | Hard |
Split Toning Balance | 0 |
Split Toning Highlight Hue | 0 |
Split Toning Highlight Saturation | 0 |
Split Toning Shadow Hue | 0 |
Split Toning Shadow Saturation | 0 |
Stream Type | 3 |
Subject | Tortilla Flat |
Subject Distance Range | Unknown |
Tone Curve | 0, 0, 255, 255 |
Tone Curve Blue | 0, 0, 255, 255 |
Tone Curve Green | 0, 0, 255, 255 |
Tone Curve Name | Linear |
Tone Curve Name 2012 | Linear |
Tone Curve PV2012 | 0, 0, 255, 255 |
Tone Curve PV2012 Blue | 0, 0, 255, 255 |
Tone Curve PV2012 Green | 0, 0, 255, 255 |
Tone Curve PV2012 Red | 0, 0, 255, 255 |
Tone Curve Red | 0, 0, 255, 255 |
Version | 7.0 |
Vibrance | +29 |
Vignette Amount | 0 |
White Balance | Auto |
White Balance 0 | 2.497562 |
White Balance 1 | 1.000000 |
White Balance 2 | 1.051616 |
Whites 2012 | +28 |