Shooting information for this photo
Camera: | Panasonic DMC-FX01 |
Exposure: | 0.03333 sec. (1/30) |
Aperture: | f/3.6 |
Focal Length: | 8.1 mm (35 mm equivalent: 51.0 mm) |
Flash: | On, Fired |
Exposure mode: | Program AE |
Max Aperture: | 2.8 |
Resolution: | 72 x 72 dpi |
Dimension: | 2816 x 1880 pixels |
Original Date: | 2013:03:20 03:13:51 |
Created on: | 2013:03:20 03:13:51 |
Software: | Ver.1.0 |
AF Area Mode | 1-area |
AF Assist Lamp | Disabled but Required |
Already Applied | False |
Audio | No |
Auto Lateral CA | 0 |
Baby Age | (not set) |
Blacks 2012 | -36 |
Blue Balance | 1.439394 |
Blue Hue | 0 |
Blue Saturation | 0 |
Brightness | 0 |
Burst Mode | Unlimited |
Camera Profile | Embedded |
Circle Of Confusion | 0.005 mm |
Clarity | 0 |
Clarity 2012 | +3 |
Color Effect | Off |
Color Mode | Vivid |
Color Noise Reduction | 0 |
Color Space | sRGB |
Contrast | Normal |
Contrast 2012 | 0 |
Contrast Mode | Normal |
Conversion Lens | Off |
Convert To Grayscale | False |
Custom Rendered | Normal |
Defringe | 0 |
Digital Zoom Ratio | 0 |
Exposure | 0.00 |
Exposure 2012 | +0.35 |
Exposure Compensation | -0.33 |
Exposure Mode | Auto |
Field Of View | 38.9 deg |
Fill Light | 0 |
Firmware Version | 0.1.0.3 |
Flash Bias | 0 |
Flash Fired | No |
Focal Length In 35mm Format | 51 mm |
Focus Mode | Auto |
Format | image/jpeg |
Gain Control | Low gain up |
Grain Amount | 0 |
Green Hue | 0 |
Green Saturation | 0 |
Has Crop | False |
Has Settings | True |
Highlight Recovery | 0 |
Highlights 2012 | 0 |
Hue Adjustment Aqua | 0 |
Hue Adjustment Blue | 0 |
Hue Adjustment Green | 0 |
Hue Adjustment Magenta | 0 |
Hue Adjustment Orange | 0 |
Hue Adjustment Purple | 0 |
Hue Adjustment Red | 0 |
Hue Adjustment Yellow | 0 |
Hyperfocal Distance | 3.82 m |
ISO | 200 |
Image Quality | High |
Image Size | 2816x1880 |
Image Stabilization | On, Mode 2 |
Incremental Temperature | 0 |
Incremental Tint | 0 |
Lens Manual Distortion Amount | 0 |
Lens Profile Enable | 0 |
Lens Profile Setup | LensDefaults |
Light Source | Flash |
Light Value | 7.6 |
Luminance Adjustment Aqua | 0 |
Luminance Adjustment Blue | 0 |
Luminance Adjustment Green | 0 |
Luminance Adjustment Magenta | 0 |
Luminance Adjustment Orange | 0 |
Luminance Adjustment Purple | 0 |
Luminance Adjustment Red | 0 |
Luminance Adjustment Yellow | 0 |
Luminance Smoothing | 0 |
Macro Mode | Off |
Maker Note Version | 0100 |
Metering Mode | Multi-segment |
Noise Reduction | Standard |
Optical Zoom Mode | Standard |
Panasonic Exif Version | 0200 |
Parametric Darks | 0 |
Parametric Highlight Split | 75 |
Parametric Highlights | 0 |
Parametric Lights | 0 |
Parametric Midtone Split | 50 |
Parametric Shadow Split | 25 |
Parametric Shadows | 0 |
Perspective Horizontal | 0 |
Perspective Rotate | 0.0 |
Perspective Scale | 100 |
Perspective Vertical | 0 |
Post Crop Vignette Amount | 0 |
Process Version | 6.7 |
Rating | 0 |
Raw File Name | P1170565.JPG |
Red Balance | 2.515152 |
Red Hue | 0 |
Red Saturation | 0 |
Rotation | Horizontal (normal) |
Saturation | High |
Saturation Adjustment Aqua | 0 |
Saturation Adjustment Blue | 0 |
Saturation Adjustment Green | 0 |
Saturation Adjustment Magenta | 0 |
Saturation Adjustment Orange | 0 |
Saturation Adjustment Purple | 0 |
Saturation Adjustment Red | 0 |
Saturation Adjustment Yellow | 0 |
Scale Factor To 35 mm Equivalent | 6.3 |
Scene Capture Type | Standard |
Scene Mode | Off |
Scene Type | Directly photographed |
Self Timer | Off |
Sensing Method | One-chip color area |
Sequence Number | 0 |
Shadow Tint | 0 |
Shadows | 0 |
Shadows 2012 | -56 |
Sharpen Detail | 25 |
Sharpen Edge Masking | 0 |
Sharpen Radius | +1.0 |
Sharpness | Hard |
Shooting Mode | Normal |
Split Toning Balance | 0 |
Split Toning Highlight Hue | 0 |
Split Toning Highlight Saturation | 0 |
Split Toning Shadow Hue | 0 |
Split Toning Shadow Saturation | 0 |
Time Since Power On | 00:00:09.53 |
Tone Curve | 0, 0, 255, 255 |
Tone Curve Blue | 0, 0, 255, 255 |
Tone Curve Green | 0, 0, 255, 255 |
Tone Curve Name | Linear |
Tone Curve Name 2012 | Linear |
Tone Curve PV2012 | 0, 0, 255, 255 |
Tone Curve PV2012 Blue | 0, 0, 255, 255 |
Tone Curve PV2012 Green | 0, 0, 255, 255 |
Tone Curve PV2012 Red | 0, 0, 255, 255 |
Tone Curve Red | 0, 0, 255, 255 |
Travel Day | n/a |
Version | 7.0 |
Vibrance | 0 |
Vignette Amount | 0 |
WB Blue Level | 380 |
WB Green Level | 264 |
WB Red Level | 664 |
White Balance | Auto |
White Balance Bias | 0 |
Whites 2012 | -43 |