Shooting information for this photo
Camera: | NIKON CORPORATION NIKON D5000 |
Exposure: | 2.5 sec. |
Aperture: | f/11.0 |
Focal Length: | 18.0 mm (35 mm equivalent: 27.0 mm) |
Flash: | No Flash |
Exposure mode: | Aperture-priority AE |
Max Aperture: | 3.5 |
Resolution: | 300 x 300 dpi |
Dimension: | 4288 x 2848 pixels |
Original Date: | 2013:03:18 22:29:03 |
Created on: | 2013:03:18 22:29:03 |
Software: | Ver.1.00 |
AE Lock Button | AE/AF Lock |
AF Aperture | 3.7 |
AF Area Height | 576 |
AF Area Mode | Contrast-detect (wide area) |
AF Area Mode Setting | Dynamic Area |
AF Area Width | 704 |
AF Area X Position | 2144 |
AF Area Y Position | 1424 |
AF Assist | Off |
AF Image Height | 2848 |
AF Image Width | 4288 |
AF Info 2 Version | 0100 |
AF Points Used | (none) |
Active D-Lighting | Off |
Already Applied | False |
Approximate Focus Distance | 1.26 |
Auto Bracket Set | Exposure |
Auto Distortion Control | On |
Auto Focus | On |
Auto Lateral CA | 0 |
Beep | High |
Blacks 2012 | -3 |
Blue Balance | 1.1875 |
Blue Hue | 0 |
Blue Saturation | 0 |
Brightness | 0 |
CFA Pattern | [Green,Blue][Red,Green] |
Camera Profile | Embedded |
Circle Of Confusion | 0.020 mm |
Clarity | 0 |
Clarity 2012 | +35 |
Color Noise Reduction | 0 |
Color Space | sRGB |
Command Dials Reverse Rotation | No |
Contrast | Normal |
Contrast 2012 | -13 |
Contrast Detect AF | On |
Contrast Detect AF In Focus | Yes |
Convert To Grayscale | False |
Crop Hi Speed | Off (4352x2868 cropped to 4352x2868 at pixel 0,0) |
Custom Rendered | Normal |
Date Imprint | Off |
Defringe | 0 |
Depth Of Field | 7.38 m (0.68 - 8.07) |
Digital Zoom Ratio | 1 |
EV Step Size | 1/3 EV |
Effective Max Aperture | 3.6 |
Exit Pupil Position | 93.1 mm |
Exposure | 0.00 |
Exposure 2012 | -0.55 |
Exposure Bracket Value | 0 |
Exposure Compensation | 0 |
Exposure Delay Mode | Off |
Exposure Difference | 0 |
Exposure Mode | Auto |
Exposure Tuning | 0 |
External Flash Exposure Comp | 0 |
External Flash Firmware | n/a |
External Flash Flags | (none) |
Field Of View | 66.6 deg (1.65 m) |
File Number Sequence | Off |
Fill Light | 0 |
Filter Effect | n/a |
Firmware Version | 1.00d |
Flash Color Filter | None |
Flash Commander Mode | Off |
Flash Compensation | 0 |
Flash Control Mode | Off |
Flash Exposure Bracket Value | 0.0 |
Flash Exposure Compensation | 0 |
Flash GN Distance | 0 |
Flash Group A Compensation | 0 |
Flash Group A Control Mode | Off |
Flash Group B Compensation | 0 |
Flash Group B Control Mode | Off |
Flash Group C Compensation | 0 |
Flash Group C Control Mode | Off |
Flash Info Version | 0103 |
Flash Mode | Did Not Fire |
Flash Setting | Normal |
Flash Source | None |
Focal Length In 35mm Format | 27 mm |
Focus Distance | 1.26 m |
Focus Mode | AF-A |
Focus Position | 0x11 |
Format | image/jpeg |
Gain Control | Low gain up |
Grain Amount | 0 |
Green Hue | 0 |
Green Saturation | 0 |
Grid Display | On |
Has Crop | False |
Has Settings | True |
High ISO Noise Reduction | High |
Highlight Recovery | 0 |
Highlights 2012 | -15 |
Hue Adjustment | None |
Hue Adjustment Aqua | 0 |
Hue Adjustment Blue | 0 |
Hue Adjustment Green | 0 |
Hue Adjustment Magenta | 0 |
Hue Adjustment Orange | 0 |
Hue Adjustment Purple | 0 |
Hue Adjustment Red | 0 |
Hue Adjustment Yellow | 0 |
Hyperfocal Distance | 1.47 m |
ISO | 800 |
ISO2 | 800 |
ISO Display | On |
ISO Expansion | Off |
ISO Expansion 2 | Off |
ISO Setting | 400 |
Image Boundary | 0 0 4288 2848 |
Image Data Size | 3823861 |
Image Number | 15868 |
Image Review Time | 4 s |
Image Size | 4288x2848 |
Incremental Temperature | 0 |
Incremental Tint | 0 |
Internal Flash | TTL |
Lens | 18-105mm f/3.5-5.6 G VR |
Lens Data Version | 0204 |
Lens F Stops | 5.33 |
Lens ID | AF-S DX VR Zoom-Nikkor 18-105mm f/3.5-5.6G ED |
Lens ID Number | 158 |
Lens Info | 18-105mm f/3.5-5.6 |
Lens Manual Distortion Amount | 0 |
Lens Profile Enable | 0 |
Lens Profile Setup | LensDefaults |
Lens Type | G VR |
Light Source | Cloudy |
Light Value | 2.6 |
Live View AF | Wide Area |
Luminance Adjustment Aqua | 0 |
Luminance Adjustment Blue | 0 |
Luminance Adjustment Green | 0 |
Luminance Adjustment Magenta | 0 |
Luminance Adjustment Orange | 0 |
Luminance Adjustment Purple | 0 |
Luminance Adjustment Red | 0 |
Luminance Adjustment Yellow | 0 |
Luminance Smoothing | 0 |
MCU Version | 160 |
Maker Note Version | 2.10 |
Manual Flash Output | Full |
Max Aperture At Max Focal | 5.7 |
Max Aperture At Min Focal | 3.6 |
Max Focal Length | 106.8 mm |
Metering Mode | Center-weighted average |
Metering Time | 8 s |
Min Focal Length | 18.3 mm |
Multi Exposure Auto Gain | Off |
Multi Exposure Mode | Off |
Multi Exposure Shots | 0 |
Multi Exposure Version | 0100 |
No Memory Card | Release Locked |
Noise Reduction | Off |
Parametric Darks | 0 |
Parametric Highlight Split | 75 |
Parametric Highlights | 0 |
Parametric Lights | 0 |
Parametric Midtone Split | 50 |
Parametric Shadow Split | 25 |
Parametric Shadows | 0 |
Perspective Horizontal | 0 |
Perspective Rotate | 0.0 |
Perspective Scale | 100 |
Perspective Vertical | 0 |
Phase Detect AF | Off |
Picture Control Adjust | Full Control |
Picture Control Base | Vivid |
Picture Control Name | Vivid |
Picture Control Quick Adjust | Normal |
Picture Control Version | 0100 |
Playback Menus Time | 12 s |
Post Crop Vignette Amount | 0 |
Primary AF Point | (none) |
Process Version | 6.7 |
Program Shift | 0 |
Quality | Fine |
Range Finder | Off |
Rating | 0 |
Raw File Name | DSC_0323 (Kopie).JPG |
Red Balance | 1.917969 |
Red Hue | 0 |
Red Saturation | 0 |
Remote On Duration | 1 min |
Reverse Indicators | + 0 - |
Saturation | Normal |
Saturation Adjustment Aqua | 0 |
Saturation Adjustment Blue | 0 |
Saturation Adjustment Green | 0 |
Saturation Adjustment Magenta | 0 |
Saturation Adjustment Orange | 0 |
Saturation Adjustment Purple | 0 |
Saturation Adjustment Red | 0 |
Saturation Adjustment Yellow | 0 |
Scale Factor To 35 mm Equivalent | 1.5 |
Scene Capture Type | Standard |
Scene Type | Directly photographed |
Self Timer Shot Count | 1 |
Self Timer Time | 10 s |
Sensing Method | One-chip color area |
Shadow Tint | 0 |
Shadows | 0 |
Shadows 2012 | +16 |
Sharpen Detail | 25 |
Sharpen Edge Masking | 0 |
Sharpen Radius | +1.0 |
Sharpness | Hard |
Shooting Mode | Single-Frame, Auto ISO |
Shot Info Version | 0215 |
Shutter Count | 15868 |
Shutter Release Button AE-L | On |
Split Toning Balance | 0 |
Split Toning Highlight Hue | 0 |
Split Toning Highlight Saturation | 0 |
Split Toning Shadow Hue | 0 |
Split Toning Shadow Saturation | 0 |
Subject Distance Range | Unknown |
Timer Function Button | Self-timer |
Tone Curve | 0, 0, 255, 255 |
Tone Curve Blue | 0, 0, 255, 255 |
Tone Curve Green | 0, 0, 255, 255 |
Tone Curve Name | Linear |
Tone Curve Name 2012 | Linear |
Tone Curve PV2012 | 0, 0, 255, 255 |
Tone Curve PV2012 Blue | 0, 0, 255, 255 |
Tone Curve PV2012 Green | 0, 0, 255, 255 |
Tone Curve PV2012 Red | 0, 0, 255, 255 |
Tone Curve Red | 0, 0, 255, 255 |
Toning Effect | n/a |
Toning Saturation | n/a |
VR Info Version | 0100 |
Version | 7.0 |
Vibrance | 0 |
Vibration Reduction | On |
Vignette Amount | 0 |
WB GRBG Levels | 256 491 304 256 |
WB RB Levels | 1.91796875 1.1875 1 1 |
White Balance | Cloudy |
White Balance Fine Tune | 0 0 |
Whites 2012 | -80 |
GPS Information |
GPS Version ID | 2.2.0.0 |