Shooting information for this photo
Camera: | NIKON CORPORATION NIKON D5000 |
Exposure: | 0.4 sec. |
Aperture: | f/3.5 |
Focal Length: | 18.0 mm (35 mm equivalent: 27.0 mm) |
Flash: | Auto, Did not fire |
Exposure mode: | Not Defined |
Max Aperture: | 3.5 |
Resolution: | 300 x 300 dpi |
Dimension: | 2848 x 4288 pixels |
Original Date: | 2013:03:18 23:07:43.5 |
Created on: | 2013:03:18 23:07:43.5 |
Modified on: | 2013:04:07 17:44:06.5 |
Software: | Microsoft Photo Gallery 16.4.3505.912 |
AE Lock Button | AE/AF Lock |
AF Aperture | 3.7 |
AF Area Mode | Auto-area |
AF Area Mode Setting | Dynamic Area |
AF Assist | Off |
AF Info 2 Version | 0100 |
AF Points Used | Center, Top, Upper-right, Lower-right |
Active D-Lighting | Auto |
Already Applied | False |
Approximate Focus Distance | 4.22 |
Auto Bracket Set | Exposure |
Auto Distortion Control | On |
Auto Focus | On |
Auto Lateral CA | 0 |
Beep | High |
Blacks 2012 | -50 |
Blue Balance | 1.527344 |
Blue Hue | 0 |
Blue Saturation | 0 |
Brightness | 0 |
CFA Pattern | [Green,Blue][Red,Green] |
Camera Profile | Embedded |
Circle Of Confusion | 0.020 mm |
Clarity | 0 |
Clarity 2012 | +28 |
Color Noise Reduction | 0 |
Color Space | sRGB |
Command Dials Reverse Rotation | No |
Contrast | Normal |
Contrast 2012 | +43 |
Contrast Detect AF | Off |
Contrast Detect AF In Focus | No |
Convert To Grayscale | False |
Crop Hi Speed | Off (4352x2868 cropped to 4352x2868 at pixel 0,0) |
Custom Rendered | Normal |
Date Imprint | Off |
Defringe | 0 |
Depth Of Field | 43.92 m (2.21 - 46.13) |
Digital Zoom Ratio | 1 |
EV Step Size | 1/3 EV |
Effective Max Aperture | 3.6 |
Exit Pupil Position | 93.1 mm |
Exposure | 0.00 |
Exposure 2012 | 0.00 |
Exposure Bracket Value | 0 |
Exposure Compensation | 0 |
Exposure Delay Mode | Off |
Exposure Difference | 0 |
Exposure Mode | Auto |
Exposure Tuning | 0 |
External Flash Exposure Comp | 0 |
External Flash Firmware | n/a |
External Flash Flags | (none) |
Field Of View | 67.2 deg (5.60 m) |
File Number Sequence | Off |
Fill Light | 0 |
Filter Effect | n/a |
Firmware Version | 1.00d |
Flash Color Filter | None |
Flash Commander Mode | Off |
Flash Compensation | 0 |
Flash Control Mode | Off |
Flash Exposure Bracket Value | 0.0 |
Flash Exposure Compensation | 0 |
Flash GN Distance | 0 |
Flash Group A Compensation | 0 |
Flash Group A Control Mode | Off |
Flash Group B Compensation | 0 |
Flash Group B Control Mode | Off |
Flash Group C Compensation | 0 |
Flash Group C Control Mode | Off |
Flash Info Version | 0103 |
Flash Mode | Did Not Fire |
Flash Source | None |
Focal Length In 35mm Format | 27 mm |
Focus Distance | 4.22 m |
Focus Mode | AF-A |
Focus Position | 0x55 |
Format | image/jpeg |
Gain Control | High gain up |
Grain Amount | 0 |
Green Hue | 0 |
Green Saturation | 0 |
Grid Display | On |
Has Crop | False |
Has Settings | True |
High ISO Noise Reduction | High |
Highlight Recovery | 0 |
Highlights 2012 | -42 |
Hue Adjustment | None |
Hue Adjustment Aqua | 0 |
Hue Adjustment Blue | 0 |
Hue Adjustment Green | 0 |
Hue Adjustment Magenta | 0 |
Hue Adjustment Orange | 0 |
Hue Adjustment Purple | 0 |
Hue Adjustment Red | 0 |
Hue Adjustment Yellow | 0 |
Hyperfocal Distance | 4.62 m |
ISO | 1600 |
ISO2 | 1600 |
ISO Display | On |
ISO Expansion | Off |
ISO Expansion 2 | Off |
ISO Setting | 1600 |
Image Boundary | 0 0 4288 2848 |
Image Data Size | 3534342 |
Image Number | 15979 |
Image Review Time | 4 s |
Image Size | 2848x4288 |
Incremental Temperature | 0 |
Incremental Tint | 0 |
Internal Flash | TTL |
Lens | 18-105mm f/3.5-5.6 G VR |
Lens Data Version | 0204 |
Lens F Stops | 5.33 |
Lens ID | AF-S DX VR Zoom-Nikkor 18-105mm f/3.5-5.6G ED |
Lens ID Number | 158 |
Lens Info | 18-105mm f/3.5-5.6 |
Lens Manual Distortion Amount | 0 |
Lens Profile Enable | 0 |
Lens Profile Setup | LensDefaults |
Lens Type | G VR |
Light Source | Unknown |
Light Value | 0.9 |
Live View AF | Wide Area |
Luminance Adjustment Aqua | 0 |
Luminance Adjustment Blue | 0 |
Luminance Adjustment Green | 0 |
Luminance Adjustment Magenta | 0 |
Luminance Adjustment Orange | 0 |
Luminance Adjustment Purple | 0 |
Luminance Adjustment Red | 0 |
Luminance Adjustment Yellow | 0 |
Luminance Smoothing | 0 |
MCU Version | 160 |
Maker Note Version | 2.10 |
Manual Flash Output | Full |
Max Aperture At Max Focal | 5.7 |
Max Aperture At Min Focal | 3.6 |
Max Focal Length | 106.8 mm |
Metering Mode | Multi-segment |
Metering Time | 8 s |
Min Focal Length | 18.3 mm |
Multi Exposure Auto Gain | Off |
Multi Exposure Mode | Off |
Multi Exposure Shots | 0 |
Multi Exposure Version | 0100 |
No Memory Card | Release Locked |
Noise Reduction | Off |
Offset Schema | 4088 |
Parametric Darks | 0 |
Parametric Highlight Split | 75 |
Parametric Highlights | 0 |
Parametric Lights | 0 |
Parametric Midtone Split | 50 |
Parametric Shadow Split | 25 |
Parametric Shadows | 0 |
Perspective Horizontal | 0 |
Perspective Rotate | 0.0 |
Perspective Scale | 100 |
Perspective Vertical | 0 |
Phase Detect AF | On (11-point) |
Picture Control Adjust | Default Settings |
Picture Control Base | Standard |
Picture Control Name | Standard |
Picture Control Quick Adjust | n/a |
Picture Control Version | 0100 |
Playback Menus Time | 12 s |
Post Crop Vignette Amount | 0 |
Primary AF Point | Center |
Process Version | 6.7 |
Program Shift | 0 |
Quality | Fine |
Range Finder | Off |
Rating | 0 |
Raw File Name | DSC_0432 (Kopie).JPG |
Red Balance | 1.355469 |
Red Hue | 0 |
Red Saturation | 0 |
Remote On Duration | 1 min |
Reverse Indicators | + 0 - |
Saturation | Normal |
Saturation Adjustment Aqua | 0 |
Saturation Adjustment Blue | 0 |
Saturation Adjustment Green | 0 |
Saturation Adjustment Magenta | 0 |
Saturation Adjustment Orange | 0 |
Saturation Adjustment Purple | 0 |
Saturation Adjustment Red | 0 |
Saturation Adjustment Yellow | 0 |
Scale Factor To 35 mm Equivalent | 1.5 |
Scene Capture Type | Standard |
Scene Type | Directly photographed |
Self Timer Shot Count | 1 |
Self Timer Time | 10 s |
Sensing Method | One-chip color area |
Shadow Tint | 0 |
Shadows | 0 |
Shadows 2012 | +23 |
Sharpen Detail | 25 |
Sharpen Edge Masking | 0 |
Sharpen Radius | +1.0 |
Sharpness | Normal |
Shooting Mode | Single-Frame, Auto ISO |
Shot Info Version | 0215 |
Shutter Count | 15979 |
Shutter Release Button AE-L | On |
Split Toning Balance | 0 |
Split Toning Highlight Hue | 0 |
Split Toning Highlight Saturation | 0 |
Split Toning Shadow Hue | 0 |
Split Toning Shadow Saturation | 0 |
Subject Distance Range | Unknown |
Timer Function Button | Self-timer |
Tone Curve | 0, 0, 255, 255 |
Tone Curve Blue | 0, 0, 255, 255 |
Tone Curve Green | 0, 0, 255, 255 |
Tone Curve Name | Linear |
Tone Curve Name 2012 | Linear |
Tone Curve PV2012 | 0, 0, 255, 255 |
Tone Curve PV2012 Blue | 0, 0, 255, 255 |
Tone Curve PV2012 Green | 0, 0, 255, 255 |
Tone Curve PV2012 Red | 0, 0, 255, 255 |
Tone Curve Red | 0, 0, 255, 255 |
Toning Effect | n/a |
Toning Saturation | n/a |
VR Info Version | 0100 |
Vari Program | Auto(Flash Off) |
Version | 7.0 |
Vibrance | 0 |
Vibration Reduction | On |
Vignette Amount | 0 |
WB GRBG Levels | 256 347 391 256 |
WB RB Levels | 1.35546875 1.52734375 1 1 |
White Balance | Auto |
White Balance Fine Tune | 0 0 |
Whites 2012 | 0 |
GPS Information |
GPS Version ID | 2.2.0.0 |