Shooting information for this photo
Camera: | Canon EOS 40D |
Exposure: | 0.008 sec. (1/125) |
Aperture: | f/16.0 |
Focal Length: | 70.0 mm (35 mm equivalent: 320.8 mm) |
Flash: | Off, Did not fire |
Exposure mode: | Manual |
Max Aperture: | 2.8 |
Resolution: | 240 x 240 dpi |
Dimension: | 956 x 1347 pixels |
Original Date: | 2009:05:23 20:29:05.00 |
Digitized Date: | 2009:05:23 20:29:05.00+02:00 |
Created on: | 2009:05:23 20:29:05.00 |
Modified on: | 2009:06:21 12:06:59.497 |
Software: | Imagen digital ACD Systems |
Already Applied | True |
Blue Hue | 0 |
Blue Saturation | 0 |
Brightness | +74 |
Camera Profile | ACR 4.4 |
Chromatic Aberration B | 0 |
Chromatic Aberration R | 0 |
Circle Of Confusion | 0.007 mm |
Clarity | -12 |
Color Mode | RGB |
Color Noise Reduction | 100 |
Color Space | Uncalibrated |
Color Temperature | 5900 |
Contrast | +64 |
Convert To Grayscale | False |
Custom Rendered | Normal |
Defringe | 0 |
Exposure | 0.00 |
Exposure Compensation | 0 |
Exposure Mode | Manual |
Field Of View | 6.4 deg |
Fill Light | 60 |
Firmware | 1.0.5 |
Flash Compensation | 0 |
Flash Fired | False |
Flash Function | False |
Flash Mode | Off |
Flash Red Eye Mode | False |
Flash Return | No return detection |
Format | image/jpeg |
Green Hue | 0 |
Green Saturation | 0 |
Has Crop | False |
Has Settings | True |
Highlight Recovery | 77 |
Hue Adjustment Aqua | 0 |
Hue Adjustment Blue | 0 |
Hue Adjustment Green | 0 |
Hue Adjustment Magenta | 0 |
Hue Adjustment Orange | 0 |
Hue Adjustment Purple | 0 |
Hue Adjustment Red | -18 |
Hue Adjustment Yellow | 0 |
Hyperfocal Distance | 46.71 m |
ICC Profile Name | Adobe RGB (1998) |
ISO | 200 |
Image Number | 0 |
Image Size | 956x1347 |
Lens | EF24-70mm f/2.8L USM |
Lens Info | 24-70mm f/? |
Light Value | 14.0 |
Luminance Adjustment Aqua | 0 |
Luminance Adjustment Blue | 0 |
Luminance Adjustment Green | 0 |
Luminance Adjustment Magenta | 0 |
Luminance Adjustment Orange | 0 |
Luminance Adjustment Purple | 0 |
Luminance Adjustment Red | 0 |
Luminance Adjustment Yellow | 0 |
Luminance Smoothing | 100 |
Metering Mode | Center-weighted average |
Parametric Darks | +23 |
Parametric Highlight Split | 75 |
Parametric Highlights | +67 |
Parametric Lights | 0 |
Parametric Midtone Split | 50 |
Parametric Shadow Split | 25 |
Parametric Shadows | -13 |
Post Crop Vignette Amount | -100 |
Post Crop Vignette Feather | 50 |
Post Crop Vignette Midpoint | 50 |
Post Crop Vignette Roundness | 0 |
Rating | 0 |
Raw File Name | IMG_8035.CR2 |
Red Hue | 0 |
Red Saturation | 0 |
Saturation | -13 |
Saturation Adjustment Aqua | 0 |
Saturation Adjustment Blue | 0 |
Saturation Adjustment Green | 0 |
Saturation Adjustment Magenta | 0 |
Saturation Adjustment Orange | 0 |
Saturation Adjustment Purple | 0 |
Saturation Adjustment Red | 0 |
Saturation Adjustment Yellow | 0 |
Scale Factor To 35 mm Equivalent | 4.6 |
Scene Capture Type | Standard |
Shadow Tint | 0 |
Shadows | 5 |
Sharpen Detail | 94 |
Sharpen Edge Masking | 44 |
Sharpen Radius | +1.2 |
Sharpness | 150 |
Sidecar For Extension | CR2 |
Split Toning Balance | 0 |
Split Toning Highlight Hue | 0 |
Split Toning Highlight Saturation | 0 |
Split Toning Shadow Hue | 0 |
Split Toning Shadow Saturation | 0 |
Tint | -2 |
Tone Curve | 0, 0, 32, 22, 64, 56, 128, 128, 192, 196, 255, 255 |
Tone Curve Name | Medium Contrast |
Version | 5.0 |
Vibrance | -14 |
Vignette Amount | -100 |
Vignette Midpoint | 0 |
White Balance | As Shot |