Shooting information for this photo
Camera: | Canon EOS 700D |
Exposure: | 0.005 sec. (1/200) |
Aperture: | f/5.6 |
Focal Length: | 55.0 mm (35 mm equivalent: 87.2 mm) |
Flash: | Off, Did not fire |
Exposure mode: | Manual |
Max Aperture: | 5.7 |
Resolution: | 100 x 100 dpi |
Dimension: | 1024 x 683 pixels |
Original Date: | 2019:04:11 13:03:24.49 |
Created on: | 2019:04:11 13:03:24.49 |
Software: | DxO PhotoLab 2.2.2 |
AF Area Mode | Unknown (13) |
AF Assist Beam | Emits |
AF Image Height | 3456 |
AF Image Width | 5184 |
AF Micro Adj Mode | Disable |
AF Micro Adj Value | 0 |
AF Points In Focus | 0 |
AF Points Selected | 0 |
Already Applied | True |
Ambience Selection | Standard |
Approximate Focus Distance | 4294967295 |
Aspect Ratio | 3:2 |
Auto Lateral CA | 1 |
Auto Lighting Optimizer | Off |
Auto White Version | 134348800 |
Blacks 2012 | -62 |
Blue Balance | 1.729492 |
Blue Hue | 0 |
Blue Saturation | 0 |
Camera ISO | Auto |
Camera Profile | Adobe Standard |
Camera Temperature | 31 C |
Camera Type | EOS High-end |
Canon Exposure Mode | Manual |
Canon Firmware Version | Firmware Version 1.1.3 |
Canon Flash Mode | Off |
Canon Image Size | Large |
Canon Model ID | Unknown (0x80000326) |
Chromatic Aberration Corr | On |
Chromatic Aberration Setting | On |
Circle Of Confusion | 0.019 mm |
Clarity 2012 | +46 |
Color Data Version | 10 (1DX/5DmkIII/650D) |
Color Noise Reduction | 100 |
Color Noise Reduction Detail | 50 |
Color Noise Reduction Smoothness | 50 |
Color Space | Uncalibrated |
Color Temp As Shot | 4527 |
Color Temp Auto | 4527 |
Color Temp Cloudy | 4527 |
Color Temp Daylight | 4527 |
Color Temp Flash | 7000 |
Color Temp Fluorescent | 4536 |
Color Temp Kelvin | 5200 |
Color Temp Measured | 4527 |
Color Temp Shade | 4527 |
Color Temp Tungsten | 4527 |
Color Temperature | 4600 |
Color Tone | Normal |
Continuous Drive | Single |
Contrast | Normal |
Contrast 2012 | +39 |
Convert To Grayscale | False |
Crop Angle | -0.984843 |
Crop Bottom | 0.949111 |
Crop Bottom Margin | 0 |
Crop Constrain To Warp | 0 |
Crop Left | 0.058782 |
Crop Left Margin | 0 |
Crop Right | 0.992721 |
Crop Right Margin | 0 |
Crop Top | 0.049561 |
Crop Top Margin | 0 |
Cropped Image Height | 3456 |
Cropped Image Left | 0 |
Cropped Image Top | 0 |
Cropped Image Width | 5184 |
Custom Rendered | Normal |
Date Created | 2019:04:11 13:03:24.49 |
Defringe Green Amount | 0 |
Defringe Green Hue Hi | 60 |
Defringe Green Hue Lo | 40 |
Defringe Purple Amount | 0 |
Defringe Purple Hue Hi | 70 |
Defringe Purple Hue Lo | 30 |
Depth Of Field | inf (27.30 m - inf) |
Digital Zoom | None |
Drive Mode | Single-frame Shooting |
Easy Mode | Manual |
Exposure 2012 | +0.40 |
Exposure Level Increments | 1/3 Stop |
Exposure Mode | Manual |
Field Of View | 23.3 deg |
Firmware | 1.1.3 |
Flash Activity | 0 |
Flash Bits | (none) |
Flash Compensation | 0 |
Flash Fired | False |
Flash Function | False |
Flash Mode | Off |
Flash Red Eye Mode | False |
Flash Return | No return detection |
Focal Units | 1/mm |
Focus Mode | One-shot AF |
Focus Range | Not Known |
Format | image/x-canon-cr2 |
Gradient Based Corr Active | true |
Gradient Based Corr Amount | 1.000000 |
Gradient Based Corr Brightness | 0.000000 |
Gradient Based Corr Clarity | 0.000000 |
Gradient Based Corr Clarity 2012 | 0.080163 |
Gradient Based Corr Contrast | 0.000000 |
Gradient Based Corr Contrast 2012 | 0.000000 |
Gradient Based Corr Defringe | 0.000000 |
Gradient Based Corr Exposure | 0.000000 |
Gradient Based Corr Exposure 2012 | -0.145245 |
Gradient Based Corr Highlights 2012 | 0.000000 |
Gradient Based Corr Hue | 240.000000 |
Gradient Based Corr Luminance Noise | 0.000000 |
Gradient Based Corr Mask Full X | 0.536479 |
Gradient Based Corr Mask Full Y | 0.085322 |
Gradient Based Corr Mask Value | 1.000000 |
Gradient Based Corr Mask What | Mask/Gradient |
Gradient Based Corr Mask Zero X | 0.545014 |
Gradient Based Corr Mask Zero Y | 0.480715 |
Gradient Based Corr Moire | 0.000000 |
Gradient Based Corr Saturation | 0.000000 |
Gradient Based Corr Shadows 2012 | 0.257677 |
Gradient Based Corr Sharpness | 0.000000 |
Gradient Based Corr Temperature | 0.000000 |
Gradient Based Corr Tint | 0.000000 |
Gradient Based Corr What | Correction |
Grain Amount | 0 |
Green Hue | 0 |
Green Saturation | 0 |
Has Crop | True |
Has Settings | True |
Hierarchical Subject | Jardin, Jardin Luxembourg, Rue |
Highlight Tone Priority | Disable |
Highlights 2012 | -100 |
Hue Adjustment Aqua | 0 |
Hue Adjustment Blue | 0 |
Hue Adjustment Green | 0 |
Hue Adjustment Magenta | 0 |
Hue Adjustment Orange | 0 |
Hue Adjustment Purple | 0 |
Hue Adjustment Red | 0 |
Hue Adjustment Yellow | 0 |
Hyperfocal Distance | 28.49 m |
ISO | 500 |
ISO Expansion | Off |
Image Number | 0 |
Image Size | 1024x683 |
LCD Display At Power On | Display |
Lens | 18.0 - 55.0 mm (35 mm equivalent: 28.5 - 87.2 mm) |
Lens ID | Canon EF-S18-55mm f/3.5-5.6 IS STM |
Lens Info | 18-55mm f/? |
Lens Manual Distortion Amount | 0 |
Lens Model | EF-S18-55mm f/3.5-5.6 IS STM |
Lens Profile Chromatic Aberration Scale | 100 |
Lens Profile Distortion Scale | 100 |
Lens Profile Enable | 1 |
Lens Profile Filename | Canon EOS 50D (Canon EF-S 18-55mm f3.5-5.6 IS) - RAW.lcp |
Lens Profile Name | Adobe (Canon EF-S 18-55mm f/3.5-5.6 IS) |
Lens Profile Setup | Custom |
Lens Profile Vignetting Scale | 100 |
Lens Type | Unknown (4146) |
Light Value | 10.3 |
Luminance Adjustment Aqua | 0 |
Luminance Adjustment Blue | 0 |
Luminance Adjustment Green | 0 |
Luminance Adjustment Magenta | 0 |
Luminance Adjustment Orange | 0 |
Luminance Adjustment Purple | 0 |
Luminance Adjustment Red | 0 |
Luminance Adjustment Yellow | 0 |
Luminance Noise Reduction Contrast | 0 |
Luminance Noise Reduction Detail | 50 |
Luminance Smoothing | 25 |
Macro Mode | Normal |
Manual Flash Output | n/a |
Max Aperture | 5.7 |
Max Focal Length | 55 mm |
Measured RGGB | 524 1024 1024 660 |
Metering Mode | Evaluative |
Min Aperture | 36 |
Min Focal Length | 18 mm |
Mirror Lockup | Disable |
Num AF Points | 31 |
Optical Zoom Code | n/a |
Original Image Height | 3456 |
Original Image Width | 5184 |
Parametric Darks | 0 |
Parametric Highlight Split | 75 |
Parametric Highlights | 0 |
Parametric Lights | 0 |
Parametric Midtone Split | 50 |
Parametric Shadow Split | 25 |
Parametric Shadows | 0 |
Peripheral Lighting | On |
Peripheral Lighting Setting | On |
Peripheral Lighting Value | 62 |
Perspective Aspect | 0 |
Perspective Horizontal | 0 |
Perspective Rotate | 0.0 |
Perspective Scale | 100 |
Perspective Upright | 0 |
Perspective Vertical | 0 |
Post Crop Vignette Amount | 0 |
Process Version | 6.7 |
Quality | Fine |
Raw File Name | sans titre-27.CR2 |
Raw Measured RGGB | 133565 253648 253602 164600 |
Recommended Exposure Index | 500 |
Record Mode | CR2 |
Red Balance | 1.910156 |
Red Hue | 0 |
Red Saturation | 0 |
SRAW Quality | n/a |
Saturation | Normal |
Saturation Adjustment Aqua | 0 |
Saturation Adjustment Blue | 0 |
Saturation Adjustment Green | 0 |
Saturation Adjustment Magenta | 0 |
Saturation Adjustment Orange | 0 |
Saturation Adjustment Purple | 0 |
Saturation Adjustment Red | 0 |
Saturation Adjustment Yellow | 0 |
Scale Factor To 35 mm Equivalent | 1.6 |
Scene Capture Type | Standard |
Self Timer | Off |
Sensitivity Type | Recommended Exposure Index |
Set Button When Shooting | Normal (disabled) |
Shadow Tint | 0 |
Shadows 2012 | 0 |
Sharpen Detail | 25 |
Sharpen Edge Masking | 0 |
Sharpen Radius | +1.0 |
Sharpness | 80 |
Shooting Mode | Manual |
Shutter Button AF On Button | Metering + AF start |
Sidecar For Extension | CR2 |
Split Toning Balance | 0 |
Split Toning Highlight Hue | 0 |
Split Toning Highlight Saturation | 0 |
Split Toning Shadow Hue | 0 |
Split Toning Shadow Saturation | 0 |
Subject | Jardin, Jardin Luxembourg, Rue |
Subject Distance | 655.35 m |
Tint | +9 |
Tone Curve | 0, 0, 32, 22, 64, 56, 128, 128, 192, 196, 255, 255 |
Tone Curve Blue | 0, 0, 255, 255 |
Tone Curve Green | 0, 0, 255, 255 |
Tone Curve Name | Medium Contrast |
Tone Curve Name 2012 | Linear |
Tone Curve PV2012 | 0, 0, 255, 255 |
Tone Curve PV2012 Blue | 0, 0, 255, 255 |
Tone Curve PV2012 Green | 0, 0, 255, 255 |
Tone Curve PV2012 Red | 0, 0, 255, 255 |
Tone Curve Red | 0, 0, 255, 255 |
VRD Offset | 0 |
Valid AF Points | 1 |
Version | 9.0 |
Vibrance | +24 |
Vignette Amount | 0 |
WB RGGB Levels | 1956 1024 1024 1771 |
WB RGGB Levels As Shot | 1956 1024 1024 1771 |
WB RGGB Levels Auto | 1956 1024 1024 1771 |
WB RGGB Levels Cloudy | 1956 1024 1024 1771 |
WB RGGB Levels Daylight | 1956 1024 1024 1771 |
WB RGGB Levels Flash | 2422 1024 1024 1343 |
WB RGGB Levels Fluorescent | 611 1170 1170 677 |
WB RGGB Levels Kelvin | 2101 1024 1024 1582 |
WB RGGB Levels Measured | 1956 1024 1024 1771 |
WB RGGB Levels Shade | 1956 1024 1024 1771 |
WB RGGB Levels Tungsten | 1954 1024 1023 1770 |
Whites 2012 | -49 |
Zoom Source Width | 0 |
Zoom Target Width | 0 |
GPS Information |
GPS Version ID | 2.3.0.0 |