Shooting information for this photo
Camera: | Canon EOS 700D |
Exposure: | 0.25 sec. (1/4) |
Aperture: | f/22.0 |
Focal Length: | 18.0 mm (35 mm equivalent: 28.5 mm) |
Flash: | Off, Did not fire |
Exposure mode: | Shutter speed priority AE |
Max Aperture: | 3.5 |
Resolution: | 100 x 100 dpi |
Dimension: | 1024 x 683 pixels |
Original Date: | 2017:06:04 13:42:19.00 |
Created on: | 2017:06:04 13:42:19.00 |
Software: | DxO PhotoLab 2.1.2 |
AE Setting | AE Lock |
AF Area Mode | Single-point AF |
AF Assist Beam | Emits |
AF Image Height | 3456 |
AF Image Width | 5184 |
AF Micro Adj Mode | Disable |
AF Micro Adj Value | 0 |
AF Points In Focus | (none) |
AF Points Selected | 4 |
Already Applied | True |
Ambience Selection | Standard |
Approximate Focus Distance | 1.95 |
Aspect Ratio | 3:2 |
Auto Lateral CA | 0 |
Auto Lighting Optimizer | Off |
Auto White Version | 134348800 |
Blacks 2012 | 0 |
Blue Balance | 1.395508 |
Blue Hue | 0 |
Blue Saturation | 0 |
Camera Profile | Adobe Standard |
Camera Temperature | 24 C |
Camera Type | EOS High-end |
Canon Exposure Mode | Shutter speed priority AE |
Canon Firmware Version | Firmware Version 1.1.3 |
Canon Flash Mode | Off |
Canon Image Size | Large |
Canon Model ID | Unknown (0x80000326) |
Chromatic Aberration Corr | On |
Chromatic Aberration Setting | On |
Circle Of Confusion | 0.019 mm |
Clarity 2012 | 0 |
Color Data Version | 10 (1DX/5DmkIII/650D) |
Color Noise Reduction | 25 |
Color Noise Reduction Detail | 50 |
Color Noise Reduction Smoothness | 50 |
Color Space | Uncalibrated |
Color Temp As Shot | 6000 |
Color Temp Auto | 6000 |
Color Temp Cloudy | 6000 |
Color Temp Daylight | 6000 |
Color Temp Flash | 7000 |
Color Temp Fluorescent | 6000 |
Color Temp Kelvin | 5200 |
Color Temp Measured | 6000 |
Color Temp Shade | 6000 |
Color Temp Tungsten | 6000 |
Color Temperature | 5900 |
Color Tone | Normal |
Continuous Drive | Continuous |
Contrast | Normal |
Contrast 2012 | 0 |
Convert To Grayscale | True |
Crop Angle | 0 |
Crop Bottom | 0.849945 |
Crop Bottom Margin | 0 |
Crop Constrain To Warp | 0 |
Crop Left | 0.015057 |
Crop Left Margin | 0 |
Crop Right | 0.819581 |
Crop Right Margin | 0 |
Crop Top | 0.045421 |
Crop Top Margin | 0 |
Cropped Image Height | 3456 |
Cropped Image Left | 0 |
Cropped Image Top | 0 |
Cropped Image Width | 5184 |
Custom Rendered | Normal |
Date Created | 2017:06:04 13:42:19.00 |
Depth Of Field | inf (0.57 m - inf) |
Digital Zoom | None |
Drive Mode | Continuous Shooting |
Easy Mode | Manual |
Exposure 2012 | +0.50 |
Exposure Level Increments | 1/3 Stop |
Exposure Mode | Auto |
Field Of View | 64.5 deg |
Firmware | 1.1.3 |
Flash Activity | 0 |
Flash Bits | (none) |
Flash Compensation | 0 |
Flash Fired | False |
Flash Function | False |
Flash Mode | Off |
Flash Red Eye Mode | False |
Flash Return | No return detection |
Focal Units | 1/mm |
Focus Mode | One-shot AF |
Focus Range | Not Known |
Format | image/x-canon-cr2 |
Grain Amount | 0 |
Gray Mixer Aqua | -18 |
Gray Mixer Blue | +11 |
Gray Mixer Green | -27 |
Gray Mixer Magenta | +4 |
Gray Mixer Orange | -19 |
Gray Mixer Purple | +17 |
Gray Mixer Red | -10 |
Gray Mixer Yellow | -23 |
Green Hue | 0 |
Green Saturation | 0 |
Has Crop | True |
Has Settings | True |
Hierarchical Subject | Filé, N/B, Pose lente, Rue, Vernon |
Highlight Tone Priority | Disable |
Highlights 2012 | -58 |
Hyperfocal Distance | 0.78 m |
ISO | 100 |
ISO Expansion | Off |
Image Number | 0 |
Image Size | 1024x683 |
LCD Display At Power On | Display |
Lens | 18.0 - 55.0 mm (35 mm equivalent: 28.5 - 87.2 mm) |
Lens ID | Canon EF-S18-55mm f/3.5-5.6 IS STM |
Lens Info | 18-55mm f/? |
Lens Manual Distortion Amount | 0 |
Lens Model | EF-S18-55mm f/3.5-5.6 IS STM |
Lens Profile Chromatic Aberration Scale | 100 |
Lens Profile Distortion Scale | 100 |
Lens Profile Enable | 1 |
Lens Profile Filename | Canon EOS 50D (Canon EF-S 18-55mm f3.5-5.6 IS STM) - RAW.lcp |
Lens Profile Name | Adobe (Canon EF-S 18-55mm f/3.5-5.6 IS STM) |
Lens Profile Setup | LensDefaults |
Lens Profile Vignetting Scale | 100 |
Lens Type | Unknown (4146) |
Light Value | 10.9 |
Luminance Smoothing | 0 |
Macro Mode | Normal |
Manual Flash Output | n/a |
Max Aperture | 3.6 |
Max Focal Length | 55 mm |
Measured RGGB | 490 1024 1024 723 |
Metering Mode | Evaluative |
Min Aperture | 23 |
Min Focal Length | 18 mm |
Mirror Lockup | Disable |
Num AF Points | 31 |
Optical Zoom Code | n/a |
Original Image Height | 3456 |
Original Image Width | 5184 |
Parametric Darks | 0 |
Parametric Highlight Split | 75 |
Parametric Highlights | 0 |
Parametric Lights | 0 |
Parametric Midtone Split | 50 |
Parametric Shadow Split | 25 |
Parametric Shadows | 0 |
Peripheral Lighting | On |
Peripheral Lighting Setting | On |
Peripheral Lighting Value | 70 |
Perspective Aspect | 0 |
Perspective Horizontal | 0 |
Perspective Rotate | 0.0 |
Perspective Scale | 100 |
Perspective Upright | 0 |
Perspective Vertical | 0 |
Post Crop Vignette Amount | 0 |
Process Version | 6.7 |
Quality | Fine |
Rating | 2 |
Rating Percent | 25 |
Raw File Name | IMG_5536.CR2 |
Raw Measured RGGB | 246834 499773 504633 356959 |
Recommended Exposure Index | 100 |
Record Mode | CR2 |
Red Balance | 2.165039 |
Red Hue | 0 |
Red Saturation | 0 |
SRAW Quality | n/a |
Saturation | Normal |
Scale Factor To 35 mm Equivalent | 1.6 |
Scene Capture Type | Standard |
Self Timer | Off |
Sensitivity Type | Recommended Exposure Index |
Set Button When Shooting | Normal (disabled) |
Shadow Tint | 0 |
Shadows 2012 | 0 |
Sharpen Detail | 25 |
Sharpen Edge Masking | 0 |
Sharpen Radius | +1.0 |
Sharpness | 25 |
Shooting Mode | Shutter speed priority AE |
Shutter Button AF On Button | Metering + AF start/AF stop |
Sidecar For Extension | CR2 |
Split Toning Balance | 0 |
Split Toning Highlight Hue | 0 |
Split Toning Highlight Saturation | 0 |
Split Toning Shadow Hue | 0 |
Split Toning Shadow Saturation | 0 |
Subject | Filé, N/B, Pose lente, Rue, Vernon |
Subject Distance | 2.13 m |
Tint | -2 |
Tone Curve | 0, 0, 32, 22, 64, 56, 128, 128, 192, 196, 255, 255 |
Tone Curve Blue | 0, 0, 255, 255 |
Tone Curve Green | 0, 0, 255, 255 |
Tone Curve Name | Medium Contrast |
Tone Curve Name 2012 | Linear |
Tone Curve PV2012 | 0, 0, 255, 255 |
Tone Curve PV2012 Blue | 0, 0, 255, 255 |
Tone Curve PV2012 Green | 0, 0, 255, 255 |
Tone Curve PV2012 Red | 0, 0, 255, 255 |
Tone Curve Red | 0, 0, 255, 255 |
VRD Offset | 0 |
Valid AF Points | 9 |
Version | 9.0 |
Vignette Amount | 0 |
WB RGGB Levels | 2217 1024 1024 1429 |
WB RGGB Levels As Shot | 2217 1024 1024 1429 |
WB RGGB Levels Auto | 2217 1024 1024 1429 |
WB RGGB Levels Cloudy | 2217 1024 1024 1429 |
WB RGGB Levels Daylight | 2217 1024 1024 1429 |
WB RGGB Levels Flash | 2422 1024 1024 1343 |
WB RGGB Levels Fluorescent | 540 1170 1170 838 |
WB RGGB Levels Kelvin | 2101 1024 1024 1582 |
WB RGGB Levels Measured | 2217 1024 1024 1429 |
WB RGGB Levels Shade | 2217 1024 1024 1429 |
WB RGGB Levels Tungsten | 2164 1023 1024 1404 |
Whites 2012 | 0 |
Zoom Source Width | 0 |
Zoom Target Width | 0 |
GPS Information |
GPS Version ID | 2.3.0.0 |