Shooting information for this photo
| Camera: | FUJIFILM X-H2S |
| Exposure: | 0.001 sec. (1/1000) |
| Aperture: | f/5.6 |
| Focal Length: | 500.0 mm (35 mm equivalent: 750.0 mm) |
| Flash: | No Flash |
| Exposure mode: | Manual |
| Max Aperture: | 5.7 |
| Resolution: | 240 x 240 dpi |
| Original Date: | 2025:11:22 15:08:29 |
| Created on: | 2025:11:22 15:08:29 |
| Modified on: | 2025:11:27 01:36:01 |
| Software: | Adobe Photoshop Lightroom Classic 15.0.1 (Windows) |
| Copyright: | BARRUHET Isabelle@ |
| Already Applied | True |
| Artist | BARRUHET Isbelle |
| Auto Lateral CA | 0 |
| Blacks 2012 | 0 |
| Blue Hue | 0 |
| Blue Saturation | 0 |
| Brightness Value | 8.37 |
| Camera Profile | Embedded |
| Circle Of Confusion | 0.020 mm |
| Clarity 2012 | +44 |
| Color Grade Blending | 50 |
| Color Grade Global Hue | 0 |
| Color Grade Global Lum | 0 |
| Color Grade Global Sat | 0 |
| Color Grade Highlight Lum | 0 |
| Color Grade Midtone Hue | 0 |
| Color Grade Midtone Lum | 0 |
| Color Grade Midtone Sat | 0 |
| Color Grade Shadow Lum | 0 |
| Color Noise Reduction | 0 |
| Color Space | sRGB |
| Color Variance | -50.000000 |
| Contrast 2012 | +32 |
| Convert To Grayscale | False |
| Creator | BARRUHET Isbelle |
| Crop Angle | 0 |
| Crop Bottom | 1 |
| Crop Constrain To Unit Square | 1 |
| Crop Constrain To Warp | 0 |
| Crop Left | 0 |
| Crop Right | 1 |
| Crop Top | 0 |
| Custom Rendered | Normal |
| Date Created | 2025:11:22 15:08:29+02:00 |
| Defringe Green Amount | 0 |
| Defringe Green Hue Hi | 60 |
| Defringe Green Hue Lo | 40 |
| Defringe Purple Amount | 0 |
| Defringe Purple Hue Hi | 70 |
| Defringe Purple Hue Lo | 30 |
| Dehaze | +9 |
| Exposure 2012 | +0.73 |
| Exposure Compensation | -1 |
| Exposure Mode | Manual |
| Field Of View | 2.7 deg |
| Focal Length In 35mm Format | 750 mm |
| Format | image/jpeg |
| Fuji Rating Already Applied | True |
| Grain Amount | 0 |
| Green Hue | 0 |
| Green Saturation | 0 |
| HDR Edit Mode | 0 |
| Has Crop | False |
| Has Settings | True |
| Highlights 2012 | +9 |
| Hue Adjustment Aqua | 0 |
| Hue Adjustment Blue | 0 |
| Hue Adjustment Green | 0 |
| Hue Adjustment Magenta | 0 |
| Hue Adjustment Orange | -21 |
| Hue Adjustment Purple | 0 |
| Hue Adjustment Red | 0 |
| Hue Adjustment Yellow | -31 |
| Hyperfocal Distance | 2228.71 m |
| ISO | 200 |
| Image Size | 3840x1920 |
| Incremental Temperature | 0 |
| Incremental Tint | 0 |
| Lateral Chromatic Aberration Correction Already Applied | True |
| Lens | XF500mmF5.6 R LM OIS WR |
| Lens Info | 500mm f/5.6 |
| Lens Make | FUJIFILM |
| Lens Manual Distortion Amount | 0 |
| Lens Model | XF500mmF5.6 R LM OIS WR |
| Lens Profile Enable | 0 |
| Light Source | Unknown |
| Light Value | 13.9 |
| Luminance Adjustment Aqua | 0 |
| Luminance Adjustment Blue | 0 |
| Luminance Adjustment Green | 0 |
| Luminance Adjustment Magenta | 0 |
| Luminance Adjustment Orange | 0 |
| Luminance Adjustment Purple | 0 |
| Luminance Adjustment Red | 0 |
| Luminance Adjustment Yellow | 0 |
| Luminance Smoothing | 0 |
| Metering Mode | Multi-segment |
| Override Look Vignette | False |
| Parametric Darks | 0 |
| Parametric Highlight Split | 75 |
| Parametric Highlights | 0 |
| Parametric Lights | 0 |
| Parametric Midtone Split | 50 |
| Parametric Shadow Split | 25 |
| Parametric Shadows | 0 |
| Perspective Aspect | 0 |
| Perspective Horizontal | 0 |
| Perspective Rotate | 0.0 |
| Perspective Scale | 100 |
| Perspective Upright | 0 |
| Perspective Vertical | 0 |
| Perspective X | 0.00 |
| Perspective Y | 0.00 |
| Pick | 0 |
| Point Colors | -1.000000, -1.000000, -1.000000, -1.000000, -1.000000, -1.000000, -1.000000, -1.000000, -1.000000, -1.000000, -1.000000, -1.000000, -1.000000, -1.000000, -1.000000, -1.000000, -1.000000, -1.000000, -1.000000 |
| Post Crop Vignette Amount | 0 |
| Preserved File Name | _DSF4356.RAF |
| Process Version | 15.4 |
| Raw File Name | _DSF4356-Modifier.tif |
| Red Hue | 0 |
| Red Saturation | 0 |
| Rights | BARRUHET Isabelle@ |
| Saturation | 0 |
| Saturation Adjustment Aqua | 0 |
| Saturation Adjustment Blue | 0 |
| Saturation Adjustment Green | 0 |
| Saturation Adjustment Magenta | 0 |
| Saturation Adjustment Orange | +8 |
| Saturation Adjustment Purple | 0 |
| Saturation Adjustment Red | 0 |
| Saturation Adjustment Yellow | +16 |
| Scale Factor To 35 mm Equivalent | 1.5 |
| Scene Capture Type | Standard |
| Scene Type | Directly photographed |
| Sensing Method | One-chip color area |
| Sensitivity Type | Standard Output Sensitivity |
| Shadow Tint | 0 |
| Shadows 2012 | +56 |
| Sharpness | Normal |
| Split Toning Balance | 0 |
| Split Toning Highlight Hue | 0 |
| Split Toning Highlight Saturation | 0 |
| Split Toning Shadow Hue | 0 |
| Split Toning Shadow Saturation | 0 |
| Subject Distance Range | Unknown |
| Texture | +13 |
| Tone Curve Name 2012 | Linear |
| Tone Curve PV2012 | 0, 0, 255, 255 |
| Tone Curve PV2012 Blue | 0, 0, 255, 255 |
| Tone Curve PV2012 Green | 0, 0, 255, 255 |
| Tone Curve PV2012 Red | 0, 0, 255, 255 |
| Version | 18.0 |
| Vibrance | +8 |
| Vignette Amount | 0 |
| White Balance | Auto |
| Whites 2012 | 0 |
X