Shooting information for this photo
| Camera: | FUJIFILM X-H2S |
| Exposure: | 0.00063 sec. (1/1600) |
| Aperture: | f/8.0 |
| Focal Length: | 420.3 mm (35 mm equivalent: 630.0 mm) |
| Flash: | No Flash |
| Exposure mode: | Manual |
| Max Aperture: | 5.7 |
| Resolution: | 240 x 240 dpi |
| Original Date: | 2025:05:13 12:17:05 |
| Created on: | 2025:05:13 12:17:05 |
| Modified on: | 2025:05:14 15:28:43 |
| Software: | Adobe Photoshop Lightroom Classic 14.3.1 (Windows) |
| Copyright: | BARRUHET Isabelle@ |
| Already Applied | True |
| Artist | BARRUHET Isbelle |
| Auto Lateral CA | 0 |
| Blacks 2012 | 0 |
| Blue Hue | 0 |
| Blue Saturation | 0 |
| Brightness Value | 9.8 |
| Camera Profile | Embedded |
| Camera Profiles Aperture Value | 6 |
| Camera Profiles Author | Adobe |
| Camera Profiles Camera Pretty Name | Fujifilm X-H2S |
| Camera Profiles Camera Raw Profile | True |
| Camera Profiles Focal Length | 420.3 |
| Camera Profiles Focus Distance | 10000 |
| Camera Profiles Lens | XF150-600mmF5.6-8 R LM OIS WR |
| Camera Profiles Lens Pretty Name | XF150-600mmF5.6-8 R LM OIS WR |
| Camera Profiles Make | FUJIFILM |
| Camera Profiles Model | X-H2S |
| Camera Profiles Perspective Model Image X Center | 0.499599 |
| Camera Profiles Perspective Model Image Y Center | 0.5 |
| Camera Profiles Perspective Model Radial Distort Param 1 | 7.605442 |
| Camera Profiles Perspective Model Radial Distort Param 2 | 1995.856247 |
| Camera Profiles Perspective Model Radial Distort Param 3 | -1738945.364378 |
| Camera Profiles Perspective Model Scale Factor | 0.988344 |
| Camera Profiles Perspective Model Version | 2 |
| Camera Profiles Perspective Model Vignette Model Image X Center | 0.4998 |
| Camera Profiles Perspective Model Vignette Model Image Y Center | 0.5 |
| Camera Profiles Perspective Model Vignette Model Vignette Model Param 1 | 1 |
| Camera Profiles Perspective Model Vignette Model Vignette Model Piecewise Param | 0.000000, 1.000000, 0.011875, 0.996108, 0.016796, 0.992246, 0.020581, 0.992246, 0.023751, 0.988413, 0.026566, 0.976631, 0.029097, 0.952998, 0.031416, 0.929639, 0.033592, 0.906191, 0.035626, 0.906191 |
| Camera Profiles Profile Name | Camera Settings |
| Camera Profiles Sensor Format Factor | 1.914911 |
| Camera Profiles Unique Camera Model | Fujifilm X-H2S |
| Circle Of Confusion | 0.020 mm |
| Clarity 2012 | 0 |
| Color Grade Blending | 50 |
| Color Grade Global Hue | 0 |
| Color Grade Global Lum | 0 |
| Color Grade Global Sat | 0 |
| Color Grade Highlight Lum | 0 |
| Color Grade Midtone Hue | 0 |
| Color Grade Midtone Lum | 0 |
| Color Grade Midtone Sat | 0 |
| Color Grade Shadow Lum | 0 |
| Color Noise Reduction | 0 |
| Color Space | sRGB |
| Compatible Version | 251854848 |
| Contrast 2012 | 0 |
| Convert To Grayscale | False |
| Creator | BARRUHET Isbelle |
| Crop Angle | 0 |
| Crop Bottom | 1 |
| Crop Constrain To Unit Square | 1 |
| Crop Constrain To Warp | 0 |
| Crop Left | 0 |
| Crop Right | 1 |
| Crop Top | 0 |
| Custom Rendered | Normal |
| Date Created | 2025:05:13 12:17:05+01:00 |
| Defringe Green Amount | 0 |
| Defringe Green Hue Hi | 60 |
| Defringe Green Hue Lo | 40 |
| Defringe Purple Amount | 0 |
| Defringe Purple Hue Hi | 70 |
| Defringe Purple Hue Lo | 30 |
| Dehaze | 0 |
| Distortion Correction Already Applied | True |
| Exposure 2012 | 0.00 |
| Exposure Compensation | 0 |
| Exposure Mode | Manual |
| Field Of View | 3.3 deg |
| Focal Length In 35mm Format | 630 mm |
| Format | image/jpeg |
| Fuji Rating Already Applied | True |
| Grain Amount | 0 |
| Green Hue | 0 |
| Green Saturation | 0 |
| HDR Edit Mode | 0 |
| Has Crop | False |
| Has Settings | True |
| Highlights 2012 | 0 |
| Hue Adjustment Aqua | 0 |
| Hue Adjustment Blue | 0 |
| Hue Adjustment Green | 0 |
| Hue Adjustment Magenta | 0 |
| Hue Adjustment Orange | 0 |
| Hue Adjustment Purple | 0 |
| Hue Adjustment Red | 0 |
| Hue Adjustment Yellow | 0 |
| Hyperfocal Distance | 1101.59 m |
| ISO | 320 |
| Image Size | 1920x1080 |
| Incremental Temperature | 0 |
| Incremental Tint | 0 |
| Lateral Chromatic Aberration Correction Already Applied | True |
| Lens | XF150-600mmF5.6-8 R LM OIS WR |
| Lens Info | 150-600mm f/5.6-8 |
| Lens Make | FUJIFILM |
| Lens Manual Distortion Amount | 0 |
| Lens Model | XF150-600mmF5.6-8 R LM OIS WR |
| Lens Profile Enable | 0 |
| Light Source | Unknown |
| Light Value | 15.0 |
| Luminance Adjustment Aqua | 0 |
| Luminance Adjustment Blue | 0 |
| Luminance Adjustment Green | 0 |
| Luminance Adjustment Magenta | 0 |
| Luminance Adjustment Orange | 0 |
| Luminance Adjustment Purple | 0 |
| Luminance Adjustment Red | 0 |
| Luminance Adjustment Yellow | 0 |
| Luminance Smoothing | 0 |
| Metering Mode | Multi-segment |
| Override Look Vignette | False |
| Parametric Darks | 0 |
| Parametric Highlight Split | 75 |
| Parametric Highlights | 0 |
| Parametric Lights | 0 |
| Parametric Midtone Split | 50 |
| Parametric Shadow Split | 25 |
| Parametric Shadows | 0 |
| Perspective Aspect | 0 |
| Perspective Horizontal | 0 |
| Perspective Rotate | 0.0 |
| Perspective Scale | 100 |
| Perspective Upright | 0 |
| Perspective Vertical | 0 |
| Perspective X | 0.00 |
| Perspective Y | 0.00 |
| Pick | 0 |
| Point Colors | -1.000000, -1.000000, -1.000000, -1.000000, -1.000000, -1.000000, -1.000000, -1.000000, -1.000000, -1.000000, -1.000000, -1.000000, -1.000000, -1.000000, -1.000000, -1.000000, -1.000000, -1.000000, -1.000000 |
| Post Crop Vignette Amount | 0 |
| Preserved File Name | _DSF2580.RAF |
| Process Version | 15.4 |
| Raw File Name | _DSF2580-Modifier.tif |
| Red Hue | 0 |
| Red Saturation | 0 |
| Rights | BARRUHET Isabelle@ |
| Saturation | 0 |
| Saturation Adjustment Aqua | 0 |
| Saturation Adjustment Blue | 0 |
| Saturation Adjustment Green | 0 |
| Saturation Adjustment Magenta | 0 |
| Saturation Adjustment Orange | 0 |
| Saturation Adjustment Purple | 0 |
| Saturation Adjustment Red | 0 |
| Saturation Adjustment Yellow | 0 |
| Scale Factor To 35 mm Equivalent | 1.5 |
| Scene Capture Type | Standard |
| Scene Type | Directly photographed |
| Sensing Method | One-chip color area |
| Sensitivity Type | Standard Output Sensitivity |
| Shadow Tint | 0 |
| Shadows 2012 | 0 |
| Sharpness | Normal |
| Split Toning Balance | 0 |
| Split Toning Highlight Hue | 0 |
| Split Toning Highlight Saturation | 0 |
| Split Toning Shadow Hue | 0 |
| Split Toning Shadow Saturation | 0 |
| Subject Distance Range | Unknown |
| Texture | 0 |
| Tone Curve Name 2012 | Linear |
| Tone Curve PV2012 | 0, 0, 255, 255 |
| Tone Curve PV2012 Blue | 0, 0, 255, 255 |
| Tone Curve PV2012 Green | 0, 0, 255, 255 |
| Tone Curve PV2012 Red | 0, 0, 255, 255 |
| Version | 17.3.1 |
| Vibrance | 0 |
| Vignette Amount | 0 |
| Vignette Correction Already Applied | True |
| White Balance | Auto |
| Whites 2012 | 0 |
X