Shooting information for this photo
| Camera: | LEICA CAMERA AG LEICA Q (Typ 116) |
| Exposure: | 0.008 sec. (1/125) |
| Aperture: | f/1.7 |
| Focal Length: | 28.0 mm (35 mm equivalent: 28.0 mm) |
| Flash: | Off, Did not fire |
| Exposure mode: | Program AE |
| Max Aperture: | 1.7 |
| Resolution: | 300 x 300 dpi |
| Dimension: | 4000 x 6000 pixels |
| Original Date: | 2016:02:07 17:24:35 |
| Created on: | 2016:02:07 17:24:35 |
| Modified on: | 2016:02:17 08:21:26 |
| Software: | Adobe Photoshop Elements 12.0 Macintosh |
| Already Applied | True |
| Auto Lateral CA | 0 |
| Auto White Version | 134348800 |
| Blacks 2012 | -6 |
| Blue Hue | 0 |
| Blue Saturation | 0 |
| Camera Profile | Embedded |
| Circle Of Confusion | 0.030 mm |
| Clarity 2012 | +11 |
| Color Mode | RGB |
| Color Noise Reduction | 0 |
| Color Space | sRGB |
| Contrast | High |
| Contrast 2012 | +4 |
| Convert To Grayscale | False |
| Custom Rendered | Normal |
| Date Created | 2016:02:07 17:24:35 |
| Defringe Green Amount | 0 |
| Defringe Green Hue Hi | 60 |
| Defringe Green Hue Lo | 40 |
| Defringe Purple Amount | 0 |
| Defringe Purple Hue Hi | 70 |
| Defringe Purple Hue Lo | 30 |
| Digital Zoom Ratio | 1 |
| Exposure 2012 | +0.75 |
| Exposure Compensation | 0 |
| Field Of View | 65.5 deg |
| Focal Length In 35mm Format | 28 mm |
| Format | image/jpeg |
| Grain Amount | 0 |
| Green Hue | 0 |
| Green Saturation | 0 |
| Has Crop | False |
| Has Settings | True |
| Highlights 2012 | -17 |
| Hue Adjustment Aqua | 0 |
| Hue Adjustment Blue | 0 |
| Hue Adjustment Green | 0 |
| Hue Adjustment Magenta | 0 |
| Hue Adjustment Orange | 0 |
| Hue Adjustment Purple | 0 |
| Hue Adjustment Red | 0 |
| Hue Adjustment Yellow | 0 |
| Hyperfocal Distance | 15.35 m |
| ICC Profile Name | sRGB IEC61966-2.1 |
| ISO | 100 |
| Image Size | 4000x6000 |
| Incremental Temperature | 0 |
| Incremental Tint | 0 |
| Lens | 28.0 mm f/1.7 |
| Lens Info | 28mm f/1.53125 |
| Lens Make | LEICA CAMERA AG |
| Lens Manual Distortion Amount | 0 |
| Lens Model | 28.0 mm f/1.7 |
| Lens Profile Enable | 0 |
| Lens Profile Setup | LensDefaults |
| Light Source | Unknown |
| Light Value | 8.5 |
| Luminance Adjustment Aqua | 0 |
| Luminance Adjustment Blue | 0 |
| Luminance Adjustment Green | 0 |
| Luminance Adjustment Magenta | 0 |
| Luminance Adjustment Orange | 0 |
| Luminance Adjustment Purple | 0 |
| Luminance Adjustment Red | 0 |
| Luminance Adjustment Yellow | 0 |
| Luminance Smoothing | 0 |
| Metering Mode | Multi-segment |
| Parametric Darks | 0 |
| Parametric Highlight Split | 75 |
| Parametric Highlights | 0 |
| Parametric Lights | 0 |
| Parametric Midtone Split | 50 |
| Parametric Shadow Split | 25 |
| Parametric Shadows | 0 |
| Perspective Aspect | 0 |
| Perspective Horizontal | 0 |
| Perspective Rotate | 0.0 |
| Perspective Scale | 100 |
| Perspective Upright | 0 |
| Perspective Vertical | 0 |
| Post Crop Vignette Amount | 0 |
| Process Version | 6.7 |
| Rating | 0 |
| Raw File Name | L1030048.JPG |
| Red Hue | 0 |
| Red Saturation | 0 |
| Saturation | High |
| Saturation Adjustment Aqua | 0 |
| Saturation Adjustment Blue | 0 |
| Saturation Adjustment Green | 0 |
| Saturation Adjustment Magenta | 0 |
| Saturation Adjustment Orange | 0 |
| Saturation Adjustment Purple | 0 |
| Saturation Adjustment Red | 0 |
| Saturation Adjustment Yellow | 0 |
| Scale Factor To 35 mm Equivalent | 1.0 |
| Scene Capture Type | Standard |
| Sensing Method | One-chip color area |
| Sensitivity Type | Standard Output Sensitivity |
| Shadow Tint | 0 |
| Shadows 2012 | +17 |
| Sharpen Detail | 25 |
| Sharpen Edge Masking | 0 |
| Sharpen Radius | +1.0 |
| Sharpness | Hard |
| Split Toning Balance | 0 |
| Split Toning Highlight Hue | 0 |
| Split Toning Highlight Saturation | 0 |
| Split Toning Shadow Hue | 0 |
| Split Toning Shadow Saturation | 0 |
| Tone Curve | 0, 0, 255, 255 |
| Tone Curve Blue | 0, 0, 255, 255 |
| Tone Curve Green | 0, 0, 255, 255 |
| Tone Curve Name | Linear |
| Tone Curve Name 2012 | Linear |
| Tone Curve PV2012 | 0, 0, 255, 255 |
| Tone Curve PV2012 Blue | 0, 0, 255, 255 |
| Tone Curve PV2012 Green | 0, 0, 255, 255 |
| Tone Curve PV2012 Red | 0, 0, 255, 255 |
| Tone Curve Red | 0, 0, 255, 255 |
| Version | 8.5 |
| Vibrance | 0 |
| Vignette Amount | 0 |
| White Balance | Auto |
| Whites 2012 | +13 |
X